Workbook

Sheet 50 03  Serv gen 130 221 296
N2: Formularul nr.4
E4: Propuneri de buget
D5: pentru anul 2019 și estimări pe anii 2020-2021
P7: Cod
A8: Sursa | D8: Bugetul de stat | P8: 02
A9: Autoritatea publică | D9: Ministerul Sănătății, Muncii și Protecției Sociale | P9: 0221
A12: A. Sinteza propunerii de buget (se completează automat în SIMF), mii lei
A14: Denumirea | E14: Cod | G14: 2016 | I14: 2017 | J14: 2018 | K14: 2019 | M14: 2020 | O14: 2021
E15: F1 | F15: Eco (k2) | G15: Executat | I15: Executat | J15: Aprobat | K15: Aprobat | M15: Estimat | O15: Estimat
A16: A.1. CHELTUIELI, total | E16: 10 | G16: X | I16: =SUM(I17:I23) -> 52909.5 | J16: =SUM(J17:J23) -> 50714.8 | K16: =SUM(K17:K23) -> 52857.2 | M16: =SUM(M17:M23) -> 53987 | O16: =SUM(O17:O23) -> 55282.8
A17: Cheltuieli de personal | F17: 21 | G17: X | I17: =I91+I141 -> 36572.6 | J17: =J91+J141 -> 33202.6 | K17: =K91+K141 -> 34617.7 | M17: =M91+M141 -> 35890.1 | O17: =O91+O141 -> 37241.6
A18: Bunuri și servicii | F18: 22 | G18: X | I18: =I95+I145 -> 5821.3 | J18: =J95+J145 -> 7793.5 | K18: =K95+K145 -> 7925.9 | M18: =M95+M145 -> 8474.3 | O18: =O95+O145 -> 8318.6
A19: Subsidii | F19: 25 | G19: X | I19: =I192 -> 5899.4 | J19: =J192 -> 5360.8 | K19: =K192 -> 5660.8 | M19: =M192 -> 6000 | O19: =O192 -> 6100
A20: Indemnizații pentru incapacitatea temporară de muncă achitate din mijloacele financiare ale angajatorului | F20: 27 | G20: X | I20: =I116+I166 -> 521.8 | J20: =J116+J166 -> 399.3 | K20: =K116+K166 -> 470.9 | M20: =M116+M166 -> 470.9 | O20: =O116+O166 -> 470.9
A21: Alte cheltuieli | F21: 28 | G21: X | I21: =I119+I169 -> 10.5 | J21: =J119+J169 -> 15 | K21: =K119+K169 -> 27 | M21: =M119+M169 -> 27 | O21: =O119+O169 -> 27
A22: Mijloace fixe | F22: 31 | G22: X | I22: =I124+I176 -> 2848.1 | J22: =J124+J176 -> 2149.4 | K22: =K124+K176 -> 2181.5 | M22: =M124+M176 -> 1300 | O22: =O124+O176 -> 1300
A23: Stocuri și materiale circulante | F23: 33 | G23: X | I23: =I131+I183 -> 1235.8 | J23: =J131+J183 -> 1794.2 | K23: =K131+K183 -> 1973.4 | M23: =M131+M183 -> 1824.7 | O23: =O131+O183 -> 1824.7
A25: Denumirea | C25: Cod | G25: 2016 | I25: 2017 | J25: 2018 | K25: 2019 | M25: 2020 | O25: 2021
C26: S3 | D26: S5 | E26: F1 | F26: Eco (k2) | G26: Executat | I26: Executat | J26: Aprobat | K26: Aprobat | M26: Estimat | O26: Estimat
A27: A.2.RESURSE, total (A2=A2.1+A2.2+A2.3) | G27: X | I27: =(I28+I32+I36) -> 52909.5 | J27: =(J28+J32+J36) -> 50714.8 | K27: =(K28+K32+K36) -> 52857.2 | L27: =L28+L32+L36 -> 0 | M27: =(M28+M32+M36) -> 53987 | N27: =N28+N32+N36 -> 0 | O27: =(O28+O32+O36) -> 55282.8 | P27: =P28+P32+P36 -> 0
A28: A.2.1. Resurse colectate interne, total | C28: 112 | D28: 11297 1 | E28: 10 | F28: 14 | G28: X | J28: =J29+J30+J31 -> 0 | K28: 26.4 | M28: 26.4 | O28: 26.4
G29: X | K29: 0
G30: X
G31: X
A32: A.2.2. Resurse colectate externe, total | C32: 112 | G32: X | J32: =J33+J34+J35 -> 0 | K32: =K33+K34+K35 -> 0 | M32: =M33+M34+M35 -> 0 | O32: =O33+O34+O35 -> 0
G33: X
G34: X
G35: X
A36: A.2.3. Resurse generale, total A.2.3=A.1-(A.2.1+A.2.2) | C36: 111 | G36: X | I36: =I16-(I28+I32) -> 52909.5 | J36: =J16-(J28+J32) -> 50714.8 | K36: =K16-(K28+K32) -> 52830.8 | M36: =M16-(M28+M32) -> 53960.6 | O36: =O16-(O28+O32) -> 55256.4
G37: X
A39: B. Sinteza limitelor de cheltuieli (se completează automat în SIMF), mii lei
A40: Denumirea | D40: Cod | G40: 2019 Aprobat | K40: 2020 Estimat | N40: 2021 Estimat
D41: F1 | E41: Cheltuieli (r/c), resurse (S3) | G41: Stabilit | I41: Deviere +/- | J41: Propus | K41: Stabilit | L41: Deviere +/- | M41: Propus | N41: Stabilit | O41: Deviere +/- | P41: Propus
A42: TOTAL | G42: =G43 -> 52857.2 | J42: =J43 -> 52857.2 | K42: =K43 -> 53987 | M42: =M43 -> 53987 | N42: =N43 -> 55282.8 | P42: =P43 -> 55282.8
A43: Cheltuieli recurente | D43: r | G43: =K16 -> 52857.2 | J43: =G43 -> 52857.2 | K43: =M16 -> 53987 | M43: =K43 -> 53987 | N43: =O16 -> 55282.8 | P43: =N43 -> 55282.8
A44: Investiţii capitale | D44: c
A46: TOTAL | G46: =G48 -> 52830.8 | J46: =J48 -> 52830.8 | K46: =K48 -> 53960.6 | M46: =M48 -> 53960.6 | N46: =N48 -> 55256.4 | P46: =P48 -> 55256.4
A47: Resurse colectate
A48: Resurse generale | G48: =K36 -> 52830.8 | J48: =G48 -> 52830.8 | K48: =M36 -> 53960.6 | M48: =K48 -> 53960.6 | N48: =O36 -> 55256.4 | P48: =N48 -> 55256.4
A51: C. Estimarea resurselor colectate de autorități/instituții, mii lei
A52: Denumirea | C52: Cod | I52: Descriere | K52: 2016 | L52: 2017 | M52: 2018 | N52: 2019 | O52: 2020 | P52: 2021
C53: Sursa (S3S4) | D53: Originea sursei (S5) | E53: Donator (S6) | F53: F3 | G53: P3 (7xx) | H53: Eco k6 | K53: Executat | L53: Executat | M53: Aprobat | N53: Aprobat | O53: Estimat | P53: Estimat
A54: TOTAL | K54: X | L54: X
K55: X | L55: X
K56: X | L56: X
K57: X | L57: X
K58: X | L58: X
K59: X | L59: X
A61: D. Estimarea cheltuielilor
O62: Cod
A63: Subgrupa | C63: Servicii generale în domeniul forței de muncă | O63: 0412
A64: Program | C64: Servicii generale economice și comerciale | O64: 50
A65: Subprogram | C65: Servicii generale în domeniul forței de muncă | O65: 03
A67: DI. Informație generală (se completează de către autoritatea superioară înainte de a remite formularul pentru completare instituţiilor din subordine)
A68: Scop | D68: Aplicarea respectării legislației muncii și securității în muncă, precum un grad sporit de implicare în servicii, măsuri active și protecția socială a persoanelor aflate în căutarea unui loc de muncă. Sustinerea sociala suplimentară a intreprinderilor Societatii Orbilor din Moldova, Asociatiei Surzilor din Republica Moldova, Societatii Invalizilor din Republica Moldova
A69: Obiective (pe termen mediu, cu accent pe anul pentru care se aprobă programul) | D69: 1. Numărul persoanelor deservite de un specialist din structurile ANOFM va constitui 403 persoane. 2. Majorarea numărului de vizite de control în vederea respectării legislației muncii cu 2% în 2019 față de 2018. 3.Asigurarea activitatii de producere a intreprinderilor Asociației Nevăzătorilor din Moldova, Asociatia Surzilor din Republica Moldova, Societatea Invalizilor din Republica Moldova
A70: Descriere succintă | D70: 1.Asigurarea implementării serviciilor, măsurilor active persoanelor aflate în căutarea unui loc de muncă. 2. Dezvoltarea si administrarea sistemului informational al pietii muncii si informarea operativa a populatiei despre locurile libere gestionate de structurile Agentiei. 3.Acordarea ajutorului metodologic şi consultativ persoanelor interesate în domeniul legislaţiei muncii. 4.Procurarea utilajului si materiei prime pentru Societatea Orbilor din Moldova, Asociatia Surzilor din Republica Moldova, Societatea Invalizilor din Republica Moldova
A72: DII. Indicatorii de performanţă
A73: Categoria | B73: Cod | C73: Denumirea | J73: Unitatea de măsură | K73: 2016 | L73: 2017 | M73: 2018 | N73: 2019 | O73: 2020 | P73: 2021
K74: Executat | L74: Executat | M74: Aprobat | N74: Aprobat | O74: Estimat | P74: Estimat
A75: De rezultat | B75: r1 | C75: Numărul persoanelor deservite de un specialist din structurile ANOFM | J75: unități | K75: X | L75: ='50 03 Serv gen Fort ANOFM AOFM'!L72 -> 0 | M75: ='50 03 Serv gen Fort ANOFM AOFM'!M72 -> 403 | N75: 403 | O75: 403 | P75: 403
B76: r5 | C76: Numărul încălcărilor depistate și prescripțiilor înaintate | J76: unități | K76: X | L76: 24720 | M76: ='50 03 Serv gen TI 130'!M72 -> 60000 | N76: ='50 03 Serv gen TI 130'!N72 -> 25000 | O76: ='50 03 Serv gen TI 130'!O72 -> 25000 | P76: ='50 03 Serv gen TI 130'!P72 -> 25000
B77: r6 | C77: Numărul informațiilor parvenite de la agenții economici privind remedierea încălcărilor depistate | J77: unități | K77: X | L77: 2731 | M77: ='50 03 Serv gen TI 130'!M73 -> 4300 | N77: ='50 03 Serv gen TI 130'!N73 -> 3000 | O77: ='50 03 Serv gen TI 130'!O73 -> 3000 | P77: ='50 03 Serv gen TI 130'!P73 -> 3000
A78: De produs | B78: o1 | C78: Numărul de întreprinderi | J78: unități | K78: X | L78: 8 | M78: 13 | N78: 10 | O78: 10 | P78: 10
B79: o3 | C79: Numărul persoanelor deservite | K79: X | M79: ='50 03 Serv gen Fort ANOFM AOFM'!M74 -> 100000 | N79: ='50 03 Serv gen Fort ANOFM AOFM'!N74 -> 100000 | O79: ='50 03 Serv gen Fort ANOFM AOFM'!O74 -> 100000 | P79: ='50 03 Serv gen Fort ANOFM AOFM'!P74 -> 100000
B80: o9 | C80: Numărul proceselor verbale de control întocmite | J80: unități | K80: X | L80: 3749 | M80: ='50 03 Serv gen TI 130'!M74 -> 5000 | N80: ='50 03 Serv gen TI 130'!N74 -> 4000 | O80: ='50 03 Serv gen TI 130'!O74 -> 4000 | P80: ='50 03 Serv gen TI 130'!P74 -> 4000
A81: De eficiență | B81: e3 | C81: Suma anuala alocata unei intreprinderi pentru procurarea utilajului si materiei prime | J81: mii lei | K81: X | L81: 737.4 | M81: =J193/M78 -> 412.36923 | N81: =K193/N78 -> 566.08 | O81: =M193/O78 -> 600 | P81: =O193/P78 -> 610
B82: e1 | C82: Cheltuieli pentru întreținerea unui angajat din cadrul instituției | J82: mii lei | K82: X | L82: 111.4 | M82: 100.2 | N82: 102.86 | O82: 108 | P82: 406.5
B83: e2 | C83: Durata medie de efectuare a unei vizite de control | J83: zile | K83: X | L83: 1.7 | M83: ='50 03 Serv gen TI 130'!M76 -> 1.7 | N83: ='50 03 Serv gen TI 130'!N76 -> 1.7 | O83: ='50 03 Serv gen TI 130'!O76 -> 1.7 | P83: ='50 03 Serv gen TI 130'!P76 -> 1.7
A86: DIII. Cheltuieli, mii lei
A87: Denumirea | E87: Cod | G87: 2016 | I87: 2017 | J87: 2018 | K87: 2019 | M87: 2020 | O87: 2021
E88: P3 | F88: Eco (k6) | G88: Executat | I88: Executat | J88: Aprobat | K88: Aprobat | M88: Estimat | O88: Estimat
A89: Total general | I89: =I90+I140+I192 -> 52909.5 | J89: =J90+J140+J192 -> 50714.8 | K89: =K90+K140+K192 -> 52857.2 | M89: =M90+M140+M192 -> 53987 | O89: =O90+O140+O192 -> 55282.8
A90: Controlul în domeniul securităţii muncii | E90: 00115 | I90: =I91+I95+I116+I119+I124+I131 -> 14591.2 | J90: =J91+J95+J116+J119+J124+J131 -> 11780.9 | K90: =K91+K95+K116+K119+K124+K131 -> 11584.9 | L90: =L91+L95+L116+L119+L124+L131 -> 0 | M90: =M91+M95+M116+M119+M124+M131 -> 10665.8 | N90: =N91+N95+N116+N119+N124+N131 -> 0 | O90: =O91+O95+O116+O119+O124+O131 -> 10888.1
A91: Cheltuieli de personal | F91: 21 | I91: =I92+I93+I94 -> 10297.8 | J91: =J92+J93+J94 -> 7395.2 | K91: =K92+K93+K94 -> 7317 | L91: =L92+L93+L94 -> 0 | M91: =M92+M93+M94 -> 7590.6 | N91: =N92+N93+N94 -> 0 | O91: =O92+O93+O94 -> 7875.3
A92: Remunerarea muncii conform statelor | E92: 111/0 | F92: 211180 | G92: X | I92: ='50 03 Serv gen TI 130'!I83 -> 8167 | J92: ='50 03 Serv gen TI 130'!J83 -> 5886.6 | K92: ='50 03 Serv gen TI 130'!K83 -> 5813.3 | M92: ='50 03 Serv gen TI 130'!M83 -> 6032.3 | O92: ='50 03 Serv gen TI 130'!O83 -> 6258.8
A93: Contribuţiile de asigurare sociale de stat obligatoriu | E93: 112 | F93: 212100 | G93: X | I93: ='50 03 Serv gen TI 130'!I84 -> 1787.4 | J93: ='50 03 Serv gen TI 130'!J84 -> 1257.2 | K93: ='50 03 Serv gen TI 130'!K84 -> 1241.8 | M93: ='50 03 Serv gen TI 130'!M84 -> 1286.8 | O93: ='50 03 Serv gen TI 130'!O84 -> 1334.9
A94: Prime de asigurare obligatorie de asistenţă medicală achitate de angajatori și angajați pe teritoriu țării | E94: 116/01 | F94: 212210 | G94: X | I94: ='50 03 Serv gen TI 130'!I85 -> 343.4 | J94: ='50 03 Serv gen TI 130'!J85 -> 251.4 | K94: ='50 03 Serv gen TI 130'!K85 -> 261.9 | M94: ='50 03 Serv gen TI 130'!M85 -> 271.5 | O94: ='50 03 Serv gen TI 130'!O85 -> 281.6
A95: Bunuri și servicii | E95: 113 | F95: 22 | G95: X | I95: =SUM(I96:I115) -> 1139.9 | J95: =SUM(J96:J115) -> 1987.3 | K95: =SUM(K96:K115) -> 2011.1 | L95: ='50 03 Serv gen TI 130'!L86 -> 0 | M95: =SUM(M96:M115) -> 1822.4 | N95: ='50 03 Serv gen TI 130'!N86 -> 0 | O95: =SUM(O96:O115) -> 1760
A96: Energie electrică | E96: 113/01 | F96: 222110 | G96: X | I96: ='50 03 Serv gen TI 130'!I87 -> 0 | J96: ='50 03 Serv gen TI 130'!J87 -> 0 | K96: ='50 03 Serv gen TI 130'!K87 -> 0 | M96: ='50 03 Serv gen TI 130'!M87 -> 0 | O96: ='50 03 Serv gen TI 130'!O87 -> 0
A97: Gaze | E97: 113/02 | F97: 222120 | G97: X | I97: ='50 03 Serv gen TI 130'!I88 -> 0 | J97: ='50 03 Serv gen TI 130'!J88 -> 0 | K97: ='50 03 Serv gen TI 130'!K88 -> 0 | M97: ='50 03 Serv gen TI 130'!M88 -> 0 | O97: ='50 03 Serv gen TI 130'!O88 -> 0
A98: Energie termică | E98: 113/04 | F98: 222130 | G98: X | I98: ='50 03 Serv gen TI 130'!I89 -> 0 | J98: ='50 03 Serv gen TI 130'!J89 -> 0 | K98: ='50 03 Serv gen TI 130'!K89 -> 0 | M98: ='50 03 Serv gen TI 130'!M89 -> 0 | O98: ='50 03 Serv gen TI 130'!O89 -> 0
A99: Apă și canalizare | E99: 113/34 | F99: 222140 | G99: X | I99: ='50 03 Serv gen TI 130'!I90 -> 0 | J99: ='50 03 Serv gen TI 130'!J90 -> 0 | K99: ='50 03 Serv gen TI 130'!K90 -> 0 | M99: ='50 03 Serv gen TI 130'!M90 -> 0 | O99: ='50 03 Serv gen TI 130'!O90 -> 0
A100: Alte servicii energetice și comunale | E100: 113/35 | F100: 222190 | G100: X | I100: ='50 03 Serv gen TI 130'!I91 -> 0 | J100: ='50 03 Serv gen TI 130'!J91 -> 0 | K100: ='50 03 Serv gen TI 130'!K91 -> 0 | M100: ='50 03 Serv gen TI 130'!M91 -> 0 | O100: ='50 03 Serv gen TI 130'!O91 -> 0
A101: Servicii informaționale | E101: 113/30 | F101: 222210 | G101: X | I101: ='50 03 Serv gen TI 130'!I92 -> 60.3 | J101: ='50 03 Serv gen TI 130'!J92 -> 361.3 | K101: ='50 03 Serv gen TI 130'!K92 -> 332 | M101: ='50 03 Serv gen TI 130'!M92 -> 401.7 | O101: ='50 03 Serv gen TI 130'!O92 -> 401.7
A102: Servicii de telecomunicații | E102: 113/11 | F102: 222220 | G102: X | I102: ='50 03 Serv gen TI 130'!I93 -> 74.3 | J102: ='50 03 Serv gen TI 130'!J93 -> 171.3 | K102: ='50 03 Serv gen TI 130'!K93 -> 176.2 | M102: ='50 03 Serv gen TI 130'!M93 -> 176.2 | O102: ='50 03 Serv gen TI 130'!O93 -> 176.2
A103: Servicii de locațiune | E103: 113/19 | F103: 222300 | G103: X | I103: ='50 03 Serv gen TI 130'!I94 -> 575.3 | J103: ='50 03 Serv gen TI 130'!J94 -> 812 | K103: ='50 03 Serv gen TI 130'!K94 -> 758 | M103: ='50 03 Serv gen TI 130'!M94 -> 800.5 | O103: ='50 03 Serv gen TI 130'!O94 -> 800.5
A104: Servicii de transport | E104: 113/13 | F104: 222400 | G104: X | I104: ='50 03 Serv gen TI 130'!I95 -> 91.6 | J104: ='50 03 Serv gen TI 130'!J95 -> 122.1 | K104: ='50 03 Serv gen TI 130'!K95 -> 112 | M104: ='50 03 Serv gen TI 130'!M95 -> 112 | O104: ='50 03 Serv gen TI 130'!O95 -> 112
A105: Servicii de reparații curente | E105: 113/17,18 | F105: 222500 | G105: X | I105: ='50 03 Serv gen TI 130'!I96 -> 217.5 | J105: ='50 03 Serv gen TI 130'!J96 -> 385 | K105: ='50 03 Serv gen TI 130'!K96 -> 493 | M105: ='50 03 Serv gen TI 130'!M96 -> 192.1 | O105: ='50 03 Serv gen TI 130'!O96 -> 129.7
A106: Formare profesională | E106: 113/21 | F106: 222600 | G106: X | I106: ='50 03 Serv gen TI 130'!I97 -> 0 | J106: ='50 03 Serv gen TI 130'!J97 -> 0 | K106: ='50 03 Serv gen TI 130'!K97 -> 0 | M106: ='50 03 Serv gen TI 130'!M97 -> 0 | O106: ='50 03 Serv gen TI 130'!O97 -> 0
A107: Deplasări de serviciu în interiorul ţării | E107: 114/01 | F107: 222710 | G107: X | I107: ='50 03 Serv gen TI 130'!I98 -> 109.8 | J107: ='50 03 Serv gen TI 130'!J98 -> 129.6 | K107: ='50 03 Serv gen TI 130'!K98 -> 133.9 | M107: ='50 03 Serv gen TI 130'!M98 -> 133.9 | O107: ='50 03 Serv gen TI 130'!O98 -> 133.9
... A112: Servicii de pază | E112: 113/29 | F112: 222940 | G112: X | I112: ='50 03 Serv gen TI 130'!I103 -> 0 | J112: ='50 03 Serv gen TI 130'!J103 -> 0 | K112: ='50 03 Serv gen TI 130'!K103 -> 0 | M112: ='50 03 Serv gen TI 130'!M103 -> 0 | O112: ='50 03 Serv gen TI 130'!O103 -> 0
A113: Servicii bancare | F113: 222970 | G113: X | I113: 0.5
A114: Servicii poștale | E114: 113/11 | F114: 222980 | G114: X | I114: ='50 03 Serv gen TI 130'!I105 -> 5.6 | J114: ='50 03 Serv gen TI 130'!J105 -> 6 | K114: ='50 03 Serv gen TI 130'!K105 -> 6 | M114: ='50 03 Serv gen TI 130'!M105 -> 6 | O114: ='50 03 Serv gen TI 130'!O105 -> 6
A115: Servicii neatribuite altor aliniate | E115: 113/45 | F115: 222990 | G115: X | I115: ='50 03 Serv gen TI 130'!I106 -> 5 | J115: ='50 03 Serv gen TI 130'!J106 -> 0 | K115: ='50 03 Serv gen TI 130'!K106 -> 0 | M115: ='50 03 Serv gen TI 130'!M106 -> 0 | O115: ='50 03 Serv gen TI 130'!O106 -> 0
A116: Prestații sociale | F116: 27 | G116: X | I116: =SUM(I117:I123) -> 295.1 | J116: =SUM(J117:J123) -> 92.1 | K116: =SUM(K117:K123) -> 92.1 | M116: =SUM(M117:M123) -> 92.1 | O116: =SUM(O117:O123) -> 92.1
A117: Indemnizații la încetarea acțiunii contractului de muncă | E117: 135/31 | F117: 273200 | G117: X | I117: ='50 03 Serv gen TI 130'!I108 -> 252 | J117: ='50 03 Serv gen TI 130'!J108 -> 44.1 | K117: ='50 03 Serv gen TI 130'!K108 -> 44.1 | M117: ='50 03 Serv gen TI 130'!M108 -> 44.1 | O117: ='50 03 Serv gen TI 130'!O108 -> 44.1
A118: Indemnizații pentru incapacitatea temporară de muncă achitate din mijloacele financiare ale angajatorului | E118: 135/33 | F118: 273500 | G118: X | I118: ='50 03 Serv gen TI 130'!I109 -> 43.1 | J118: ='50 03 Serv gen TI 130'!J109 -> 48 | K118: ='50 03 Serv gen TI 130'!K109 -> 48 | M118: ='50 03 Serv gen TI 130'!M109 -> 48 | O118: ='50 03 Serv gen TI 130'!O109 -> 48
A119: Alte cheltuieli | F119: 28 | G119: X | I119: ='50 03 Serv gen TI 130'!I110 -> 0 | J119: ='50 03 Serv gen TI 130'!J110 -> 0 | K119: ='50 03 Serv gen TI 130'!K110 -> 0 | M119: ='50 03 Serv gen TI 130'!M110 -> 0 | O119: ='50 03 Serv gen TI 130'!O110 -> 0
A120: Plăți aferente documentelor executorii | E120: 118 | F120: 281360 | G120: X | I120: ='50 03 Serv gen TI 130'!I111 -> 0 | J120: ='50 03 Serv gen TI 130'!J111 -> 0 | K120: ='50 03 Serv gen TI 130'!K111 -> 0 | M120: ='50 03 Serv gen TI 130'!M111 -> 0 | O120: ='50 03 Serv gen TI 130'!O111 -> 0
...

Sheet 50 03  Serv gen  TI 130
N1: Formularul nr.4
E2: Propuneri de buget
D3: pentru anul 2019 și estimări pe anii 2020-2021
P5: Cod
A6: Sursa | D6: Bugetul de stat | P6: 02
A7: Autoritatea publică | D7: Ministerul Sănătății, Muncii și Protecției Sociale | P7: 0221
A8: Instituţia | D8: Inspectoratul de stat al Muncii | P8: 15310
A10: A. Sinteza propunerii de buget (se completează automat în SIMF), mii lei
A12: Denumirea | E12: Cod | G12: 2016 | I12: 2017 | J12: 2018 | K12: 2019 | M12: 2020 | O12: 2021
E13: F1 | F13: Eco (k2) | G13: Executat | I13: Executat | J13: Aprobat | K13: Aprobat | M13: Estimat | O13: Estimat
A14: A.1. CHELTUIELI, total | E14: 10 | G14: X | I14: =I15+I16+I17+I18+I19+I20 -> 14591.2 | J14: =J15+J16+J17+J18+J19+J20 -> 11780.9 | K14: =K15+K16+K17+K18+K19+K20 -> 11584.9 | M14: =M15+M16+M17+M18+M19+M20 -> 10665.8 | O14: =O15+O16+O17+O18+O19+O20 -> 10888.1
A15: Cheltuieli de personal | F15: 21 | G15: X | I15: =I82 -> 10297.8 | J15: =J82 -> 7395.2 | K15: =K82 -> 7317 | M15: =M82 -> 7590.6 | O15: =O82 -> 7875.3
A16: Bunuri și servicii | F16: 22 | G16: X | I16: =I86 -> 1139.9 | J16: =J86 -> 1987.3 | K16: =K86 -> 2011.1 | M16: =M86 -> 1822.4 | O16: =O86 -> 1760
A17: Indemnizații pentru incapacitatea temporară de muncă achitate din mijloacele financiare ale angajatorului | F17: 27 | G17: X | I17: =I107 -> 295.1 | J17: =J107 -> 92.1 | K17: =K107 -> 92.1 | M17: =M107 -> 92.1 | O17: =O107 -> 92.1
A18: Alte cheltuieli | F18: 28 | G18: X | I18: =I110 -> 0 | J18: =J110 -> 0 | K18: =K110 -> 0 | M18: =M110 -> 0 | O18: =O110 -> 0
A19: Mijloace fixe | F19: 31 | G19: X | I19: =I115 -> 2103.6 | J19: =J115 -> 1114.3 | K19: =K115 -> 881.5 | M19: =M115 -> 0 | O19: =O115 -> 0
A20: Stocuri și materiale circulante | F20: 33 | G20: X | I20: =I122 -> 754.8 | J20: =J122 -> 1192 | K20: =K122 -> 1283.2 | M20: =M122 -> 1160.7 | O20: =O122 -> 1160.7
A22: Denumirea | C22: Cod | G22: 2016 | I22: 2017 | J22: 2018 | K22: 2019 | M22: 2020 | O22: 2021
C23: S3 | D23: S5 | E23: F1 | F23: Eco (k2) | G23: Executat | I23: Executat | J23: Aprobat | K23: Aprobat | M23: Estimat | O23: Estimat
A24: A.2.RESURSE, total (A2=A2.1+A2.2+A2.3) | G24: X | I24: =(I25+I29+I33) -> 14591.2 | J24: =(J25+J29+J33) -> 11780.9 | K24: =(K25+K29+K33) -> 11584.9 | L24: =L25+L29+L33 -> 0 | M24: =(M25+M29+M33) -> 10665.8 | N24: =N25+N29+N33 -> 0 | O24: =(O25+O29+O33) -> 10888.1 | P24: =P25+P29+P33 -> 0
A25: A.2.1. Resurse colectate interne, total | C25: 112 | D25: 11297 1 | E25: 10 | F25: 14 | G25: X | J25: =J26+J27+J28 -> 0 | K25: 26.4 | M25: 26.4 | O25: 26.4
G26: X | K26: 0
G27: X
G28: X
A29: A.2.2. Resurse colectate externe, total | C29: 112 | G29: X | J29: =J30+J31+J32 -> 0 | K29: =K30+K31+K32 -> 0 | M29: =M30+M31+M32 -> 0 | O29: =O30+O31+O32 -> 0
G30: X
G31: X
G32: X
A33: A.2.3. Resurse generale, total A.2.3=A.1-(A.2.1+A.2.2) | C33: 111 | G33: X | I33: =I14-(I25+I29) -> 14591.2 | J33: =J14-(J25+J29) -> 11780.9 | K33: =K14-(K25+K29) -> 11558.5 | M33: =M14-(M25+M29) -> 10639.4 | O33: =O14-(O25+O29) -> 10861.7
G34: X | I34: X
A36: B. Sinteza limitelor de cheltuieli (se completează automat în SIMF), mii lei
A37: Denumirea | D37: Cod | G37: 2019 Aprobat | K37: 2020 Estimat | N37: 2021 Estimat
D38: F1 | E38: Cheltuieli (r/c), resurse (S3) | G38: Stabilit | I38: Deviere +/- | J38: Propus | K38: Stabilit | L38: Deviere +/- | M38: Propus | N38: Stabilit | O38: Deviere +/- | P38: Propus
A39: TOTAL | G39: =G40 -> 11584.9 | J39: =J40 -> 11584.9 | K39: =K40 -> 10665.8 | M39: =M40 -> 10665.8 | N39: =N40 -> 10888.1 | P39: =P40 -> 10888.1
A40: Cheltuieli recurente | D40: r | G40: =K14 -> 11584.9 | J40: =G40 -> 11584.9 | K40: =M14 -> 10665.8 | M40: =K40 -> 10665.8 | N40: =O14 -> 10888.1 | P40: =N40 -> 10888.1
A41: Investiţii capitale | D41: c
A43: TOTAL | G43: =G45 -> 11780.9 | J43: =J45 -> 11780.9 | K43: =K45 -> 10639.4 | M43: =M45 -> 10639.4 | N43: =N45 -> 10861.7 | P43: =P45 -> 10861.7
A44: Resurse colectate
A45: Resurse generale | G45: =J33 -> 11780.9 | J45: =G45 -> 11780.9 | K45: =M33 -> 10639.4 | M45: =K45 -> 10639.4 | N45: =O33 -> 10861.7 | P45: =N45 -> 10861.7
A48: C. Estimarea resurselor colectate de autorități/instituții, mii lei
A49: Denumirea | C49: Cod | I49: Descriere | K49: 2013 | L49: 2014 | M49: 2015 | N49: 2016 | O49: 2017 | P49: 2018
C50: Sursa (S3S4) | D50: Originea sursei (S5) | E50: Donator (S6) | F50: F3 | G50: P3 (7xx) | H50: Eco k6 | K50: Executat | L50: Executat | M50: Aprobat | N50: Proiect | O50: Estimat | P50: Estimat
A51: TOTAL | K51: X | L51: X
K52: X | L52: X
K53: X | L53: X
K54: X | L54: X
K55: X | L55: X
K56: X | L56: X
A58: D. Estimarea cheltuielilor
O59: Cod
A60: Subgrupa | C60: Servicii generale în domeniul forței de muncă | O60: 0412
A61: Program | C61: Servicii generale economice și comerciale | O61: 50
A62: Subprogram | C62: Servicii generale în domeniul forței de muncă | O62: 03
A64: DI. Informație generală (se completează de către autoritatea superioară înainte de a remite formularul pentru completare instituţiilor din subordine)
A65: Scop | D65: Aplicarea respectării legislației muncii și securității în muncă
A66: Obiective (pe termen mediu, cu accent pe anul pentru care se aprobă programul) | D66: Majorarea numărului de vizite de control în vederea respectării legislației muncii cu 2% în 2019 față de 2018.
A67: Descriere succintă | D67: 1,Acordarea ajutorului metodologic şi consultativ persoanelor interesate în domeniul legislaţiei muncii. 2. Difuzarea informaţiilor despre cele mai eficace metode de respectare a legislaţiei muncii.
A69: DII. Indicatorii de performanţă
A70: Categoria | B70: Cod | C70: Denumirea | J70: Unitatea de măsură | K70: 2016 | L70: 2017 | M70: 2018 | N70: 2019 | O70: 2020 | P70: 2021
K71: Executat | L71: Executat | M71: Aprobat | N71: Aprobat | O71: Estimat | P71: Estimat
A72: De rezultat | B72: r5 | C72: Numărul încălcărilor depistate și prescripțiilor înaintate | J72: unități | K72: X | L72: 24720 | M72: 60000 | N72: 25000 | O72: 25000 | P72: 25000
B73: r6 | C73: Numărul informațiilor parvenite de la agenții economici privind remedierea încălcărilor depistate | J73: unități | K73: X | L73: 2731 | M73: 4300 | N73: 3000 | O73: 3000 | P73: 3000
A74: De produs | B74: o9 | C74: Numărul proceselor verbale de control întocmite | J74: unități | K74: X | L74: 3749 | M74: 5000 | N74: 4000 | O74: 4000 | P74: 4000
K75: X
A76: De eficiență | B76: e2 | C76: Durata medie de efectuare a unei vizite de control | J76: zile | K76: X | L76: 1.7 | M76: 1.7 | N76: 1.7 | O76: 1.7 | P76: 1.7
A78: DIII. Cheltuieli, mii lei
A79: Denumirea | E79: Cod | G79: 2016 | I79: 2017 | J79: 2018 | K79: 2019 | M79: 2020 | O79: 2021
E80: P3 | F80: Eco (k6) | G80: Executat | I80: Executat | J80: Aprobat | K80: Aprobat | M80: Estimat | O80: Estimat
A81: Servicii în domeniul pieții forței muncii | E81: 00115 | I81: =I82+I86+I110+I107+I115+I122 -> 14591.2 | J81: =J82+J86+J110+J107+J115+J122 -> 11780.9 | K81: =K82+K86+K110+K107+K115+K122 -> 11584.9 | M81: =M82+M86+M110+M107+M115+M122 -> 10665.8 | O81: =O82+O86+O110+O107+O115+O122 -> 10888.1
A82: Cheltuieli de personal | F82: 21 | G82: X | I82: =I83+I84+I85 -> 10297.8 | J82: =J83+J84+J85 -> 7395.2 | K82: =K83+K84+K85 -> 7317 | M82: =M83+M84+M85 -> 7590.6 | O82: =O83+O84+O85 -> 7875.3
A83: Remunerarea muncii conform statelor | E83: 111/0 | F83: 211180 | I83: 8167 | J83: 5886.6 | K83: 5813.3 | M83: 6032.3 | O83: 6258.8
A84: Contribuţiile de asigurare sociale de stat obligatoriu | E84: 112 | F84: 212100 | G84: X | I84: 1787.4 | J84: 1257.2 | K84: 1241.8 | M84: 1286.8 | O84: 1334.9
A85: Prime de asigurare obligatorie de asistenţă medicală achitate de angajatori și angajați pe teritoriu țării | E85: 116/01 | F85: 212210 | G85: X | I85: 343.4 | J85: 251.4 | K85: 261.9 | M85: 271.5 | O85: 281.6
A86: Bunuri și servicii | E86: 113 | F86: 22 | G86: X | I86: =SUM(I87:I106) -> 1139.9 | J86: =J87+J88+J89+J90+J91+J92+J93+J94+J95+J96+J97+J98+J99+J100+J101+J102+J103+J105+J106 -> 1987.3 | K86: =K87+K88+K89+K90+K91+K92+K93+K94+K95+K96+K97+K98+K99+K100+K101+K102+K103+K105+K106 -> 2011.1 | M86: =M87+M88+M89+M90+M91+M92+M93+M94+M95+M96+M97+M98+M99+M100+M101+M102+M103+M105+M106 -> 1822.4 | O86: =O87+O88+O89+O90+O91+O92+O93+O94+O95+O96+O97+O98+O99+O100+O101+O102+O103+O105+O106 -> 1760
A87: Energie electrică | E87: 113/01 | F87: 222110 | G87: X
A88: Gaze | E88: 113/02 | F88: 222120 | G88: X
A89: Energie termică | E89: 113/04 | F89: 222130 | G89: X
A90: Apă și canalizare | E90: 113/34 | F90: 222140 | G90: X
A91: Alte servicii energetice și comunale | E91: 113/35 | F91: 222190 | G91: X
A92: Servicii informaționale | E92: 113/30 | F92: 222210 | G92: X | I92: 60.3 | J92: 361.3 | K92: 332 | M92: 401.7 | O92: 401.7
A93: Servicii de telecomunicații | E93: 113/11 | F93: 222220 | G93: X | I93: 74.3 | J93: 171.3 | K93: 176.2 | M93: 176.2 | O93: 176.2
A94: Servicii de locațiune | E94: 113/19 | F94: 222300 | G94: X | I94: 575.3 | J94: 812 | K94: 758 | M94: 800.5 | O94: 800.5
A95: Servicii de transport | E95: 113/13 | F95: 222400 | G95: X | I95: 91.6 | J95: 122.1 | K95: 112 | M95: 112 | O95: 112
A96: Servicii de reparații curente | E96: 113/17,18 | F96: 222500 | G96: X | I96: 217.5 | J96: 385 | K96: 493 | M96: 192.1 | O96: 129.7
A97: Formare profesională | E97: 113/21 | F97: 222600 | G97: X
A98: Deplasări de serviciu în interiorul ţării | E98: 114/01 | F98: 222710 | G98: X | I98: 109.8 | J98: 129.6 | K98: 133.9 | M98: 133.9 | O98: 133.9
A99: Deplasări de serviciu peste hotare | E99: 114/02 | F99: 222720 | G99: X
A100: Sevicii medicale | E100: 113/45 | F100: 222800 | G100: X
A101: Servicii editoriale | E101: 113/22 | F101: 222910 | G101: X
A102: Servicii de de protocol | E102: 113/23 | F102: 222920 | G102: X
A103: Servicii de pază | E103: 113/29 | F103: 222940 | G103: X
A104: Servicii bancare | F104: 222970 | G104: X | I104: 0.5
A105: Servicii poștale | E105: 113/11 | F105: 222980 | G105: X | I105: 5.6 | J105: 6 | K105: 6 | M105: 6 | O105: 6
A106: Servicii neatribuite altor aliniate | E106: 113/45 | F106: 222990 | G106: X | I106: 5
A107: Prestații sociale | F107: 27 | G107: X | I107: =I108+I109 -> 295.1 | J107: =J108+J109 -> 92.1 | K107: =K108+K109 -> 92.1 | M107: =M108+M109 -> 92.1 | O107: =O108+O109 -> 92.1
A108: Indemnizații la încetarea acțiunii contractului de muncă | E108: 135/31 | F108: 273200 | G108: X | I108: 252 | J108: 44.1 | K108: 44.1 | M108: 44.1 | O108: 44.1
A109: Indemnizații pentru incapacitatea temporară de muncă achitate din mijloacele financiare ale angajatorului | E109: 135/33 | F109: 273500 | G109: X | I109: 43.1 | J109: 48 | K109: 48 | M109: 48 | O109: 48
A110: Alte cheltuieli | F110: 28 | G110: X | I110: =I111+I112+I113 -> 0 | J110: =J111+J112+J113 -> 0 | K110: =K111+K112+K113 -> 0 | M110: =M111+M112+M113 -> 0 | O110: =O111+O112+O113 -> 0
A111: Plăți aferente documentelor executorii | E111: 118 | F111: 281360 | G111: X
A112: Plăți aferente documentelor executorii cu executare benevolă | E112: 118/01 | F112: 281361 | G112: X
...

Sheet 50 03  Serv gen Fort ANOFM AOFM
N1: Formularul nr.4
E2: Propuneri de buget
D3: pentru anul 2019 și estimări pe anii 2020-2021
P5: Cod
A6: Sursa | D6: Bugetul de stat | P6: 02
A7: Autoritatea publică | D7: Ministerul Sănătății, Muncii și Protecției Sociale | P7: 0221
A8: Instituţia | D8: Agenția Națională și teritoriale pentru Ocuparea Forței de Muncă | P8: 2368
A10: A. Sinteza propunerii de buget (se completează automat în SIMF), mii lei
A12: Denumirea | E12: Cod | G12: 2016 | I12: 2017 | J12: 2018 | K12: 2019 | M12: 2020 | O12: 2021
E13: F1 | F13: Eco (k2) | G13: Executat | I13: Executat | J13: Aprobat | K13: Aprobat | M13: Estimat | O13: Estimat
A14: A.1. CHELTUIELI, total | E14: 10 | G14: X | I14: =I15+I16+I17+I18+I19+I20 -> 32418.9 | J14: =J15+J16+J17+J18+J19+J20 -> 33573.1 | K14: =K15+K16+K17+K18+K19+K20 -> 35611.5 | M14: =M15+M16+M17+M18+M19+M20 -> 37321.2 | O14: =O15+O16+O17+O18+O19+O20 -> 38294.7
A15: Cheltuieli de personal | F15: 21 | G15: X | I15: =I83 -> 26274.8 | J15: =J83 -> 25807.4 | K15: =K83 -> 27300.7 | M15: =M83 -> 28299.5 | O15: =O83 -> 29366.3
A16: Bunuri și servicii | F16: 22 | G16: X | I16: =I87 -> 4681.4 | J16: =J87 -> 5806.2 | K16: =K87 -> 5914.8 | M16: =M87 -> 6651.9 | O16: =O87 -> 6558.6
A17: Indemnizații pentru incapacitatea temporară de muncă achitate din mijloacele financiare ale angajatorului | F17: 27 | G17: X | I17: =I108 -> 226.7 | J17: =J108 -> 307.2 | K17: =K108 -> 378.8 | M17: =M108 -> 378.8 | O17: =O108 -> 378.8
A18: Alte cheltuieli | F18: 28 | G18: X | I18: =I111 -> 10.5 | J18: =J111 -> 15 | K18: =K111 -> 27 | M18: =M111 -> 27 | O18: =O111 -> 27
A19: Mijloace fixe | F19: 31 | G19: X | I19: =I118 -> 744.5 | J19: =J118 -> 1035.1 | K19: =K118 -> 1300 | M19: =M118 -> 1300 | O19: =O118 -> 1300
A20: Stocuri și materiale circulante | F20: 33 | G20: X | I20: =I125 -> 481 | J20: =J125 -> 602.2 | K20: =K125 -> 690.2 | M20: =M125 -> 664 | O20: =O125 -> 664
A22: Denumirea | C22: Cod | G22: 2016 | I22: 2017 | J22: 2018 | K22: 2019 | M22: 2020 | O22: 2021
C23: S3 | D23: S5 | E23: F1 | F23: Eco (k2) | G23: Executat | I23: Executat | J23: Aprobat | K23: Aprobat | M23: Estimat | O23: Estimat
A24: A.2.RESURSE, total (A2=A2.1+A2.2+A2.3) | G24: X | I24: =(I25+I29+I33) -> 32418.9 | J24: =(J25+J29+J33) -> 33573.1 | K24: =(K25+K29+K33) -> 35611.5 | L24: =L25+L29+L33 -> 0 | M24: =(M25+M29+M33) -> 37321.2 | N24: =N25+N29+N33 -> 0 | O24: =(O25+O29+O33) -> 38294.7 | P24: =P25+P29+P33 -> 0
A25: A.2.1. Resurse colectate interne, total | C25: 112 | D25: 11297 1 | G25: X | J25: =J26+J27+J28 -> 0 | K25: =K26+K27+K28 -> 0 | M25: =M26+M27+M28 -> 0 | O25: =O26+O27+O28 -> 0
G26: X
G27: X
G28: X
A29: A.2.2. Resurse colectate externe, total | C29: 112 | G29: X | J29: =J30+J31+J32 -> 0 | K29: =K30+K31+K32 -> 0 | M29: =M30+M31+M32 -> 0 | O29: =O30+O31+O32 -> 0
G30: X
G31: X
G32: X
A33: A.2.3. Resurse generale, total A.2.3=A.1-(A.2.1+A.2.2) | C33: 111 | G33: X | I33: =I14-(I25+I29) -> 32418.9 | J33: =J14-(J25+J29) -> 33573.1 | K33: =K14-(K25+K29) -> 35611.5 | M33: =M14-(M25+M29) -> 37321.2 | O33: =O14-(O25+O29) -> 38294.7
G34: X
A36: B. Sinteza limitelor de cheltuieli (se completează automat în SIMF), mii lei
A37: Denumirea | D37: Cod | G37: 2019 Aprobat | K37: 2020 Estimat | N37: 2021 Estimat
D38: F1 | E38: Cheltuieli (r/c), resurse (S3) | G38: Stabilit | I38: Deviere +/- | J38: Propus | K38: Stabilit | L38: Deviere +/- | M38: Propus | N38: Stabilit | O38: Deviere +/- | P38: Propus
A39: TOTAL | G39: =G40+G41 -> 35611.5 | J39: =J40+J41 -> 35611.5 | K39: =K40+K41 -> 37321.2 | M39: =M40+M41 -> 37321.2 | N39: =N40+N41 -> 38294.7 | P39: =P40+P41 -> 38294.7
A40: Cheltuieli recurente | D40: r | G40: =K14 -> 35611.5 | J40: =G40 -> 35611.5 | K40: =M14 -> 37321.2 | M40: =K40 -> 37321.2 | N40: =O14 -> 38294.7 | P40: =N40 -> 38294.7
A41: Investiţii capitale | D41: c
A43: TOTAL | G43: =G44+G45 -> 35611.5 | J43: =J44+J45 -> 35611.5 | K43: =K44+K45 -> 37321.2 | M43: =M44+M45 -> 37321.2 | N43: =N44+N45 -> 38294.7 | P43: =P44+P45 -> 38294.7
A44: Resurse colectate | G44: =J25 -> 0 | J44: =G44 -> 0 | K44: =M25 -> 0 | M44: =K44 -> 0 | N44: =O25 -> 0 | P44: =N44 -> 0
A45: Resurse generale | G45: =K33 -> 35611.5 | J45: =G45 -> 35611.5 | K45: =M33 -> 37321.2 | M45: =K45 -> 37321.2 | N45: =O24 -> 38294.7 | P45: =N45 -> 38294.7
A48: C. Estimarea resurselor colectate de autorități/instituții, mii lei
A49: Denumirea | C49: Cod | I49: Descriere | K49: 2016 | L49: 2017 | M49: 2018 | N49: 2019 | O49: 2020 | P49: 2021
C50: Sursa (S3S4) | D50: Originea sursei (S5) | E50: Donator (S6) | F50: F3 | G50: P3 (7xx) | H50: Eco k6 | K50: Executat | L50: Executat | M50: Aprobat | N50: Aprobat | O50: Estimat | P50: Estimat
A51: TOTAL | K51: X | L51: X
K52: X | L52: X
K53: X | L53: X
K54: X | L54: X
K55: X | L55: X
K56: X | L56: X
A58: D. Estimarea cheltuielilor
O59: Cod
A60: Subgrupa | C60: Servicii generale în domeniul forței de muncă | O60: 0412
A61: Program | C61: Servicii generale economice și comerciale | O61: 50
A62: Subprogram | C62: Servicii generale în domeniul forței de muncă | O62: 03
A64: DI. Informație generală (se completează de către autoritatea superioară înainte de a remite formularul pentru completare instituţiilor din subordine)
A65: Scop | D65: Grad sporit de implicare în servicii, măsuri active și protecția socială a persoanelor aflate în căutarea unui loc de muncă
A66: Obiective (pe termen mediu, cu accent pe anul pentru care se aprobă programul) | D66: 1.1. Numărul persoanelor deservite de un specialist din structurile ANOFM va constitui 403 persoane.
A67: Descriere succintă | D67: 1. Asigurarea implementării serviciilor, măsurilor active persoanelor aflate în căutarea unui loc de muncă. 2. Dezvoltarea si administrarea sistemului informational al pietii muncii si informarea operativa aa populatiei despre locurile libere gestionate de structurile Agentiei.
A69: DII. Indicatorii de performanţă
A70: Categoria | B70: Cod | C70: Denumirea | J70: Unitatea de măsură | K70: 2016 | L70: 2017 | M70: 2018 | N70: 2019 | O70: 2020 | P70: 2021
K71: Executat | L71: Executat | M71: Aprobat | N71: Aprobat | O71: Estimat | P71: Estimat
A72: De rezultat | B72: r1 | C72: Numărul persoanelor deservite de un specialist din structurile ANOFM | J72: unități | K72: X | M72: 403 | N72: 403 | O72: 403 | P72: 403
A73: De produs | B73: o1 | C73: Numărul specialiștilor implicați în deservirea șomerilor | J73: unități | K73: X | L73: 214 | M73: 248 | N73: 248 | O73: 248 | P73: 248
B74: o3 | C74: Numărul persoanelor deservite | J74: unități | K74: X | M74: 100000 | N74: 100000 | O74: 100000 | P74: 100000
A75: De eficiență | B75: e1 | C75: Cheltuieli pentru întreținerea unui angajat din cadrul instituției | J75: mii lei | K75: X | L75: 111.4 | M75: 102.86 | N75: 108.7 | O75: 112.8 | P75: =O82/#REF! -> #REF!
K76: X
K77: X
A79: DIII. Cheltuieli, mii lei
A80: Denumirea | E80: Cod | G80: 2016 | I80: 2017 | J80: 2018 | K80: 2019 | M80: 2020 | O80: 2021
E81: P3 | F81: Eco (k6) | G81: Executat | I81: Executat | J81: Aprobat | K81: Aprobat | M81: Estimat | O81: Estimat
A82: Servicii în domeniul pieții forței muncii | E82: 00288 | I82: =I83+I87+I111+I108+I118+I125 -> 32418.9 | J82: =J83+J87+J111+J108+J118+J125 -> 33573.1 | K82: =K83+K87+K111+K108+K118+K125 -> 35611.5 | M82: =M83+M87+M111+M108+M118+M125 -> 37321.2 | O82: =O83+O87+O111+O108+O118+O125 -> 38294.7
A83: Cheltuieli de personal | F83: 21 | G83: X | I83: =I84+I85+I86 -> 26274.8 | J83: =J84+J85+J86 -> 25807.4 | K83: =K84+K85+K86 -> 27300.7 | M83: =M84+M85+M86 -> 28299.5 | O83: =O84+O85+O86 -> 29366.3
A84: Remunerarea muncii conform statelor | E84: 111/0 | F84: 211180 | G84: X | I84: 20879.2 | J84: 20568.5 | K84: 21700.9 | M84: 22495.3 | O84: 23343.8
A85: Contribuţiile de asigurare sociale de stat obligatoriu | E85: 112 | F85: 212100 | G85: X | I85: 4516.2 | J85: 4387.3 | K85: 4623.2 | M85: 4791.9 | O85: 4972
A86: Prime de asigurare obligatorie de asistenţă medicală achitate de angajatori și angajați pe teritoriu țării | E86: 116/01 | F86: 212210 | G86: X | I86: 879.4 | J86: 851.6 | K86: 976.6 | M86: 1012.3 | O86: 1050.5
A87: Bunuri și servicii | E87: 113 | F87: 22 | G87: X | I87: =I88+I89+I90+I91+I92+I93+I94+I95+I96+I97+I98+I99+I100+I101+I102+I103+I104+I106+I107+I105 -> 4681.4 | J87: =J88+J89+J90+J91+J92+J93+J94+J95+J96+J97+J98+J99+J100+J101+J102+J103+J104+J106+J107+J105 -> 5806.2 | K87: =SUM(K88:K107) -> 5914.8 | M87: =SUM(M88:M107) -> 6651.9 | O87: =SUM(O88:O107) -> 6558.6
A88: Energie electrică | E88: 113/01 | F88: 222110 | G88: X | I88: 194.9 | J88: 246 | K88: 235.9 | M88: 258.3 | O88: 246
A89: Gaze | E89: 113/02 | F89: 222120 | G89: X | I89: 84.9 | J89: 107.5 | K89: 101.9 | M89: 112.9 | O89: 107.5
A90: Energie termică | E90: 113/04 | F90: 222130 | G90: X | I90: 201.8 | J90: 222.4 | K90: 251.4 | M90: 233.5 | O90: 222.4
A91: Apă și canalizare | E91: 113/34 | F91: 222140 | G91: X | I91: 26.8 | J91: 22.5 | K91: 26.4 | M91: 23.6 | O91: 22.5
A92: Alte servicii energetice și comunale | E92: 113/35 | F92: 222190 | G92: X | I92: 12.9 | J92: 15 | K92: 19.4 | M92: 16 | O92: 15
A93: Servicii informaționale | E93: 113/30 | F93: 222210 | G93: X | I93: 419.2 | J93: 1031.4 | K93: 1212.2 | M93: 2049 | O93: 1986.6
A94: Servicii de telecomunicații | E94: 113/11 | F94: 222220 | G94: X | I94: 243.5 | J94: 288 | K94: 269.7 | M94: 269.7 | O94: 269.7
A95: Servicii de locațiune | E95: 113/19 | F95: 222300 | G95: X | I95: 1974.7 | J95: 2385.3 | K95: 2143.8 | M95: 2143.8 | O95: 2143.8
A96: Servicii de transport | E96: 113/13 | F96: 222400 | G96: X | I96: 24.2 | J96: 39.7 | K96: 61.7 | M96: 61.7 | O96: 61.7
A97: Servicii de reparații curente | E97: 113/17,18 | F97: 222500 | G97: X | I97: 379.2 | J97: 382.9 | K97: 489.9 | M97: 400.9 | O97: 400.9
A98: Formare profesională | E98: 113/21 | F98: 222600 | G98: X | I98: 79.2 | J98: 98 | K98: 100 | M98: 100 | O98: 100
A99: Deplasări de serviciu în interiorul ţării | E99: 114/01 | F99: 222710 | G99: X | I99: 215.1 | J99: 237.1 | K99: 264.6 | M99: 264.6 | O99: 264.6
A100: Deplasări de serviciu peste hotare | E100: 114/02 | F100: 222720 | G100: X | I100: 7.2
A101: Sevicii medicale | E101: 113/45 | F101: 222800 | G101: X
A102: Servicii editoriale | E102: 113/22 | F102: 222910 | G102: X | I102: 89.8
A103: Servicii de de protocol | E103: 113/23 | F103: 222920 | G103: X | K103: 20
A104: Servicii de pază | E104: 113/29 | F104: 222940 | G104: X | I104: 349.6 | J104: 350.4 | K104: 350.4 | M104: 350.4 | O104: 350.4
A105: Servicii bancare | F105: 222970 | G105: X | I105: 8.1 | J105: 22 | K105: 24.5 | M105: 24.5 | O105: 24.5
A106: Servicii poștale | E106: 113/11 | F106: 222980 | G106: X | I106: 10.8 | J106: 10.7 | K106: 13.7 | M106: 13.7 | O106: 13.7
A107: Servicii neatribuite altor aliniate | E107: 113/45 | F107: 222990 | G107: X | I107: 359.5 | J107: 347.3 | K107: 329.3 | M107: 329.3 | O107: 329.3
A108: Prestații sociale | F108: 27 | G108: X | I108: =I109+I110 -> 226.7 | J108: =J109+J110 -> 307.2 | K108: =K109+K110 -> 378.8 | M108: =M109+M110 -> 378.8 | O108: =O109+O110 -> 378.8
A109: Indemnizații la încetarea acțiunii contractului de muncă | E109: 135/31 | F109: 273200 | G109: X | I109: 137.7 | J109: 168.4 | K109: 220.1 | M109: 220.1 | O109: 220.1
A110: Indemnizații pentru incapacitatea temporară de muncă achitate din mijloacele financiare ale angajatorului | E110: 135/33 | F110: 273500 | G110: X | I110: 89 | J110: 138.8 | K110: 158.7 | M110: 158.7 | O110: 158.7
A111: Alte cheltuieli | F111: 28 | G111: X | I111: =I112+I113+I114+I115+I117 -> 10.5 | J111: =J112+J113+J114+J115+J117 -> 15 | K111: =K112+K113+K114+K115+K117+K116 -> 27 | M111: =M112+M113+M114+M115+M117+M116 -> 27 | O111: =O112+O113+O114+O115+O117+O116 -> 27
A112: Plăți aferente documentelor executorii | E112: 118 | F112: 281110 | G112: X | I112: 10.5 | J112: 15 | K112: 15 | M112: 15 | O112: 15
...

Sheet 90 01 AC MMPSF
N1: Formularul nr.4
E2: Propuneri de buget
D3: pentru anul 2019 și estimări pe anii 2020-2021
P5: Cod
A6: Sursa | D6: Bugetul de stat | P6: 02
A7: Autoritatea publică | D7: Ministerul Sănătății, Muncii și Protecției Sociale | P7: 0221
A8: Instituţia | D8: Ministerul Sănătății, Muncii și Protecției Sociale | P8: 15309
A10: A. Sinteza propunerii de buget (se completează automat în SIMF), mii lei
A12: Denumirea | E12: Cod | G12: 2016 | I12: 2017 | J12: 2018 | K12: 2019 | M12: 2020 | O12: 2021
E13: F1 | F13: Eco (k2) | G13: Executat | I13: Executat | J13: Aprobat | K13: Aprobat | M13: Estimat | O13: Estimat
A14: A.1. CHELTUIELI, total | E14: 10 | G14: X | I14: =I15+I16+I17+I18+I19+I20 -> 19700.1 | J14: =J15+J16+J17+J18+J19+J20 -> 24620.6 | K14: =K15+K16+K17+K18+K19+K20 -> 25396.3 | M14: =M15+M16+M17+M18+M19+M20 -> 25650.4 | O14: =O15+O16+O17+O18+O19+O20 -> 26059
A15: Cheltuieli de personal | F15: 21 | G15: X | I15: =I84 -> 15148.7 | J15: =J84 -> 19874 | K15: =K84 -> 19780.1 | M15: =M84 -> 20214.9 | O15: =O84 -> 20675.4
A16: Bunuri și servicii | F16: 22 | G16: X | I16: =I88 -> 2935.6 | J16: =J88 -> 3320.6 | K16: =K88 -> 4094.7 | M16: =M88 -> 3688.7 | O16: =O88 -> 3626.9
A17: Indemnizații pentru incapacitatea temporară de muncă achitate din mijloacele financiare ale angajatorului | F17: 27 | G17: X | I17: =I108 -> 707.3 | J17: =J108 -> 280 | K17: =K108 -> 300 | M17: =M108 -> 300 | O17: =O108 -> 300
A18: Alte cheltuieli | F18: 28 | G18: X | I18: =I111 -> 481.4 | J18: =J111 -> 502 | K18: =K111 -> 470 | M18: =M111 -> 470 | O18: =O111 -> 470
A19: Mijloace fixe | F19: 31 | G19: X | I19: =I117 -> 95.6 | J19: =J117 -> 300 | K19: =K117 -> 259.5 | M19: =M117 -> 480 | O19: =O117 -> 483.9
A20: Stocuri și materiale circulante | F20: 33 | G20: X | I20: =I123 -> 331.5 | J20: =J123 -> 344 | K20: =K123 -> 492 | M20: =M123 -> 496.8 | O20: =O123 -> 502.8
A22: Denumirea | C22: Cod | G22: 2016 | I22: 2017 | J22: 2018 | K22: 2019 | M22: 2020 | O22: 2021
C23: S3 | D23: S5 | E23: F1 | F23: Eco (k2) | G23: Executat | I23: Executat | J23: Aprobat | K23: Aprobat | M23: Estimat | O23: Estimat
A24: A.2.RESURSE, total (A2=A2.1+A2.2+A2.3) | G24: X | I24: =I25+I29+I33 -> 19700.1 | J24: =J25+J29+J33 -> 24620.6 | K24: =K25+K29+K33 -> 25396.3 | L24: =L25+L29+L33 -> 0 | M24: =M25+M29+M33 -> 25650.4 | N24: =N25+N29+N33 -> 0 | O24: =O25+O29+O33 -> 26059 | P24: =P25+P29+P33 -> 0
A25: A.2.1. Resurse colectate interne, total | C25: 112 | D25: 11297 1 | G25: X | I25: =I26 -> 25.6 | J25: =J26 -> 46.7 | K25: =K26 -> 46.7 | M25: =M26 -> 46.7 | O25: =O26+O27+O28 -> 46.7
A26: Alte venituri | G26: X | I26: 25.6 | J26: 46.7 | K26: 46.7 | M26: 46.7 | O26: 46.7
G27: X
G28: X
A29: A.2.2. Resurse colectate externe, total | C29: 112 | G29: X | J29: =J30+J31+J32 -> 0 | K29: =K30+K31+K32 -> 0 | M29: =M30+M31+M32 -> 0 | O29: =O30+O31+O32 -> 0
G30: X
G31: X
G32: X
A33: A.2.3. Resurse generale, total A.2.3=A.1-(A.2.1+A.2.2) | C33: 111 | G33: X | I33: =I14-(I25+I29) -> 19674.5 | J33: =J14-(J25+J29) -> 24573.9 | K33: =K14-(K25+K29) -> 25349.6 | M33: =M14-(M25+M29) -> 25603.7 | O33: =O14-(O25+O29) -> 26012.3
G34: X
A36: B. Sinteza limitelor de cheltuieli (se completează automat în SIMF), mii lei
A37: Denumirea | D37: Cod | G37: 2019 Aprobat | K37: 2020 Estimat | N37: 2021 Estimat
D38: F1 | E38: Cheltuieli (r/c), resurse (S3) | G38: Stabilit | I38: Deviere +/- | J38: Propus | K38: Stabilit | L38: Deviere +/- | M38: Propus | N38: Stabilit | O38: Deviere +/- | P38: Propus
A39: TOTAL | G39: =G40 -> 25396.3 | J39: =J40 -> 25396.3 | K39: =K40 -> 25650.4 | M39: =M40 -> 25650.4 | N39: =N40 -> 26059 | P39: =P40 -> 26059
A40: Cheltuieli recurente | D40: r | G40: =K14 -> 25396.3 | J40: =G40 -> 25396.3 | K40: =M14 -> 25650.4 | M40: =K40 -> 25650.4 | N40: =O14 -> 26059 | P40: =N40 -> 26059
A41: Investiţii capitale | D41: c
A43: TOTAL | G43: =G44+G45 -> 25396.3 | J43: =J44+J45 -> 25396.3 | K43: =K44+K45 -> 25650.4 | M43: =M44+M45 -> 25650.4 | N43: =N44+N45 -> 26059 | P43: =P44+P45 -> 26059
A44: Resurse colectate | G44: =J25 -> 46.7 | J44: =G44 -> 46.7 | K44: =M25 -> 46.7 | M44: =K44 -> 46.7 | N44: =O25 -> 46.7 | P44: =N44 -> 46.7
A45: Resurse generale | G45: =K33 -> 25349.6 | J45: =G45 -> 25349.6 | K45: =M33 -> 25603.7 | M45: =K45 -> 25603.7 | N45: =O33 -> 26012.3 | P45: =N45 -> 26012.3
A48: C. Estimarea resurselor colectate de autorități/instituții, mii lei
A49: Denumirea | C49: Cod | I49: Descriere | K49: 2016 | L49: 2017 | M49: 2018 | N49: 2019 | O49: 2020 | P49: 2021
C50: Sursa (S3S4) | D50: Originea sursei (S5) | E50: Donator (S6) | F50: F3 | G50: P3 (7xx) | H50: Eco k6 | K50: Executat | L50: Executat | M50: Aprobat | N50: Aprobat | O50: Estimat | P50: Estimat
A51: TOTAL | K51: X | L51: X
K52: X | L52: X
K53: X | L53: X
K54: X | L54: X
K55: X | L55: X
K56: X | L56: X
A58: D. Estimarea cheltuielilor
O59: Cod
A60: Subgrupa | C60: Administrare în domeniul protecției sociale | O60: 1091
A61: Program | C61: Protecția socială | O61: 90
A62: Subprogram | C62: Politici și management în domeniul protecției sociale | O62: 01
A64: DI. Informație generală (se completează de către autoritatea superioară înainte de a remite formularul pentru completare instituţiilor din subordine)
A65: Scop | D65: Gestionarea şi managementul programelor de protecţie socială atît la nivel central, cît şi local în vederea realizării prerogativelor constituționale în domeniul vizat.
A66: Obiective (pe termen mediu, cu accent pe anul pentru care se aprobă programul) | D66: Promovarea politicii privind ocrotirea sănătății, protecţia socială bineechilibrată, prin combinarea măsurilor de prevenire, compensare, reabilitare cu măsuri de incluziune socială în vederea sporirii nivelului calitativ al serviciilor sociale prestate şi integrării în societate a persoanelor în dificultate.
A67: Descriere succintă | D67: Elaborarea, promovarea politicii de stat şi coordonarea strategiilor naţionale în domeniile ocrotirii sănătății, asigurărilor sociale, asistenţei sociale, protecţiei familiei şi a drepturilor copilului, inclusiv în domeniul adopţiei, egalităţii de şanse între femei şi bărbaţi, prevenirii şi combaterii traficului de fiinţe umane şi violenţei în familie.
A69: DII. Indicatorii de performanţă
A70: Categoria | B70: Cod | C70: Denumirea | J70: Unitatea de măsură | K70: 2016 | L70: 2017 | M70: 2018 | N70: 2019 | O70: 2020 | P70: 2021
K71: Executat | L71: Executat | M71: Aprobat | N71: Aprobat | O71: Estimat | P71: Estimat
A72: De rezultat
B74: r1 | C74: Cota funcționarilor publici care au beneficiat de instruire | J74: % | K74: X | L74: 24 | M74: 96 | N74: 70 | O74: 70 | P74: 70
A75: De produs | B75: o1 | C75: Numarul personalului | J75: unitați | K75: X | L75: 84 | M75: 105 | N75: 105 | O75: 105 | P75: 105
A76: De eficiență | B76: e1 | C76: Cheltuielile pentru intretinerea angajatilor | J76: mii lei | K76: X | L76: 19700.1 | M76: 24620.6 | N76: =K83 -> 25396.3 | O76: =M83 -> 25650.4 | P76: =O83 -> 26059
B77: e2 | C77: Cheltuielile pentru intretinerea unui angajat din cadrul ministerului | J77: mii lei | K77: X | L77: 234.5 | M77: 234.5 | N77: =K83/N75 -> 241.86952 | O77: =M83/O75 -> 244.28952 | P77: =O83/P75 -> 248.18095
A80: DIII. Cheltuieli, mii lei
A81: Denumirea | E81: Cod | G81: 2016 | I81: 2017 | J81: 2018 | K81: 2019 | M81: 2020 | O81: 2021
E82: P3 | F82: Eco (k6) | G82: Executat | I82: Executat | J82: Aprobat | K82: Aprobat | M82: Estimat | O82: Estimat
A83: AC MMPSF | E83: 00010 | I83: =I84+I88+I108+I111+I117+I123 -> 19700.1 | J83: =J84+J88+J108+J111+J117+J123 -> 24620.6 | K83: =K84+K88+K108+K111+K117+K123 -> 25396.3 | M83: =M84+M88+M108+M111+M117+M123 -> 25650.4 | O83: =O84+O88+O108+O111+O117+O123 -> 26059
A84: Cheltuieli de personal | F84: 21 | G84: X | I84: =I85+I86+I87 -> 15148.7 | J84: =J85+J86+J87 -> 19874 | K84: =K85+K86+K87 -> 19780.1 | M84: =M85+M86+M87 -> 20214.9 | O84: =O85+O86+O87 -> 20675.4
A85: Remunerarea muncii conform statelor | E85: 111/0 | F85: 211180 | G85: X | I85: 12013.9 | J85: 17429.5 | K85: 17222.8 | M85: 17567.7 | O85: 17935.9
A86: Contribuţiile de asigurare sociale de stat obligatoriu | E86: 112 | F86: 212100 | G86: X | I86: 2627 | J86: 2047 | K86: 2114.1 | M86: 2188.5 | O86: 2264.2
A87: Prime de asigurare obligatorie de asistenţă medicală achitate de angajatori și angajați pe teritoriu țării | E87: 116/01 | F87: 212210 | G87: X | I87: 507.8 | J87: 397.5 | K87: 443.2 | M87: 458.7 | O87: 475.3
A88: Bunuri și servicii | E88: 113 | F88: 22 | G88: X | I88: =SUM(I89:I107) -> 2935.6 | J88: =J89+J90+J91+J92+J93+J94+J95+J96+J97+J98+J99+J100+J101+J102+J103+J104+J105+J106+J107 -> 3320.6 | K88: =K89+K90+K91+K92+K93+K94+K95+K96+K97+K98+K99+K100+K101+K102+K103+K104+K105+K106+K107 -> 4094.7 | M88: =M89+M90+M91+M92+M93+M94+M95+M96+M97+M98+M99+M100+M101+M102+M103+M104+M105+M106+M107 -> 3688.7 | O88: =O89+O90+O91+O92+O93+O94+O95+O96+O97+O98+O99+O100+O101+O102+O103+O104+O105+O106+O107 -> 3626.9
A89: Energie electrică | E89: 113/01 | F89: 222110 | G89: X
A90: Gaze | E90: 113/02 | F90: 222120 | G90: X
A91: Energie termică | E91: 113/04 | F91: 222130 | G91: X | I91: 246.3 | J91: 320 | K91: 435 | M91: 59.1
A92: Apă și canalizare | E92: 113/34 | F92: 222140 | G92: X
A93: Alte servicii energetice și comunale | E93: 113/35 | F93: 222190 | G93: X | I93: 9.3 | K93: 10.8 | M93: 10.8 | O93: 10.8
A94: Servicii informaționale | E94: 113/30 | F94: 222210 | G94: X | I94: 76.4 | J94: 83.5 | K94: 316 | M94: 330 | O94: 330
A95: Servicii de telecomunicații | E95: 113/11 | F95: 222220 | G95: X | I95: 103.9 | J95: 229 | K95: 213.4 | M95: 213.4 | O95: 213.4
A96: Servicii de locațiune | E96: 113/19 | F96: 222300 | G96: X | I96: 1325.1 | J96: 832 | K96: 734 | M96: 810 | O96: 760
A97: Servicii de transport | E97: 113/13 | F97: 222400 | G97: X | I97: 16.6 | J97: 260.8 | K97: 11.6 | M97: 13 | O97: 13
A98: Servicii de reparații curente | E98: 113/17,18 | F98: 222500 | G98: X | I98: 190.8 | J98: 345.2 | K98: 60 | M98: 80 | O98: 80
A99: Formare profesională | E99: 113/21 | F99: 222600 | G99: X | J99: 207.3 | K99: 350 | M99: 351.4 | O99: 358.7
A100: Deplasări de serviciu în interiorul ţării | E100: 114/01 | F100: 222710 | G100: X | I100: 0.1 | J100: 29 | K100: 29 | M100: 30 | O100: 30
A101: Deplasări de serviciu peste hotare | E101: 114/02 | F101: 222720 | G101: X | I101: 598.5 | J101: 810.1 | K101: 770.5 | M101: 600 | O101: 600
A102: Sevicii medicale | E102: 113/45 | F102: 222800 | G102: X
A103: Servicii editoriale | E103: 113/22 | F103: 222910 | G103: X | I103: 6.3
A104: Servicii de de protocol | E104: 113/23 | F104: 222920 | G104: X | I104: 30.6 | J104: 142 | K104: 50 | M104: 70 | O104: 70
A105: Servicii de pază | E105: 113/29 | F105: 222940 | G105: X | I105: 125.4 | K105: 225 | M105: 280 | O105: 300
A106: Servicii poștale | E106: 113/11 | F106: 222980 | G106: X | I106: 38.8 | K106: 60 | M106: 70 | O106: 70
A107: Servicii neatribuite altor aliniate | E107: 113/45 | F107: 222990 | G107: X | I107: 167.5 | J107: 61.7 | K107: 829.4 | M107: 771 | O107: 791
A108: Prestații sociale | F108: 27 | G108: X | I108: =I109+I110 -> 707.3 | J108: =J109+J110 -> 280 | K108: =K109+K110 -> 300 | M108: =M109+M110 -> 300 | O108: =O109+O110 -> 300
A109: Indemnizații la încetarea acțiunii contractului de muncă | E109: 135/31 | F109: 273200 | G109: X | I109: 637.4 | J109: 200 | K109: 200 | M109: 200 | O109: 200
A110: Indemnizații pentru incapacitatea temporară de muncă achitate din mijloacele financiare ale angajatorului | E110: 135/33 | F110: 273500 | G110: X | I110: 69.9 | J110: 80 | K110: 100 | M110: 100 | O110: 100
A111: Alte cheltuieli | F111: 28 | G111: X | I111: =I112 -> 481.4 | J111: =J112 -> 502 | K111: =K112 -> 470 | M111: =M112 -> 470 | O111: =O112 -> 470
A112: Cotizații în organizațiile internaționale | F112: 281110 | I112: 481.4 | J112: 502 | K112: 470 | M112: 470 | O112: 470
A113: Plăți aferente documentelor executorii | E113: 118 | F113: 281360 | G113: X
A114: Plăți aferente documentelor executorii cu executare benevolă | E114: 118/01 | F114: 281361 | G114: X
...

Sheet 90 04   00299 ANAS 00302
N1: Formularul nr.4
E2: Propuneri de buget
D3: pentru anul 2019 și estimări pe anii 2020-2021
P5: Cod
A6: Sursa | D6: Bugetul de stat | P6: 02
A7: Autoritatea publică | D7: Ministerul Sănătății, Muncii și Protecției Sociale | P7: 0221
A8: Instituţia | D8: Agenția Națională Asistență Socială | P8: 2369
A10: A. Sinteza propunerii de buget (se completează automat în SIMF), mii lei
A12: Denumirea | E12: Cod | G12: 2016 | I12: 2017 | J12: 2018 | K12: 2019 | M12: 2020 | O12: 2021
E13: F1 | F13: Eco (k2) | G13: Executat | I13: Executat | J13: Aprobat | K13: Aprobat | M13: Estimat | O13: Estimat
A14: A.1. CHELTUIELI, total | E14: 10 | G14: X | I14: =I15+I16+I17+I18+I19+I20+I21 -> 117831.1 | J14: =J15+J16+J17+J18+J19+J20 -> 134689.9 | K14: =K15+K16+K17+K18+K19+K20 -> 153500 | M14: =M15+M16+M17+M18+M19+M20 -> 161498.1 | O14: =O15+O16+O17+O18+O19+O20 -> 152418.1
A15: Cheltuieli de personal | F15: 21 | G15: X | I15: =I90 -> 52671.2 | J15: =J90 -> 53334.8 | K15: =K90 -> 65686.3 | M15: =M90 -> 65686.3 | O15: =O90 -> 65686.3
A16: Bunuri și servicii | F16: 22 | G16: X | I16: =I94 -> 14256.2 | J16: =J94 -> 17832.3 | K16: =K94 -> 16835.1 | M16: =M94 -> 17337.1 | O16: =O94 -> 17735.6
A17: Indemnizații pentru incapacitatea temporară de muncă achitate din mijloacele financiare ale angajatorului | F17: 27 | G17: X | I17: =I117+I152 -> 874.2 | J17: =J117+J152 -> 1199.6 | K17: =K117+K152 -> 1273.3 | M17: =M117+M152 -> 1278.6 | O17: =O117+O152 -> 1280.5
A18: Alte cheltuieli | F18: 28 | G18: X | I18: =I121 -> 27.9 | J18: =J121 -> 139.1 | K18: =K121 -> 45.8 | M18: =M121 -> 47.1 | O18: =O121 -> 48.5
A19: Mijloace fixe | F19: 31 | G19: X | I19: =I127 -> 6477.2 | J19: =J127 -> 12443.4 | K19: =K127 -> 18732.6 | M19: =M127 -> 24023.3 | O19: =O127 -> 12287.6
A20: Stocuri și materiale circulante | F20: 33 | G20: X | I20: =I140 -> 43523 | J20: =J140 -> 49740.7 | K20: =K140 -> 50926.9 | M20: =M140 -> 53125.7 | O20: =O140 -> 55379.6
A21: Corectarea soldului pe anii precedenți | F21: 92 | G21: X | I21: =I150 -> 1.4
A24: Denumirea | C24: Cod | G24: 2016 | I24: 2017 | J24: 2018 | K24: 2019 | M24: 2020 | O24: 2021
C25: S3 | D25: S5 | E25: F1 | F25: Eco (k2) | G25: Executat | I25: Executat | J25: Aprobat | K25: Aprobat | M25: Estimat | O25: Estimat
A26: A.2.RESURSE, total (A2=A2.1+A2.2+A2.3) | G26: X | I26: =I27+I31+I35 -> 117831.1 | J26: =J27+J31+J35 -> 134689.9 | K26: =K27+K31+K35 -> 153500 | L26: =L27+L31+L35 -> 0 | M26: =M27+M31+M35 -> 161498.1 | N26: =N27+N31+N35 -> 0 | O26: =O27+O31+O35 -> 152418.1 | P26: =P27+P31+P35 -> 0
A27: A.2.1. Resurse colectate interne, total | C27: 112 | D27: 112 97 1 | E27: 10 | G27: X | I27: =I28+I29+I30 -> 7835.3 | J27: =J28+J29+J30 -> 9499.3 | K27: =K28+K29+K30 -> 10879.7 | M27: =M28+M29+M30 -> 11241.3 | O27: =O28+O29+O30 -> 11661.4
A28: Alte venituri | F28: 14 | G28: X | I28: 7835.3 | J28: 9499.3 | K28: 10879.7 | M28: 11241.3 | O28: 11661.4
G29: X
G30: X
A31: A.2.2. Resurse colectate externe, total | C31: 112 | G31: X | J31: =J32+J33+J34 -> 0 | M31: =M32+M33+M34 -> 0 | O31: =O32+O33+O34 -> 0
G32: X
G33: X
G34: X
A35: A.2.3. Resurse generale, total A.2.3=A.1-(A.2.1+A.2.2) | C35: 111 | G35: X | I35: =I14-(I27+I31) -> 109995.8 | J35: =J14-(J27+J31) -> 125190.6 | K35: =K14-(K27+K31) -> 142620.3 | M35: =M14-(M27+M31) -> 150256.8 | O35: =O14-(O27+O31) -> 140756.7
G36: X
A38: B. Sinteza limitelor de cheltuieli (se completează automat în SIMF), mii lei
A39: Denumirea | D39: Cod | G39: 2019 Aprobat | K39: 2020 Estimat | N39: 2021 Estimat
D40: F1 | E40: Cheltuieli (r/c), resurse (S3) | G40: Stabilit | I40: Deviere +/- | J40: Propus | K40: Stabilit | L40: Deviere +/- | M40: Propus | N40: Stabilit | O40: Deviere +/- | P40: Propus
A41: TOTAL | G41: =G42 -> 153500 | J41: =J42 -> 153500 | K41: =K42 -> 161498.1 | M41: =M42 -> 161498.1 | N41: =N42 -> 152418.1 | P41: =P42 -> 152418.1
A42: Cheltuieli recurente | D42: r | G42: =K14 -> 153500 | J42: =G42 -> 153500 | K42: =M14 -> 161498.1 | M42: =K42 -> 161498.1 | N42: =O14 -> 152418.1 | P42: =N42 -> 152418.1
A43: Investiţii capitale | D43: c
A45: TOTAL | G45: =G46+G47 -> 153500 | J45: =J46+J47 -> 153500 | K45: =K46+K47 -> 161498.1 | M45: =M46+M47 -> 161498.1 | N45: =N46+N47 -> 152418.1 | P45: =P46+P47 -> 152418.1
A46: Resurse colectate | G46: =K27 -> 10879.7 | J46: =G46 -> 10879.7 | K46: =M27 -> 11241.3 | M46: =K46 -> 11241.3 | N46: =O27 -> 11661.4 | P46: =N46 -> 11661.4
A47: Resurse generale | G47: =K35 -> 142620.3 | J47: =G47 -> 142620.3 | K47: =M35 -> 150256.8 | M47: =K47 -> 150256.8 | N47: =O35 -> 140756.7 | P47: =N47 -> 140756.7
A50: C. Estimarea resurselor colectate de autorități/instituții, mii lei
A51: Denumirea | C51: Cod | I51: Descriere | K51: 2013 | L51: 2014 | M51: 2015 | N51: 2016 | O51: 2017 | P51: 2018
C52: Sursa (S3S4) | D52: Originea sursei (S5) | E52: Donator (S6) | F52: F3 | G52: P3 (7xx) | H52: Eco k6 | K52: Executat | L52: Executat | M52: Aprobat | N52: Proiect | O52: Estimat | P52: Estimat
A53: TOTAL | K53: X | L53: X
K54: X | L54: X
K55: X | L55: X
K56: X | L56: X
K57: X | L57: X
K58: X | L58: X
A60: D. Estimarea cheltuielilor
O61: Cod
A62: Subgrupa | C62: Protecție persoanelor în etate | O62: 1020
A63: Program | C63: Protecție socială | O63: 90
A64: Subprogram | C64: Protecție a persoanelor în etate | O64: 04
A66: DI. Informație generală (se completează de către autoritatea superioară înainte de a remite formularul pentru completare instituţiilor din subordine)
A67: Scop | D67: Protecția socio-medicală a persoanelor vârstnice, invalizilor cu dezabilități fizice și psihice
A68: Obiective (pe termen mediu, cu accent pe anul pentru care se aprobă programul) | D68: 1. Îmbunătăţirea condiţiilor de trai a persoanelor cu dezabilităţi prin investiţii privind ( procurarea mobilierului, inventarului moale, reparaţii).
A69: Descriere succintă | D69: Asistenta socială se acordă persoanelor cu dezabilităţi psihice şi locomotorii plasaţi permanent sau temporar în instituţie ce necesită servicii socio-medicale în continuu, ce include îngrijirea şi supravegherea de o altă persoană terţă.
A71: DII. Indicatorii de performanţă
A72: Categoria | B72: Cod | C72: Denumirea | J72: Unitatea de măsură | K72: 2016 | L72: 2017 | M72: 2018 | N72: 2019 | O72: 2020 | P72: 2021
K73: Executat | L73: Executat | M73: Aprobat | N73: Aprobat | O73: Estimat | P73: Estimat
A74: De rezultat | B74: r4 | C74: Numarul de beneficiari pentru care s-au imbunatatit conditiile de trai | J74: unitati | K74: X | L74: 1757 | M74: 1822 | N74: 1802 | O74: 1781 | P74: 1781
B75: r5 | C75: Ponderea cheltuielilor pentru imbunatatirea conditiilor de trai din bugetul total al institutiei. | J75: % | K75: X | L75: 57.6 | M75: 11.45 | N75: 17.1 | O75: 16.6 | P75: =(P78/O89)*100 -> 9.8910955
B76: r6 | C76: Ponderea mijloacelor financiare utilizate pentru o călătorie pe an gratuita cu transportul feroviar sau auto de pasageri in cadrul statelor CSI din totalul surselor | J76: % | K76: X | L76: 41.8 | M76: 100 | N76: 100 | O76: 100 | P76: 100
A77: De produs | B77: o16 | C77: 1.Numarul personalului de deservire | J77: unitati | K77: X | L77: 971 | M77: 1013.5 | N77: 1010.5 | O77: 1013.5 | P77: 1013.5
B78: o8 | C78: 2. Suma efectiv cheltuită pentru îmbunătățirea condițiilor de trai a beneficiarilor. | J78: mii lei | K78: X | L78: 11485.4 | M78: 14933.6 | N78: 26026.8 | O78: 26722.5 | P78: 14986.8
B79: o12 | C79: Veteranii si invalizii de razboi care beneficiaza de o calatorie (tur-retur) pe an gratuita cu transportul feroviar sau auto de pasageri in cadrul statelor CSI | J79: unitati | K79: X | L79: 259 | M79: 485 | N79: 485 | O79: 485 | P79: 485
A80: De eficiență | B80: e6 | C80: Cheltuieli medii lunare pentru intretinerea unui beneficiar | J80: lei | K80: X | L80: 6114.97 | M80: 6475.98 | N80: 7056.97 | O80: 7514.42 | P80: =(O89/P74)/12*1000 -> 7089.5611
B81: e9 | C81: Costul mediu a unei călătorii cu transportul feroviar sau auto de pasageri in cadrul statelor CSI | J81: lei | K81: X | L81: 2150.58 | M81: 1855.67 | N81: 1855.67 | O81: 1855.67 | P81: 1855.67
B82: e7 | C82: Norma la alimentatie | J82: lei/zi | K82: X | L82: 40.81 | M82: 47.25 | N82: 49.57 | O82: 52.04 | P82: 54.65
B83: e8 | C83: Norma la medicamente | J83: lei/zi | K83: X | L83: 7.61 | M83: 7.85 | N83: 8.23 | O83: 8.65 | P83: 9.08
O84: =N84*1.05 -> 0
A85: DIII. Cheltuieli, mii lei
A86: Denumirea | E86: Cod | G86: 2016 | I86: 2017 | J86: 2018 | K86: 2019 | M86: 2020 | O86: 2021
E87: P3 | F87: Eco (k6) | G87: Executat | I87: Executat | J87: Aprobat | K87: Aprobat | M87: Estimat | O87: Estimat
A88: Total general | I88: =I89+I152 -> 117831.1 | J88: =J89+J152 -> 134689.9 | K88: =K89+K152 -> 153500 | M88: =M89+M152 -> 161498.1 | O88: =O89+O152 -> 152418.1
A89: Întreținerea azilurilor pentru persoane cu dizabilități și pensionari | E89: 00299 | I89: =I90+I94+I117+I121+I127+I140+I150 -> 117274.1 | J89: =J90+J94+J117+J121+J127+J140+J150 -> 133789.9 | K89: =K90+K94+K117+K121+K127+K140+K150 -> 152600 | M89: =M90+M94+M117+M121+M127+M140+M150 -> 160598.1 | O89: =O90+O94+O117+O121+O127+O140+O150 -> 151518.1
A90: Cheltuieli de personal | F90: 21 | G90: X | I90: =SUM(I91:I93) -> 52671.2 | J90: =SUM(J91:J93) -> 53334.8 | K90: =SUM(K91:K93) -> 65686.3 | M90: =M91+M92+M93 -> 65686.3 | O90: =O91+O92+O93 -> 65686.3
A91: Remunerarea muncii conform statelor | E91: 111/0 | F91: 211180 | G91: X | I91: 41867 | J91: 42401.3 | K91: 52027.8 | M91: 52027.8 | O91: 52027.8
A92: Contribuţiile de asigurare sociale de stat obligatoriu | E92: 112 | F92: 212100 | G92: X | I92: 9055.6 | J92: 9173.6 | K92: 11317.2 | M92: 11317.2 | O92: 11317.2
A93: Prime de asigurare obligatorie de asistenţă medicală achitate de angajatori și angajați pe teritoriu țării | E93: 116/01 | F93: 212210 | G93: X | I93: 1748.6 | J93: 1759.9 | K93: 2341.3 | M93: 2341.3 | O93: 2341.3
A94: Bunuri și servicii | E94: 113 | F94: 22 | G94: X | I94: =SUM(I95:I116) -> 14256.2 | J94: =SUM(J95:J116) -> 17832.3 | K94: =SUM(K95:K116) -> 16835.1 | M94: =SUM(M95:M116) -> 17337.1 | O94: =SUM(O95:O116) -> 17735.6
A95: Energie electrică | E95: 113/01 | F95: 222110 | G95: X | I95: 4817 | J95: 5524.3 | K95: 5059.6 | M95: 5282 | O95: 5403.3
A96: Gaze | E96: 113/02 | F96: 222120 | G96: X | I96: 3433.9 | J96: 4091 | K96: 3957.2 | M96: 4168.1 | O96: 4381.4
A97: Energie termică | E97: 113/04 | F97: 222130 | G97: X
A98: Apă și canalizare | E98: 113/34 | F98: 222140 | G98: X | I98: 2864.7 | J98: 3518.5 | K98: 3348.3 | M98: 3405.6 | O98: 3465.9
A99: Alte servicii energetice și comunale | E99: 113/35 | F99: 222190 | G99: X | I99: 144 | J99: 1694.7 | K99: 157.8 | M99: 160.2 | O99: 161.7
A100: Servicii informaționale | E100: 113/30 | F100: 222210 | G100: X | I100: 169.2 | J100: 143.1 | K100: 158.6 | M100: 159.3 | O100: 154.6
A101: Servicii de telecomunicații | E101: 113/11 | F101: 222220 | G101: X | I101: 103.3 | J101: 139.2 | K101: 136.1 | M101: 137.6 | O101: 143
A102: Servicii de locațiune | E102: 113/19 | F102: 222300 | G102: X
A103: Servicii de transport | E103: 113/13 | F103: 222400 | G103: X | I103: 173.9 | J103: 126.1 | K103: 170.9 | M103: 170.9 | O103: 163.6
A104: Servicii de reparații curente | E104: 113/17,18 | F104: 222500 | G104: X | I104: 1671.9 | J104: 1461 | K104: 2609.2 | M104: 2609.2 | O104: 2609.2
A105: Formare profesională | E105: 113/21 | F105: 222600 | G105: X | I105: 127.6 | J105: 162.2 | K105: 218.7 | M105: 218.7 | O105: 221.7
A106: Deplasări de serviciu în interiorul ţării | E106: 114/01 | F106: 222710 | G106: X | I106: 15 | J106: 22.6 | K106: 29.6 | M106: 29.6 | O106: 29.6
A107: Deplasări de serviciu peste hotare | E107: 114/02 | F107: 222720 | G107: X | I107: 2.4 | J107: 27 | O107: 20
A108: Sevicii medicale | E108: 113/45 | F108: 222800 | G108: X | I108: 206.7 | J108: 319.5 | K108: 249.7 | M108: 249.7 | O108: 245.5
A109: Servicii editoriale | E109: 113/22 | F109: 222910 | G109: X | I109: 27.9 | J109: 53 | K109: 51 | M109: 51 | O109: 53
A110: Servicii de de protocol | E110: 113/23 | F110: 222920 | G110: X
A111: Servicii de pază | E111: 113/29 | F111: 222940 | G111: X | I111: 6.4 | J111: 1.2 | K111: 6.7 | M111: 6.7 | O111: 6.7
A112: Servicii judiciare | F112: 222950 | G112: X | I112: 24 | J112: 5.5
...

Sheet 90 06 ANAS 00348 00275 
N1: Formularul nr.4
E2: Propuneri de buget
D3: pentru anul 2019 și estimări pe anii 2020-2021
P5: Cod
A6: Sursa | D6: Bugetul de stat | P6: 02
A7: Autoritatea publică | D7: Ministerul Sănătății, Muncii și Protecției Sociale | P7: 0221
A8: Instituţia | D8: Agenția Națională Asistență Socială | P8: 2369
A10: A. Sinteza propunerii de buget (se completează automat în SIMF), mii lei
A12: Denumirea | E12: Cod | G12: 2016 | I12: 2017 | J12: 2018 | K12: 2019 | M12: 2020 | O12: 2021
E13: F1 | F13: Eco (k2) | G13: Executat | I13: Executat | J13: Aprobat | K13: Aprobat | M13: Estimat | O13: Estimat
A14: A.1. CHELTUIELI, total | E14: 10 | G14: X | I14: =I15+I16+I17+I19+I20 -> 49237.3 | J14: =J15+J16+J17+J19+J20 -> 58417.1 | K14: =K15+K16+K17+K19+K20 -> 125911.3 | M14: =M15+M16+M17+M19+M20 -> 62101.1 | O14: =O15+O16+O17+O19+O20 -> 63140.5
A15: Cheltuieli de personal | F15: 21 | G15: X | I15: =I104+I157+I210 -> 24001.7 | J15: =J104+J157+J210 -> 25308 | K15: =K104+K157+K210 -> 27526.9 | M15: =M104+M157+M210 -> 27854.1 | O15: =O104+O157+O210 -> 28273.9
A16: Bunuri și servicii | F16: 22 | G16: X | I16: =I108+I161+I214+I258 -> 6826.3 | J16: =J108+J161+J214+J258 -> 9208.7 | K16: =K108+K161+K214+K258 -> 10621.5 | M16: =M108+M161+M214+M258 -> 10642.2 | O16: =O108+O161+O214+O258 -> 10654.1
A17: Indemnizații pentru incapacitatea temporară de muncă achitate din mijloacele financiare ale angajatorului | F17: 27 | G17: X | I17: =I127+I183+I234+I317 -> 2736.3 | J17: =J127+J183+J234+J317 -> 3367.7 | K17: =K127+K183+K234+K317 -> 3089.9 | M17: =M127+M183+M234+M317 -> 3517.3 | O17: =O127+O183+O234+O317 -> 3987.2
A18: Alte cheltuieli | F18: 28 | J18: =J128+J184+J235 -> 0 | K18: =K128+K184+K235 -> 0 | M18: =M128+M184+M235 -> 0 | O18: =O128+O184+O235 -> 0
A19: Mijloace fixe | F19: 31 | G19: X | I19: =I138+I191+I242 -> 3687.3 | J19: =J138+J191+J242 -> 7578.9 | K19: =K138+K191+K242 -> 6981.2 | M19: =M138+M191+M242 -> 5921.3 | O19: =O138+O191+O242 -> 5532.3
A20: Stocuri și materiale circulante | F20: 33 | G20: X | I20: =I146+I198+I247 -> 11985.7 | J20: =J146+J198+J247 -> 12953.8 | K20: =K146+K198+K247+K322 -> 77691.8 | M20: =M146+M198+M247 -> 14166.2 | O20: =O146+O198+O247 -> 14693
A22: Denumirea | C22: Cod | G22: 2016 | I22: 2017 | J22: 2018 | K22: 2019 | M22: 2020 | O22: 2021
C23: S3 | D23: S5 | E23: F1 | F23: Eco (k2) | G23: Executat | I23: Executat | J23: Aprobat | K23: Aprobat | M23: Estimat | O23: Estimat
A24: A.2.RESURSE, total (A2=A2.1+A2.2+A2.3) | G24: X | I24: =I25+I29+I33 -> 49237.3 | J24: =J25+J29+J33 -> 58417.1 | K24: =K25+K29+K33 -> 125911.3 | L24: =L25+L29+L33 -> 0 | M24: =M25+M29+M33 -> 62101.1 | N24: =N25+N29+N33 -> 0 | O24: =O25+O29+O33 -> 63140.5 | P24: =P25+P29+P33 -> 0
A25: A.2.1. Resurse colectate interne, total | C25: 112 | D25: 112 97 1 | E25: 10 | G25: X | I25: =I26+I27+I28 -> 22.3 | J25: =J26+J27+J28 -> 26 | K25: =K26+K27+K28 -> 35.5 | M25: =M26+M27+M28 -> 35.5 | O25: =O26+O27+O28 -> 35.5
A26: Alte venituri | F26: 14 | G26: X | I26: 22.3 | J26: 26 | K26: 35.5 | M26: 35.5 | O26: 35.5
G27: X
G28: X
A29: A.2.2. Resurse colectate externe, total | C29: 112 | G29: X | J29: =J30+J31+J32 -> 0 | M29: =M30+M31+M32 -> 0 | O29: =O30+O31+O32 -> 0
G30: X
G31: X
G32: X
A33: A.2.3. Resurse generale, total A.2.3=A.1-(A.2.1+A.2.2) | C33: 111 | G33: X | I33: =I14-(I25+I29) -> 49215 | J33: =J14-(J25+J29) -> 58391.1 | K33: =K14-(K25+K29) -> 125875.8 | M33: =M14-(M25+M29) -> 62065.6 | O33: =O14-(O25+O29) -> 63105
G34: X | I34: X
A36: B. Sinteza limitelor de cheltuieli (se completează automat în SIMF), mii lei
A37: Denumirea | D37: Cod | G37: 2019 Aprobat | K37: 2020 Estimat | N37: 2021 Estimat
D38: F1 | E38: Cheltuieli (r/c), resurse (S3) | G38: Stabilit | I38: Deviere +/- | J38: Propus | K38: Stabilit | L38: Deviere +/- | M38: Propus | N38: Stabilit | O38: Deviere +/- | P38: Propus
A39: TOTAL | G39: =G40 -> 125911.3 | J39: =J40 -> 125911.3 | K39: =K40 -> 62101.1 | M39: =M40 -> 62101.1 | N39: =N40 -> 63140.5 | P39: =P40 -> 63140.5
A40: Cheltuieli recurente | D40: r | G40: =K14 -> 125911.3 | J40: =G40 -> 125911.3 | K40: =M14 -> 62101.1 | M40: =K40 -> 62101.1 | N40: =O14 -> 63140.5 | P40: =N40 -> 63140.5
A41: Investiţii capitale | D41: c
A43: TOTAL | G43: =G44+G45 -> 125911.3 | J43: =J44+J45 -> 125911.3 | K43: =K44+K45 -> 62101.1 | M43: =M44+M45 -> 62101.1 | N43: =N44+N45 -> 63140.5 | P43: =P44+P45 -> 63140.5
A44: Resurse colectate | G44: =K25 -> 35.5 | J44: =G44 -> 35.5 | K44: =M25 -> 35.5 | M44: =K44 -> 35.5 | N44: =O25 -> 35.5 | P44: =N44 -> 35.5
A45: Resurse generale | G45: =K33 -> 125875.8 | J45: =G45 -> 125875.8 | K45: =M33 -> 62065.6 | M45: =K45 -> 62065.6 | N45: =O33 -> 63105 | P45: =N45 -> 63105
A48: C. Estimarea resurselor colectate de autorități/instituții, mii lei
A49: Denumirea | C49: Cod | I49: Descriere | K49: 2016 | L49: 2017 | M49: 2018 | N49: 2019 | O49: 2020 | P49: 2021
C50: Sursa (S3S4) | D50: Originea sursei (S5) | E50: Donator (S6) | F50: F3 | G50: P3 (7xx) | H50: Eco k6 | K50: Executat | L50: Executat | M50: Aprobat | N50: Aprobat | O50: Estimat | P50: Estimat
A51: TOTAL | K51: X | L51: X
K52: X | L52: X
K53: X | L53: X
K54: X | L54: X
K55: X | L55: X
K56: X | L56: X
A58: D. Estimarea cheltuielilor
O59: Cod
A60: Subgrupa | C60: Protecție a familiei și a copiilor | O60: 1040
A61: Program | C61: Protecție socială | O61: 90
A62: Subprogram | C62: Protecție a familiei și copilului | O62: 06
A64: DI. Informație generală (se completează de către autoritatea superioară înainte de a remite formularul pentru completare instituţiilor din subordine)
A65: Scop | D65: Protecția socială a copiilor aflați în dificultate, inclusiv a persoanelor minore cu dizabilități mintale. Crearea condiţiilor şi protecţiei sociale pentru copiii orfani şi tutelari din instituţiile de învăţămînt
A66: Obiective (pe termen mediu, cu accent pe anul pentru care se aprobă programul) | D66: Îmbunătăţirea condiţiilor de trai a a copiilor aflați în dificultate, inclusiv a persoanelor minore cu dizabilități mintale. Asigurarea elevilor şi a studenţiorfani/tutelari cu alimentaţie, cu materiale didactice, inventar gospodăresc, obiecte de igienă personală, acordarea ajutorului material pentru îmbrăcăminte, încălţămînte şi inventar moale, ajutorului material
A67: Descriere succintă | D67: Dezvoltarea sistemului serviciilor sociale comunitare prin îmbunătățirea calității serviciilor prestate de instituțiile sociale. Protecția instituțională a copiilor aflați în dificultate, precum și a invalizilor minori cu deficiențe mintale cazați în instituții sociale din subordinea ministerului. Acest program prevede acordarea protecţiei sociale elevilor/studenţilor orfani şi celor aflaţi sub tutelă din instituţiile de învăţămînt subordonate Ministerului Sănătăţii
A69: DII. Indicatorii de performanţă
A70: Categoria | B70: Cod | C70: Denumirea | J70: Unitatea de măsură | K70: 2016 | L70: 2017 | M70: 2018 | N70: 2019 | O70: 2020 | P70: 2021
K71: Executat | L71: Executat | M71: Aprobat | N71: Aprobat | O71: Estimat | P71: Estimat
A72: De rezultat | B72: r4 | C72: Numarul de beneficiari în mediu asistați pe durata unui an | J72: unitati | K72: X | L72: 78 | M72: 79 | N72: 79 | O72: 79 | P72: 79
B73: r1 | C73: Numarul de beneficiari pentru care s-au imbunatatit conditiile de trai. | J73: unități | K73: X | L73: 474 | M73: 490 | N73: 481 | O73: 481 | P73: 481
B74: r7 | C74: Serviciul de asistență telefonică gratuită pentru copii, gratuit 24/24 | J74: % | K74: X | L74: 100 | M74: 100 | N74: 100 | O74: 100 | P74: 100
B75: r5 | C75: Ponderea cheltuielilor pentru imbunatatirea conditiilor de trai din bugetul total al institutiei. | J75: % | K75: X | L75: 15.8 | M75: 25 | N75: =N80/(K103+K209)*100 -> 15.855754 | O75: =O80/(M103+M209)*100 -> 13.878832 | P75: =P80/(O103+O209)*100 -> 13.647976
B76: r6 | C76: 1.Cota de înmatriculare a copiilor orfani din numărul total de copii căror li se acordă protecţie socială, admişi la studii. | J76: % | K76: X | L76: 55.2 | M76: 74.2 | N76: 72.7 | O76: 62.2 | P76: 70.6
B77: r2 | C77: 2.Rata de absolvire a copiilor orfani din numărul total al absolvenţilor. căror li se acordă protecţie socială, | J77: % | K77: X | L77: 72.7 | M77: 53.8 | N77: 94.1 | O77: 50 | P77: 52.6
B78: r3 | C78: 3. Cota copiilor orfani din numărul mediu total de copii căror li se acordă protecţie socială, | J78: % | K78: X | L78: 65.5 | M78: 72.6 | N78: 58.9 | O78: 59.7 | P78: 61.9
A79: De produs | B79: o16 | C79: Numarul personalului de deservire | J79: unitati | K79: X | L79: 387 | M79: 428 | N79: 428 | O79: 428 | P79: 428
B80: o9 | C80: Suma efectiv cheltuită pentru îmbunătățirea condițiilor de trai a beneficiarilor. | J80: mii lei | K80: X | L80: 4234.8 | M80: 6394.3 | N80: =K117+K138+K153+K154+K224+K242+K254+K255 -> 8462.2 | O80: =M117+M138+M153+M154+M224+M242+M254+M255 -> 7356.1 | P80: =O117+O138+O153+O154+O171+O191+O205+O206 -> 7297.3
B81: o10 | C81: Numărul personalului, care asigură reabilitarea | J81: unități | K81: X | L81: 36.2 | M81: 36.5 | N81: 36.5 | O81: 36.5 | P81: 36.5
B82: o11 | C82: Numărul total al apelurilor preluate | J82: unități | K82: X | L82: 8137 | M82: 8137 | N82: 8137 | O82: 8137 | P82: 8137
B83: o12 | C83: Numărul de paturi/zile | J83: unități | K83: X | L83: 16313 | M83: 16473 | N83: 16434 | O83: 16800 | P83: 16800
B84: o1 | C84: 1.Numarul copiilor orfani inmatriculati la studii | J84: unităţi | K84: X | L84: 16 | M84: 23 | N84: 24 | O84: 23 | P84: 24
B85: o2 | C85: 2.Numarul copiilor tutelari inmatriculati la studii | J85: unităţi | K85: X | L85: 13 | M85: 8 | N85: 9 | O85: 14 | P85: 10
B86: o3 | C86: 3.Numarul absolvenţilor orfani | J86: unităţi | K86: X | L86: 16 | M86: 14 | N86: 16 | O86: 8 | P86: 10
B87: o4 | C87: 4.Numarul absolvenţilor tutelari | J87: unităţi | K87: X | L87: 6 | M87: 12 | N87: 1 | O87: 8 | P87: 9
B88: o5 | C88: 5.Numărul mediu de copii orfani | J88: unităţi | K88: X | L88: 74.1 | M88: 94.7 | N88: 68 | O88: 79.7 | P88: 94
B89: o6 | C89: 6.Numărul mediu de copii tutelari | J89: unităţi | K89: X | L89: 39 | M89: 35.7 | N89: 47.5 | O89: 53.7 | P89: 57.8
B90: o7 | C90: 7. Numărul de zile în care copii orfani au fost asiguraţi cu hrană | J90: zi/om | K90: X | L90: 27259 | M90: 34634 | N90: 24872 | O90: 29150 | P90: 34394
B91: o8 | C91: 8. Numărul de zile în care copii tutelari au fost asiguraţi cu hrană | J91: zi/om | K91: X | L91: 14224 | M91: 13042 | N91: 17384 | O91: 19634 | P91: 21158
A92: De eficiență | B92: e6 | C92: Cheltuieli medii lunare pentru intretinerea unui beneficiar | J92: lei | K92: X | L92: 8920.37 | M92: 9372.78 | N92: =(K103+K209)/N73/12*1000 -> 9246.3444 | O92: =(M103+M209)/O73/12*1000 -> 9182.6577 | P92: =(O103+O209)/P73/12*1000 -> 9263.3403
B93: e7 | C93: Norma la alimentatie | J93: lei/zi | K93: X | L93: 40.24 | M93: 41.88 | N93: =M93*1.049 -> 43.93212 | O93: =N93*1.05 -> 46.128726 | P93: =O93*1.05 -> 48.435162
B94: e8 | C94: Norma la medicamente | J94: lei/zi | K94: X | L94: 8.16 | M94: 7.73 | N94: =M94*1.049 -> 8.10877 | O94: =N94*1.05 -> 8.5142085 | P94: =O94*1.05 -> 8.9399189
B95: e9 | C95: Costul mediu al unui apel | J95: lei | K95: X | L95: 124.97 | M95: 122.9 | N95: 122.9 | O95: 122.9 | P95: 122.9
B96: e1 | C96: 1. Cheltuielile medii anuale de asigurare socială pentru un copil orfan/tutelar | J96: lei | K96: X | L96: 23523.4 | M96: 2507.7 | N96: 2467.3 | O96: 2439.4 | P96: 2438.5
B97: e2 | C97: 2.Cheltuielile efective anuale de asigurare a copiilor orfani/tutelari cu alimentaţie | J97: lei | K97: X | L97: 145030 | M97: 1664000 | N97: 1475000 | O97: 1702900 | P97: 1943100
A99: DIII. Cheltuieli, mii lei
A100: Denumirea | E100: Cod | G100: 2016 | I100: 2017 | J100: 2018 | K100: 2019 | M100: 2020 | O100: 2021
E101: P3 | F101: Eco (k6) | G101: Executat | I101: Executat | J101: Aprobat | K101: Aprobat | M101: Estimat | O101: Estimat
A102: Total general | I102: =I103+I156+I209+I257+I262 -> 49237.3 | J102: =J103+J156+J209+J257+J262 -> 58417.1 | K102: =K103+K156+K209+K257+K262+K322 -> 125911.3 | M102: =M103+M156+M209+M257+M262 -> 62101.1 | O102: =O103+O156+O209+O257+O262 -> 63140.5
A103: Total general p/u Casele- internat | E103: 00285 | I103: =I104+I108+I127+I130+I138+I146 -> 39981.4 | J103: =J104+J108+J127+J130+J138+J146 -> 46991.1 | K103: =K104+K127+K130+K138+K146+K108 -> 50133.4 | M103: =M104+M108+M127+M130+M138+M146 -> 50520.5 | O103: =O104+O108+O127+O130+O138+O146 -> 50917.9
A104: Cheltuieli de personal | F104: 21 | G104: X | I104: =I105+I106+I107 -> 20865.8 | J104: =J105+J106+J107 -> 21992.7 | K104: =K105+K106+K107 -> 23842.3 | M104: =M105+M106+M107 -> 24061.3 | O104: =O105+O106+O107 -> 24341.3
A105: Remunerarea muncii conform statelor | E105: 111/0 | F105: 211180 | G105: X | I105: 16575.6 | J105: 17462.2 | K105: 18892.6 | M105: 19066.1 | O105: 19287.9
A106: Contribuţiile de asigurare sociale de stat obligatoriu | E106: 112 | F106: 212100 | G106: X | I106: 3613.7 | J106: 3782.7 | K106: 4099.3 | M106: 4137 | O106: 4185.3
A107: Prime de asigurare obligatorie de asistenţă medicală achitate de angajatori și angajați pe teritoriu țării | E107: 116/01 | F107: 212210 | G107: X | I107: 676.5 | J107: 747.8 | K107: 850.4 | M107: 858.2 | O107: 868.1
A108: Bunuri și servicii | E108: 113 | F108: 22 | G108: X | I108: =SUM(I109:I126) -> 5430 | J108: =SUM(J109:J126) -> 7250.7 | K108: =SUM(K109:K126) -> 7885.8 | M108: =SUM(M109:M126) -> 7888 | O108: =SUM(O109:O126) -> 7887.5
A109: Energie electrică | E109: 113/01 | F109: 222110 | G109: X | I109: 1560.9 | J109: 1904.9 | K109: 1804.9 | M109: 1805.5 | O109: 1806.5
A110: Gaze | E110: 113/02 | F110: 222120 | G110: X | I110: 2099.6 | J110: 2796.9 | K110: 2696.5 | M110: 2698.1 | O110: 2696.6
A111: Energie termică | E111: 113/04 | F111: 222130 | G111: X
A112: Apă și canalizare | E112: 113/34 | F112: 222140 | G112: X | I112: 948.4 | J112: 1262.4 | K112: 1833.5 | M112: 1833.5 | O112: 1833.5
...

Sheet 90 08 Prot somer 
N1: Formularul nr.4
E2: Propuneri de buget
D3: pentru anul 2019 și estimări pe anii 2020-2021
P5: Cod
A6: Sursa | D6: Bugetul de stat | P6: 02
A7: Autoritatea publică | D7: Ministerul Sănătății, Muncii și Protecției Sociale | P7: 0221
A8: Instituţia | D8: Agenția Națională și teritoriale pentru Ocuparea Forței de Muncă | P8: 2368
A10: A. Sinteza propunerii de buget (se completează automat în SIMF), mii lei
A12: Denumirea | E12: Cod | G12: 2016 | I12: 2017 | J12: 2018 | K12: 2019 | M12: 2020 | O12: 2021
E13: F1 | F13: Eco (k2) | G13: Executat | I13: Executat | J13: Aprobat | K13: Aprobat | M13: Estimat | O13: Estimat
A14: A.1. CHELTUIELI, total | E14: 10 | G14: X | I14: =I15+I16+I17+I18 -> 27715.5 | J14: =J15+J16+J17+J18 -> 32886.7 | K14: =K15+K16+K17+K18 -> 34446.4 | M14: =M15+M16+M17+M18 -> 37320.9 | O14: =O15+O16+O17+O18 -> 39836.9
A15: Bunuri și servicii | F15: 22 | G15: X | I15: =I80 -> 5738.4 | J15: =J80 -> 6103.2 | K15: =K80 -> 12076.8 | M15: =M80 -> 15184.3 | O15: =O80 -> 15826.8
A16: Prestații sociale | F16: 27 | G16: X | I16: =I89 -> 17591.9 | J16: =J89 -> 20854.1 | K16: =K89 -> 12861 | M16: =M89 -> 10099.3 | O16: =O89 -> 10967.7
A17: Alte cheltuieli | F17: 28 | G17: X | I17: =I91 -> 4369.7 | J17: =J91 -> 5599.9 | K17: =K91 -> 9158.6 | M17: =M91 -> 11687.3 | O17: =O91 -> 12692.4
F18: 33 | I18: =I94 -> 15.5 | J18: =J94 -> 329.5 | K18: =K94 -> 350 | M18: =M94 -> 350 | O18: =O94 -> 350
A20: Denumirea | C20: Cod | G20: 2016 | I20: 2017 | J20: 2018 | K20: 2019 | M20: 2020 | O20: 2021
C21: S3 | D21: S5 | E21: F1 | F21: Eco (k2) | G21: Executat | I21: Executat | J21: Aprobat | K21: Aprobat | M21: Estimat | O21: Estimat
A22: A.2.RESURSE, total (A2=A2.1+A2.2+A2.3) | G22: X | I22: =(I23+I27+I31) -> 27715.5 | J22: =(J23+J27+J31) -> 32886.7 | K22: =(K23+K27+K31) -> 34446.4 | L22: =L23+L27+L31 -> 0 | M22: =M23+M27+M31 -> 37320.9 | N22: =N23+N27+N31 -> 0 | O22: =O23+O27+O31 -> 39836.9 | P22: =P23+P27+P31 -> 0
A23: A.2.1. Resurse colectate interne, total | C23: 112 | D23: 11297 1 | G23: X | J23: =J24+J25+J26 -> 0 | K23: =K24+K25+K26 -> 0 | M23: =M24+M25+M26 -> 0 | O23: =O24+O25+O26 -> 0
G24: X
G25: X
G26: X
A27: A.2.2. Resurse colectate externe, total | C27: 112 | G27: X | J27: =J28+J29+J30 -> 0 | K27: =K28+K29+K30 -> 0 | M27: =M28+M29+M30 -> 0 | O27: =O28+O29+O30 -> 0
G28: X
G29: X
G30: X
A31: A.2.3. Resurse generale, total A.2.3=A.1-(A.2.1+A.2.2) | C31: 111 | G31: X | I31: =I14-(I23+I27) -> 27715.5 | J31: =J14-(J23+J27) -> 32886.7 | K31: =K14-(K23+K27) -> 34446.4 | M31: =M14-(M23+M27) -> 37320.9 | O31: =O14-(O23+O27) -> 39836.9
G32: X
A34: B. Sinteza limitelor de cheltuieli (se completează automat în SIMF), mii lei
A35: Denumirea | D35: Cod | G35: 2019 Aprobat | K35: 2020 Estimat | N35: 2021 Estimat
D36: F1 | E36: Cheltuieli (r/c), resurse (S3) | G36: Stabilit | I36: Deviere +/- | J36: Propus | K36: Stabilit | L36: Deviere +/- | M36: Propus | N36: Stabilit | O36: Deviere +/- | P36: Propus
A37: TOTAL | G37: =G38 -> 34446.4 | J37: =J38 -> 34446.4 | K37: =K38 -> 37320.9 | M37: =M38 -> 37320.9 | N37: =N38 -> 39836.9 | P37: =P38 -> 39836.9
A38: Cheltuieli recurente | D38: r | G38: =K14 -> 34446.4 | J38: =G38 -> 34446.4 | K38: =M14 -> 37320.9 | M38: =K38 -> 37320.9 | N38: =O14 -> 39836.9 | P38: =N38 -> 39836.9
A39: Investiţii capitale | D39: c
A41: TOTAL | G41: =G43 -> 34446.4 | J41: =J43 -> 34446.4 | K41: =K43 -> 37320.9 | M41: =M43 -> 37320.9 | N41: =N43 -> 39836.9 | P41: =P43 -> 39836.9
A42: Resurse colectate
A43: Resurse generale | G43: =K31 -> 34446.4 | J43: =G43 -> 34446.4 | K43: =M31 -> 37320.9 | M43: =K43 -> 37320.9 | N43: =O31 -> 39836.9 | P43: =N43 -> 39836.9
A46: C. Estimarea resurselor colectate de autorități/instituții, mii lei
A47: Denumirea | C47: Cod | I47: Descriere | K47: 2016 | L47: 2017 | M47: 2018 | N47: 2019 | O47: 2020 | P47: 2021
C48: Sursa (S3S4) | D48: Originea sursei (S5) | E48: Donator (S6) | F48: F3 | G48: P3 (7xx) | H48: Eco k6 | K48: Executat | L48: Executat | M48: Aprobat | N48: Aprobat | O48: Estimat | P48: Estimat
A49: TOTAL | K49: X | L49: X
K50: X | L50: X
K51: X | L51: X
K52: X | L52: X
K53: X | L53: X
K54: X | L54: X
A56: D. Estimarea cheltuielilor
O57: Cod
A58: Subgrupa | C58: Protecție în caz de șomaj | O58: 1050
A59: Program | C59: Protecție socială | O59: 90
A60: Subprogram | C60: Protecție a șomerilor | O60: 08
A62: DI. Informație generală (se completează de către autoritatea superioară înainte de a remite formularul pentru completare instituţiilor din subordine)
A63: Scop | D63: Sporirea numărului de persoane implicate în măsuri active și angajate în cîmpul muncii.
A64: Obiective (pe termen mediu, cu accent pe anul pentru care se aprobă programul) | D64: 1. Sporirea angajării cu 0,5% a persoanelor plasate în cîmpul municii față de anul precedent 2.Angajarea a cel puțin 80 % din absolvenții cursurilor de calificare, recalificare și perfecționare.
A65: Descriere succintă | D65: Protecţie socială a persoanelor aflate în căutarea unui loc de muncă se realizează prin măsuri active şi pasive pe piaţa muncii. Măsurile active includ:medierea muncii, informarea şi consilierea profesională, formarea profesională a persoanelor aflate în căutarea unui loc de muncă,antrenarea şomerilor la lucrări publice, organizarea seminarelor informative cu şomerii, agenţi economici, primari, organizarea tîrgurilor locurilor de muncă libere, măsuri ce au ca scop sporirea şanselor de angajare în cîmpul muncii a şomerilor, cît şi satisfacerea atît a cererii cît şi a ofertei forţei de muncă. Măsurile pasive includ plata unor îndemnizații bănești pe perioade limitate, conform legii.
A67: DII. Indicatorii de performanţă
A68: Categoria | B68: Cod | C68: Denumirea | J68: Unitatea de măsură | K68: 2016 | L68: 2017 | M68: 2018 | N68: 2019 | O68: 2020 | P68: 2021
K69: Executat | L69: Executat | M69: Aprobat | N69: Aprobat | O69: Estimat | P69: Estimat
A70: De rezultat | B70: r1 | C70: Ponderea persoanelor plasate in cimpul muncii din total someri inregistrati | J70: % | K70: X | L70: 39.5 | M70: 35.2 | N70: 35.3 | O70: 35.4 | P70: 35.4
B71: r2 | C71: Ponderea persoanelor angajate in cimpul muncii din total absolventi a cursurilor de formare profesionala | J71: % | K71: X | L71: 85 | M71: 80 | N71: 80 | O71: 80 | P71: 80
A72: De produs | B72: o1 | C72: Numarul persoanelor plasate in cimpul muncii | J72: persoane | K72: X | L72: 16648 | M72: 17773 | N72: 17861 | O72: 17950 | P72: 17950
B73: o2 | C73: Numărul persoanelor care au absolvit cursurile de formare profesională | J73: persoane | K73: X | L73: 2628 | M73: 2910 | N73: 2700 | O73: 2700 | P73: 2700
A74: De eficiență | B74: e1 | C74: Costul mediu al unei persoane instruite | J74: mii lei | K74: X | L74: 3.3 | M74: 3.7 | N74: 9.1 | O74: 9.9 | P74: 10.7
A76: DIII. Cheltuieli, mii lei
A77: Denumirea | E77: Cod | G77: 2016 | I77: 2017 | J77: 2018 | K77: 2019 | M77: 2020 | O77: 2021
E78: P3 | F78: Eco (k6) | G78: Executat | I78: Executat | J78: Aprobat | K78: Aprobat | M78: Estimat | O78: Estimat
A79: Protecția în caz de șomaj | E79: 00290 | I79: =I80+I89+I91+I99+I94 -> 27715.5 | J79: =J80+J89+J91+J96+J99 -> 32886.7 | K79: =K80+K89+K91+K96 -> 34446.4 | M79: =M80+M89+M91+M96+M99 -> 37320.9 | O79: =O80+O89+O91+O96+O99 -> 39836.9
A80: Bunuri și servicii | F80: 22 | H80: X | I80: =SUM(I81:I88) -> 5738.4 | J80: =J81+J82+J84+J86+J87+J88 -> 6103.2 | K80: =K81+K82+K84+K86+K87+K88 -> 12076.8 | M80: =M81+M82+M84+M86+M87+M88 -> 15184.3 | O80: =O81+O82+O84+O86+O87+O88 -> 15826.8
A81: Servicii informaționale | E81: 113/30 | F81: 222210 | G81: X | I81: 36.7 | J81: 15 | K81: 20 | M81: 20 | O81: 20
A82: Servicii de telecomunicații | E82: 113/11 | F82: 222220 | G82: X | I82: 16.9 | J82: 26.5 | K82: 30 | M82: 30 | O82: 30
A83: Deplasări de serviciu în interiorul ţării | E83: 114/01 | F83: 222710 | G83: X | I83: 10.5
A84: Servicii bancare 113/47 | E84: 113/47 | F84: 222910 | H84: X | I84: 92.2 | J84: 60 | K84: 50 | M84: 60 | O84: 60
A85: Servicii de de protocol | E85: 113/23 | F85: 222920 | G85: X | I85: 8.1
A86: Servicii editoriale | E86: 113/22 | F86: 222970 | G86: X | I86: 97 | J86: 117.8 | K86: 115 | M86: 127.8 | O86: 139.8
A87: Servicii poștale | E87: 113/11 | F87: 222980 | G87: X | I87: 0.6
A88: Servicii neatribuite altor alineate | F88: 222990 | H88: X | I88: 5476.4 | J88: 5883.9 | K88: 11861.8 | M88: 14946.5 | O88: 15577
A89: Prestații sociale | F89: 27 | H89: X | I89: =I90 -> 17591.9 | J89: =J90 -> 20854.1 | K89: =K90 -> 12861 | M89: =M90 -> 10099.3 | O89: =O90 -> 10967.7
A90: Alte prestații de asistență socială | E90: 135/25 | F90: 272900 | H90: X | I90: 17591.9 | J90: 20854.1 | K90: 12861 | M90: 10099.3 | O90: 10967.7
A91: Alte cheltuieli | F91: 28 | H91: X | I91: =I92+I93 -> 4369.7 | J91: =J92+J93 -> 5599.9 | K91: =K92+K93 -> 9158.6 | M91: =M92+M93 -> 11687.3 | O91: =O92+O93 -> 12692.4
A92: Burse sociale studenților autohtoni | E92: 135/07 | F92: 281211 | H92: X
A93: Alte pllăți asociate cu bursa | E93: 135/07 | F93: 281230 | H93: X | I93: 4369.7 | J93: 5599.9 | K93: 9158.6 | M93: 11687.3 | O93: 12692.4
A94: Stocuri și materiale circulante | F94: 33 | G94: X | I94: =SUM(I95:I97) -> 15.5 | J94: =J96 -> 329.5 | K94: =K96 -> 350 | M94: =M96 -> 350 | O94: =O96 -> 350
A95: Produse alimentare | E95: 113/09,15 | F95: 333110 | I95: 6.8
A96: Materiale de uz gospodăresc și rechizite de birou | E96: 113/03 | F96: 336110 | G96: X | I96: 6.5 | J96: 329.5 | K96: 350 | M96: 350 | O96: 350
A97: Alte materiale | E97: 113/03 | F97: 339110 | G97: X | I97: 2.2
A98: Elaborarea standartelor ocupaționale | E98: 00290
A99: Bunuri și servicii | F99: 22 | I99: =I100 -> 0 | J99: =J100 -> 0 | K99: =K100 -> 0 | M99: =M100 -> 0 | O99: =O100 -> 0
A100: Servicii neatribuite altor aliniate | F100: 222990
A101: E. Estimarea investiţiilor capitale pe proiecte, mii lei
A102: Denumirea | E102: Cod | I102: Costul total al proiectului | J102: Anul de lansare a proiectului | K102: Soldul costului de deviz la 01.01.2015 | L102: 2015 | M102: Soldul costului de deviz la 01.01 2016 | N102: 2016 | O102: 2017 | P102: 2018
E103: P1P2 | F103: P3 | G103: Proiect | H103: Eco (k6) | L103: Executare scontată | N103: Proiect | O103: Estimat | P103: Estimat
A104: 1 | E104: 2 | F104: 3 | G104: 4 | H104: 5 | I104: 6 | J104: 7 | K104: 8 | L104: 9 | M104: 10=(8-9) | N104: 11 | O104: 12 | P104: 13
A113: Secretar General de Stat /________________________/ __Boris Gîlca /
A114: Şeful subdiviziunii responsabile de planificarea bugetului /___________________/___Anatolie Gudumac____/
A115: Şeful subdiviziunii responsabile de politici /___________________/__Marcela Țîrdea___/
A116: Data prezentării _______________________
A118: Abrevieri: AB – anul de bază (curent), AB-2 şi AB-1 – anii precedenţi anului de bază, AB+1 – anul viitor pentru care se elaborează bugetul; AB+2 şi AB+3 – anii următori anului pentru care se elaborează bugetul.

Sheet 90 09  Asig locuin
N1: Formularul nr.4
E2: Propuneri de buget
D3: pentru anul 2019 și estimări pe anii 2020-2021
P5: Cod
A6: Sursa | D6: Bugetul de stat | P6: 02
A7: Autoritatea publică | D7: Ministerul Sănătății, Muncii și Protecției Sociale | P7: 0221
A8: Instituţia | D8: Ministerul Sănătății, Muncii și Protecției Sociale
A10: A. Sinteza propunerii de buget (se completează automat în SIMF), mii lei
A12: Denumirea | E12: Cod | G12: 2016 | I12: 2017 | J12: 2018 | K12: 2019 | M12: 2020 | O12: 2021
E13: F1 | F13: Eco (k2) | G13: Executat | I13: Executat | J13: Aprobat | K13: Aprobat | M13: Estimat | O13: Estimat
A14: A.1. CHELTUIELI, total | E14: 10 | F14: 31 | G14: X | I14: =I15 -> 10995 | J14: =J15 -> 16385.3 | K14: =K15 -> 1000 | M14: =M15 -> 0 | O14: =O15 -> 0
A15: Asigurarea cu locuințe | F15: 319210 | I15: =I81 -> 10995 | J15: =J80 -> 16385.3 | K15: =K80 -> 1000 | M15: =M80 -> 0 | O15: =O80 -> 0
A18: Denumirea | C18: Cod | G18: 2016 | I18: 2017 | J18: 2018 | K18: 2019 | M18: 2020 | O18: 2021
C19: S3 | D19: S5 | E19: F1 | F19: Eco (k2) | G19: Executat | I19: Executat | J19: Aprobat | K19: Aprobat | M19: Estimat | O19: Estimat
A20: A.2.RESURSE, total (A2=A2.1+A2.2+A2.3) | G20: X | I20: =(I21+I25+I29) -> 10995 | J20: =(J21+J25+J29) -> 16385.3 | K20: =(K21+K25+K29) -> 1000 | L20: =L21+L25+L29 -> 0 | M20: =(M21+M25+M29) -> 0 | N20: =N21+N25+N29 -> 0 | O20: =(O21+O25+O29) -> 0 | P20: =P21+P25+P29 -> 0
A21: A.2.1. Resurse colectate interne, total | C21: 112 | D21: 11297 1 | G21: X | J21: =J22+J23+J24 -> 0 | K21: =K22+K23+K24 -> 0 | M21: =M22+M23+M24 -> 0 | O21: =O22+O23+O24 -> 0
A22: Alte venituri | G22: X
G23: X
G24: X
A25: A.2.2. Resurse colectate externe, total | C25: 112 | G25: X | J25: =J26+J27+J28 -> 0 | K25: =K26+K27+K28 -> 0 | M25: =M26+M27+M28 -> 0 | O25: =O26+O27+O28 -> 0
G26: X
G27: X
G28: X
A29: A.2.3. Resurse generale, total A.2.3=A.1-(A.2.1+A.2.2) | C29: 111 | G29: X | I29: =I14-(I21+I25) -> 10995 | J29: =J14-(J21+J25) -> 16385.3 | K29: =K14-(K21+K25) -> 1000 | M29: =M14-(M21+M25) -> 0 | O29: =O14-(O21+O25) -> 0
G30: X | I30: X
A32: B. Sinteza limitelor de cheltuieli (se completează automat în SIMF), mii lei
A33: Denumirea | D33: Cod | G33: 2019 Aprobat | K33: 2020 Estimat | N33: 2021 Estimat
D34: F1 | E34: Cheltuieli (r/c), resurse (S3) | G34: Stabilit | I34: Deviere +/- | J34: Propus | K34: Stabilit | L34: Deviere +/- | M34: Propus | N34: Stabilit | O34: Deviere +/- | P34: Propus
A35: TOTAL | G35: =G37 -> 1000 | J35: =J37 -> 1000 | K35: =K37 -> 0 | M35: =M37 -> 0 | N35: =N37 -> 0 | P35: =P37 -> 0
A36: Cheltuieli recurente | D36: r
A37: Investiţii capitale | D37: c | G37: =K14 -> 1000 | J37: =G37 -> 1000 | K37: =M14 -> 0 | M37: =K37 -> 0 | N37: =O14 -> 0 | P37: =N37 -> 0
A39: TOTAL | G39: =G41 -> 1000 | J39: =J41 -> 1000 | K39: =K41 -> 0 | M39: =M41 -> 0 | N39: =N41 -> 0 | P39: =P41 -> 0
A40: Resurse colectate
A41: Resurse generale | G41: =K29 -> 1000 | J41: =G41 -> 1000 | K41: =M29 -> 0 | M41: =K41 -> 0 | N41: =O29 -> 0 | P41: =N41 -> 0
A44: C. Estimarea resurselor colectate de autorități/instituții, mii lei
A45: Denumirea | C45: Cod | I45: Descriere | K45: 2016 | L45: 2017 | M45: 2018 | N45: 2019 | O45: 2020 | P45: 2021
C46: Sursa (S3S4) | D46: Originea sursei (S5) | E46: Donator (S6) | F46: F3 | G46: P3 (7xx) | H46: Eco k6 | K46: Executat | L46: Executat | M46: Aprobat | N46: Aprobat | O46: Estimat | P46: Estimat
A47: TOTAL | K47: X | L47: X
K48: X | L48: X
K49: X | L49: X
K50: X | L50: X
K51: X | L51: X
K52: X | L52: X
A54: D. Estimarea cheltuielilor
O55: Cod
A56: Subgrupa | C56: Alte servicii de protecție socială | O56: 1060
A57: Program | C57: Protecția Socială | O57: 90
A58: Subprogram | C58: Protecție în domeniul asigurării cu locuințe | O58: 09
A60: DI. Informație generală (se completează de către autoritatea superioară înainte de a remite formularul pentru completare instituţiilor din subordine)
A61: Scop | D61: Sustinerea suplimentara a participantilor la lichidarea consecintelor avariei de la Cernobil
A62: Obiective (pe termen mediu, cu accent pe anul pentru care se aprobă programul) | D62: Finisarea constructiei blocului locativ mun.Chisinau, str.Alba Iulia catre anul 2019
A63: Descriere succintă | D63: Valorificarea mijloacelor financiare pentru continuarea lucrarilor de constructie a blocului de locuit cu 80 apartamente din mun.Chisinau, str.Alba Iulia
A65: DII. Indicatorii de performanţă
A66: Categoria | B66: Cod | C66: Denumirea | J66: Unitatea de măsură | K66: 2016 | L66: 2017 | M66: 2018 | N66: 2019 | O66: 2020 | P66: 2021
K67: Executat | L67: Executat | M67: Aprobat | N67: Aprobat | O67: Estimat | P67: Estimat
A68: De rezultat | B68: r3 | C68: Darea in exploatare a constructiei | J68: mii lei | K68: X | L68: 10995 | M68: 16385.3 | N68: =K81 -> 1000
K69: X
A70: De produs | B70: o1 | C70: Finalizarea constructiei. | J70: % | K70: X | L70: 71.82 | M70: 100 | N70: 100
K71: X
A72: De eficiență | B72: e1 | C72: Procentul valorificarii mijloacelor financiare aprobate în buget. | J72: % | K72: X | L72: 219.9 | M72: 100 | N72: 100
K73: X
K74: X
A76: DIII. Cheltuieli, mii lei
A77: Denumirea | E77: Cod | G77: 2016 | I77: 2017 | J77: 2018 | K77: 2019 | M77: 2020 | O77: 2021
E78: P3 | F78: Eco (k6) | G78: Executat | I78: Executat | J78: Aprobat | K78: Aprobat | M78: Estimat | O78: Estimat
A79: Total general | I79: =I80 -> 10995 | J79: =J80 -> 16385.3 | K79: =K80 -> 1000 | M79: =M80 -> 0 | O79: =O80 -> 0
A80: Asigurare cu locuințe | E80: 00319 | F80: 31 | I80: =I81 -> 10995 | J80: =J81 -> 16385.3 | K80: =K81 -> 1000 | M80: =M81 -> 0 | O80: =O81 -> 0 | Q80: 175
A81: Asigurare cu locuințe | F81: 319210 | G81: X | I81: 10995 | J81: 16385.3 | K81: 1000
A85: E. Estimarea investiţiilor capitale pe proiecte, mii lei
A86: Denumirea | E86: Cod | I86: Costul total al proiectului | J86: Anul de lansare a proiectului | K86: Soldul costului de deviz la 01.01.2018 | L86: 2018 | M86: Soldul costului de deviz la 01.01 2019 | N86: 2019 | O86: 2020 | P86: 2021
E87: P1P2 | F87: P3 | G87: Proiect | H87: Eco (k6) | L87: Executare scontată | N87: Proiect | O87: Estimat | P87: Estimat
A88: 1 | E88: 2 | F88: 3 | G88: 4 | H88: 5 | I88: 6 | J88: 7 | K88: 8 | L88: 9 | M88: 10=(8-9) | N88: 11 | O88: 12 | P88: 13
A89: Asigurarea cu locuințe | E89: 90/09 | F89: 00319 | H89: 319210 | I89: 74412.8 | J89: 2005 | K89: 53439.9 | L89: 13885.3 | M89: 67325.3 | N89: 1000
A97: Secretar General de Stat /________________________/ __Boris Gîlca /
A98: Şeful subdiviziunii responsabile de planificarea bugetului /___________________/___Anatolie Gudumac____/
A99: Şeful subdiviziunii responsabile de politici /___________________/__Marcela Țîrdea___/
A100: Data prezentării _______________________
A102: Abrevieri: AB – anul de bază (curent), AB-2 şi AB-1 – anii precedenţi anului de bază, AB+1 – anul viitor pentru care se elaborează bugetul; AB+2 şi AB+3 – anii următori anului pentru care se elaborează bugetul.

Sheet 90 10 Protec in caz incap 
N1: Formularul nr.4
E2: Propuneri de buget
D3: pentru anul 2019 și estimări pe anii 2020-2021
P5: Cod
A6: Sursa | D6: Bugetul de stat | P6: 02
A7: Autoritatea publică | D7: Ministerul Sănătății, Muncii și Protecției Sociale | P7: 0221
A8: Instituţia | D8: Agenția Națională Asistență Socială | P8: 2369
A10: A. Sinteza propunerii de buget (se completează automat în SIMF), mii lei
A12: Denumirea | E12: Cod | G12: 2016 | I12: 2017 | J12: 2018 | K12: 2019 | M12: 2020 | O12: 2021
E13: F1 | F13: Eco (k2) | G13: Executat | I13: Executat | J13: Aprobat | K13: Aprobat | M13: Estimat | O13: Estimat
A14: A.1. CHELTUIELI, total | E14: 10 | G14: X | I14: =I15+I16+I18+I19+I20+I21+I17 -> 127541.4 | J14: =J15+J16+J18+J19+J20+J21+J17 -> 139908.2 | K14: =K15+K16+K18+K19+K20+K21+K17 -> 146826.7 | L14: =L15+L16+L18+L19+L20+L21 -> 0 | M14: =SUM(M15:M21) -> 138963.4 | N14: =N15+N16+N18+N19+N20+N21 -> 0 | O14: =SUM(O15:O21) -> 139823.7
A15: Cheltuieli de personal | F15: 21 | G15: X | I15: =I95+I150 -> 36263.4 | J15: =J95+J150 -> 38294.6 | K15: =K95+K150 -> 33890.6 | L15: =L95+L150 -> 0 | M15: =M95+M150 -> 34178.6 | O15: =O95+O150 -> 36327.3
A16: Bunuri și servicii | F16: 22 | G16: X | I16: =I99+I154+I206 -> 10613.6 | J16: =J99+J154+J206 -> 13595.6 | K16: =K99+K154+K206 -> 18087.8 | M16: =M99+M154+M206 -> 19203.4 | O16: =O99+O154+O206 -> 15952.6
A17: Subsidii | F17: 25 | G17: X | I17: =I203 -> 46568.2 | J17: =J203 -> 42635.6 | K17: =K203 -> 47313 | M17: =M203 -> 44137.4 | O17: =O203 -> 44137.4
A18: Indemnizații pentru incapacitatea temporară de muncă achitate din mijloacele financiare ale angajatorului | F18: 27 | G18: X | I18: =I123+I176 -> 78.4 | J18: =J123+J176 -> 93 | K18: =K123+K176 -> 159.6 | L18: =L118 -> 0 | M18: =M123+M176 -> 159.6 | N18: =N118 -> 0 | O18: =O123+O176 -> 159.6
A19: Alte cheltuieli | F19: 28 | G19: X | K19: =K126+J179 -> 0 | M19: =M126+M179 -> 0 | O19: =O126+O179 -> 0
A20: Mijloace fixe | F20: 31 | G20: X | I20: =I131+I184 -> 7830.1 | J20: =J131+J184 -> 15528.8 | K20: =K131+K184 -> 14528.8 | L20: =L128 -> 0 | M20: =M131+M184 -> 7650.7 | N20: =N128 -> 0 | O20: =O131+O184 -> 8053
A21: Stocuri și materiale circulante | F21: 33 | G21: X | I21: =I138+I191 -> 26187.7 | J21: =J138+J191 -> 29760.6 | K21: =K138+K191 -> 32846.9 | L21: =L135 -> 0 | M21: =M138+M191 -> 33633.7 | N21: =N135 -> 0 | O21: =O138+O191 -> 35193.8 | P21: =P135 -> 0
A24: Denumirea | C24: Cod | G24: 2016 | I24: 2017 | J24: 2018 | K24: 2019 | M24: 2020 | O24: 2021
C25: S3 | D25: S5 | E25: F1 | F25: Eco (k2) | G25: Executat | I25: Executat | J25: Aprobat | K25: Aprobat | M25: Estimat | O25: Estimat
A26: A.2.RESURSE, total (A2=A2.1+A2.2+A2.3) | G26: X | I26: =(I27+I31+I35) -> 127541.4 | J26: =(J27+J31+J35) -> 139908.2 | K26: =(K27+K31+K35) -> 146826.7 | L26: =L27+L31+L35 -> 0 | M26: =(M27+M31+M35) -> 138963.4 | N26: =N27+N31+N35 -> 0 | O26: =(O27+O31+O35) -> 139823.7 | P26: =P27+P31+P35 -> 0
A27: A.2.1. Resurse colectate interne, total | C27: 112 | D27: 11297 1 | G27: X | I27: =I28+I29+I30 -> 5158.4 | J27: =J28+J29+J30 -> 5443.5 | K27: =K28+K29+K30 -> 6227.2 | M27: =M28+M29+M30 -> 5794.5 | O27: =O28+O29+O30 -> 5758.7
A28: CNDDCM | G28: X | I28: 31.2 | J28: 31.2 | K28: 31.2 | M28: 31.2 | O28: 31.2
A29: Speranta | G29: X | I29: 3272.8 | J29: 3549.7 | K29: 3515.8 | M29: 3714.8 | O29: 3800.2
A30: Victoria | G30: X | I30: 1854.4 | J30: 1862.6 | K30: 2680.2 | M30: 2048.5 | O30: 1927.3
A31: A.2.2. Resurse colectate externe, total | C31: 112 | G31: X | J31: =J32+J33+J34 -> 0 | K31: =K32+K33+K34 -> 0 | M31: =M32+M33+M34 -> 0 | O31: =O32+O33+O34 -> 0
G32: X
G33: X
G34: X
A35: A.2.3. Resurse generale, total A.2.3=A.1-(A.2.1+A.2.2) | C35: 111 | G35: X | I35: =I14-(I27+I31) -> 122383 | J35: =J14-(J27+J31) -> 134464.7 | K35: =K14-(K27+K31) -> 140599.5 | M35: =M14-(M27+M31) -> 133168.9 | O35: =O14-(O27+O31) -> 134065
G36: X
A38: B. Sinteza limitelor de cheltuieli (se completează automat în SIMF), mii lei
A39: Denumirea | D39: Cod | G39: 2019 Aprobat | K39: 2020 Estimat | N39: 2021 Estimat
D40: F1 | E40: Cheltuieli (r/c), resurse (S3) | G40: Stabilit | I40: Deviere +/- | J40: Propus | K40: Stabilit | L40: Deviere +/- | M40: Propus | N40: Stabilit | O40: Deviere +/- | P40: Propus
A41: TOTAL | G41: =G42 -> 146826.7 | J41: =J42 -> 146826.7 | K41: =K42 -> 138963.4 | M41: =M42 -> 138963.4 | N41: =N42 -> 139823.7 | P41: =P42 -> 139823.7
A42: Cheltuieli recurente | D42: r | G42: =K14 -> 146826.7 | J42: =G42 -> 146826.7 | K42: =M14 -> 138963.4 | M42: =K42 -> 138963.4 | N42: =O14 -> 139823.7 | P42: =N42 -> 139823.7
A43: Investiţii capitale | D43: c
A45: TOTAL | G45: =G46+G47 -> 146826.7 | J45: =J46+J47 -> 146826.7 | K45: =K46+K47 -> 138963.4 | M45: =M46+M47 -> 138963.4 | N45: =N46+N47 -> 139823.7 | P45: =P46+P47 -> 139823.7
A46: Resurse colectate | G46: =K27 -> 6227.2 | J46: =G46 -> 6227.2 | K46: =M27 -> 5794.5 | M46: =K46 -> 5794.5 | N46: =O27 -> 5758.7 | P46: =N46 -> 5758.7
A47: Resurse generale | G47: =K35 -> 140599.5 | J47: =G47 -> 140599.5 | K47: =M35 -> 133168.9 | M47: =K47 -> 133168.9 | N47: =O35 -> 134065 | P47: =N47 -> 134065
A50: C. Estimarea resurselor colectate de autorități/instituții, mii lei
A51: Denumirea | C51: Cod | I51: Descriere | K51: 2016 | L51: 2017 | M51: 2018 | N51: 2019 | O51: 2020 | P51: 2021
C52: Sursa (S3S4) | D52: Originea sursei (S5) | E52: Donator (S6) | F52: F3 | G52: P3 (7xx) | H52: Eco k6 | K52: Executat | L52: Executat | M52: Aprobat | N52: Aprobat | O52: Estimat | P52: Estimat
A53: TOTAL | K53: X | L53: X
K54: X | L54: X
K55: X | L55: X
K56: X | L56: X
K57: X | L57: X
K58: X | L58: X
A60: D. Estimarea cheltuielilor
O61: Cod
A62: Subgrupa | C62: Protecția în caz de incapacitate de muncă | O62: 1012
A63: Program | C63: Protecția Socială | O63: 90
A64: Subprogram | C64: Asistența socială a persoanelor cu necesități speciale | O64: 10
A66: DI. Informație generală (se completează de către autoritatea superioară înainte de a remite formularul pentru completare instituţiilor din subordine)
A67: Scop | D67: Protecția socio-medicală a persoanelor vârstnice, invalizilor, precum și asigurarea transparenței procesului de evaluare a dizabilității si capacității de muncă la persoanele cu dizabilități, diagnostica, tratamentul, satisfacerea necesităților persoanelor cu dizabilități în ajutorul protetic și cu articole ortopedice prin reabilitarea medico-socială.
A68: Obiective (pe termen mediu, cu accent pe anul pentru care se aprobă programul) | D68: 1.Oferirea serviciilor de reabilitare/recuperare a sănătăţii tuturor persoanelor cu dizabilități şi pensionarilor. 2. Asigurarea cu articole protetico-ortropedice a persoanelor cu probleme de deplasare și de mobilitate fizică în scopul reintegrării sociale a acestora. 3. Protecția socio-medicală a persoanelor cu dizabilități și a invalizilor, precum și asigurarea transparenței procesului de evaluare a dizabilității si capacității de muncă la persoanele cu dizabilități.
A69: Descriere succintă | D69: 1,Determinarea dizabilității și capacității de muncă, perfectarea criteriilor de DDCM, ameliorarea bazei tehnico-materiale, monitorizarea activitatii consiliilor,studierea cauzelor si incidentei invaliditatii si propunerea masurilor de ameliorare. 2.Servicii de asistenţă socio-medicală (centrele de reabilitare pentru persoane cu dizabilități şi pensionari) reprezintă în ansamblu un compex de măsuri şi acţiuni realizate pentru acordarea serviciilor balneo-sanatoriale pentru aceste categorii. 3.Asigurarea persoanelor cu dizabilități locomotorii cu mijloace ajutăoare tehnice conform prevederilor Hotărîrii Guvernului nr.567 din 26 iulie 2011 cu modificările și completările ulterioare.
A71: DII. Indicatorii de performanţă
A72: Categoria | B72: Cod | C72: Denumirea | J72: Unitatea de măsură | K72: 2016 | L72: 2017 | M72: 2018 | N72: 2019 | O72: 2020 | P72: 2021
K73: Executat | L73: Executat | M73: Aprobat | N73: Aprobat | O73: Estimat | P73: Estimat
A74: De rezultat | B74: r4 | C74: Numărul beneficiarilor de bilete de tratament | J74: unități | K74: X | L74: 9272 | M74: 8960 | N74: 9058 | O74: 9058 | P74: 9058
B75: r9 | C75: Examinarea dosarelor in sistemul SIAS si generarea certificatului de dizabilitate de către sistem. | J75: % | K75: X | M75: 10 | N75: 95 | O75: 100 | P75: 100
B76: r10 | C76: Ponderea persoanelor care au beneficiat de încălțăminte ortopedică din totalul solicitanților | J76: % | K76: X | L76: 16.6 | M76: 16.2 | N76: 15.4 | O76: 15.4 | P76: 15.4
A77: De produs | B77: o12 | C77: Numărul de pat/zile utilizte | J77: unități | K77: X | L77: 92941 | M77: 93277.5 | N77: 188613 | O77: 188613 | P77: 188613
B78: o10 | C78: Numărul de perehi de încălțăminte ortpedică confecționate | J78: perechi | K78: X | L78: 8883 | M78: 8000 | N78: 8000 | O78: 8000 | P78: 8000
B79: o9 | C79: Procurarea si instalarea terminalului pentru repartizarea aleatorie a persoanelor către echipele de control DDCM | K79: X | M79: 1 | N79: 1 | O79: 1 | P79: 1
B80: o8 | C80: Montarea ascensorului | K80: X | N80: 1
B81: o11 | C81: Procurarea calculatoare | J81: unități | K81: X | N81: 10
A82: De eficiență | B82: e10 | C82: Costul mediu al unei perechi de încălțăminte ortopedică | J82: lei/zi | K82: X | L82: 2248.78 | M82: 2269.15 | N82: 2171.12 | O82: 2291.1 | P82: 2405.65
B83: e6 | C83: Cheltuieli medii lunare pentru intretinerea unui beneficiar | J83: mii lei | K83: X | L83: 7042.6 | M83: 7620.23 | N83: =(K94/12)/(N77/12)*21*1000 -> 8127.62 | O83: =(M94/12)/(N77/12)*21*1000 -> 8070.2693 | P83: =(O94/12)/(P77/12)*21*1000 -> 8572.9764
B84: e7 | C84: Norma la alimentație | J84: lei/zi | K84: X | L84: 97.6 | M84: 113.51 | N84: =M84*1.049 -> 119.07199 | O84: =N84*1.05 -> 125.02559 | P84: =O84*1.05 -> 131.27687
B85: e8 | C85: Norma la medicamente | J85: lei/zi | K85: X | L85: 8.9 | M85: 113.51 | N85: =M85*1.049 -> 119.07199 | O85: =N85*1.05 -> 125.02559 | P85: =O85*1.05 -> 131.27687
K86: X | N86: =(#REF!+#REF!)/2 -> #REF!
B87: e9 | C87: Costul mediu al terminalului | J87: mii lei | K87: X | M87: 100 | N87: 100 | O87: 100 | P87: 100
B88: e10 | C88: Costul mediu al ascensorului | J88: mii lei | K88: X | N88: 200
B89: e11 | C89: Costul mediu al unui calculator | N89: 9.8
A90: DIII. Cheltuieli, mii lei
A91: Denumirea | E91: Cod | G91: 2016 | I91: 2017 | J91: 2018 | K91: 2019 | M91: 2020 | O91: 2021
E92: P3 | F92: Eco (k6) | G92: Executat | I92: Executat | J92: Aprobat | K92: Aprobat | M92: Estimat | O92: Estimat
A93: Total general | I93: =I94+I149+I202+I205 -> 127541.4 | J93: =J94+J149+J202+J205 -> 139908.2 | K93: =K94+K149+K202+K205 -> 146826.7 | M93: =M94+M149+M202+M205 -> 138963.4 | O93: =O94+O149+O202+O205 -> 139823.7
A94: Centrele de reabilitare/recuperare a invalizilor și pensionarilor | E94: 00347 | G94: X | I94: =I95+I99+I123+I126+I131+I138 -> 62288.7 | J94: =J95+J99+J123+J126+J131+J138 -> 67408.4 | K94: =K95+K99+K123+K126+K131+K138 -> 72998.8 | M94: =M95+M99+M123+M126+M131+M138 -> 72483.7 | O94: =O95+O99+O123+O126+O131+O138 -> 76998.8
A95: Cheltuieli de personal | F95: 21 | G95: X | I95: =SUM(I96:I98) -> 20414.4 | J95: =SUM(J96:J98) -> 21356.1 | K95: =SUM(K96:K98) -> 22448.7 | M95: =SUM(M96:M98) -> 22736.7 | O95: =SUM(O96:O98) -> 24885.4
A96: Remunerarea muncii conform statelor | E96: 111/0 | F96: 211180 | G96: X | I96: 16446.6 | J96: 17213 | K96: 18097.1 | M96: 18272.9 | O96: 19847.4
A97: Contribuţiile de asigurare sociale de stat obligatoriu | E97: 112 | F97: 212100 | G97: X | I97: 3581.2 | J97: 3780 | K97: 3919.5 | M97: 4031.8 | O97: 4605.9
A98: Prime de asigurare obligatorie de asistenţă medicală achitate de angajatori și angajați pe teritoriu țării | E98: 116/01 | F98: 212210 | G98: X | I98: 386.6 | J98: 363.1 | K98: 432.1 | M98: 432 | O98: 432.1
A99: Bunuri și servicii | E99: 113 | F99: 22 | G99: X | I99: =I100+I101+I102+I103+I104+I105+I106+I107+I108+I109+I110+I111+I112+I113+I114+I115+I116+I119+I120+I121+I122 -> 8374.5 | J99: =J100+J101+J102+J103+J104+J105+J106+J107+J108+J109+J110+J111+J112+J113+J114+J115+J116+J119+J120+J121+J122 -> 9086.2 | K99: =K100+K101+K102+K103+K104+K105+K106+K107+K108+K109+K110+K111+K112+K113+K114+K115+K116+K119+K120+K121+K122 -> 9254.9 | M99: =M100+M101+M102+M103+M104+M105+M106+M107+M108+M109+M110+M111+M112+M113+M114+M115+M116+M119+M120+M121+M122 -> 9300.2 | O99: =O100+O101+O102+O103+O104+O105+O106+O107+O108+O109+O110+O111+O112+O113+O114+O115+O116+O119+O120+O121+O122 -> 9704.2
A100: Energie electrică | E100: 113/01 | F100: 222110 | G100: X | I100: 2215.7 | J100: 2260.3 | K100: 2616.4 | M100: 2747.4 | O100: 2884.7
A101: Gaze | E101: 113/02 | F101: 222120 | G101: X | I101: 1519.5 | J101: 1657.2 | K101: 1387.4 | M101: 1456.7 | O101: 1529.5
A102: Energie termică | E102: 113/04 | F102: 222130 | G102: X
A103: Apă și canalizare | E103: 113/34 | F103: 222140 | G103: X | I103: 1319.3 | J103: 1512.9 | K103: 1498.9 | M103: 1573.8 | O103: 1652.6
A104: Alte servicii energetice și comunale | E104: 113/35 | F104: 222190 | G104: X | I104: 96.4 | J104: 100.2 | K104: 124.5 | M104: 130.7 | O104: 137.2
A105: Servicii informaționale | E105: 113/30 | F105: 222210 | G105: X | I105: 93.9 | J105: 94.1 | K105: 93.3 | M105: 93.7 | O105: 94
A106: Servicii de telecomunicații | E106: 113/11 | F106: 222220 | G106: X | I106: 39.8 | J106: 97.3 | K106: 142.7 | M106: 95.1 | O106: 96.2
A107: Servicii de locațiune | E107: 113/19 | F107: 222300 | G107: X
A108: Servicii de transport | E108: 113/13 | F108: 222400 | G108: X | I108: 166.5 | J108: 335.3 | K108: 359.4 | M108: 367.2 | O108: 382.6
A109: Servicii de reparații curente | E109: 113/17,18 | F109: 222500 | G109: X | I109: 1295.9 | J109: 1171.4 | K109: 1226.8 | M109: 1048.2 | O109: 1070.7
A110: Formare profesională | E110: 113/21 | F110: 222600 | G110: X | I110: 41 | J110: 81 | K110: 37.2 | M110: 57.7 | O110: 58.1
A111: Deplasări de serviciu în interiorul ţării | E111: 114/01 | F111: 222710 | G111: X | I111: 1.6 | J111: 2.8 | K111: 2 | M111: 2.1 | O111: 2.2
A112: Deplasări de serviciu peste hotare | E112: 114/02 | F112: 222720 | G112: X | I112: 9.3 | J112: 52.5 | K112: 43 | M112: 45.2 | O112: 47.4
...

Sheet 90 12  FSP  Ti 453 462
N1: Formularul nr.4
E2: Propuneri de buget
D3: pentru anul 2019 și estimări pe anii 2020-2021
P5: Cod
A6: Sursa | D6: Bugetul de stat | P6: 02
A7: Autoritatea publică | D7: Ministerul Sănătății, Muncii și Protecției Sociale | P7: 0221
A9: Instituţia | D9: Agenția Națională Asistență Socială | P9: 2369
A11: A. Sinteza propunerii de buget (se completează automat în SIMF), mii lei
A13: Denumirea | E13: Cod | G13: 2016 | I13: 2017 | J13: 2018 | K13: 2019 | M13: 2020 | O13: 2021
E14: F1 | F14: Eco (k2) | G14: Executat | I14: Executat | J14: Aprobat | K14: Aprobat | M14: Estimat | O14: Estimat
A15: A.1. CHELTUIELI, total | E15: 10 | G15: X | I15: =I16+I17+I19+I21+I22+I23+I18+I20 -> 95237.2 | J15: =J16+J17+J19+J21+J22+J23+J18 -> 95684.5 | M15: =M16+M17+M19+M21+M22+M23 -> 92657 | O15: =O16+O17+O19+O21+O22+O23 -> 95413.2
A16: Cheltuieli de personal | F16: 21 | G16: X | I16: =I92+I150 -> 2623.8 | J16: =J92+J150 -> 2972 | K16: =K92+K150 -> 2008.5 | M16: =M92+M150 -> 2067.3 | O16: =O92+O150 -> 2146.6
A17: Bunuri și servicii | F17: 22 | G17: X | I17: =I96+I154+I201 -> 1246.6 | J17: =J96+J154+J201 -> 1582.5 | K17: =K96+K154+K201 -> 1417.2 | M17: =M96+M154+M201 -> 1417.8 | O17: =O96+O154+O201 -> 1418.6
A18: Subsidii | F18: 25 | G18: X
A19: Indemnizații pentru incapacitatea temporară de muncă achitate din mijloacele financiare ale angajatorului | F19: 27 | G19: X | I19: =I119+I175 -> 8256.8 | J19: =J119+J175 -> 8353.1 | K19: =K119+K175 -> 21875.1 | M19: =M119+M175 -> 21875.1 | O19: =O119+O175 -> 21875.1
A20: Alte cheltuieli | F20: 28 | I20: =I128 -> -1.1
A21: Transferuri acordate în cadrul bugetului public naționa | F21: 29 | G21: X | I21: =I129 -> 82500 | J21: =J129 -> 82000 | K21: =K129 -> 64244.5 | M21: =M129 -> 66718.7 | O21: =O129 -> 69376.3
A22: Mijloace fixe | F22: 31 | G22: X | I22: =I131+I183 -> 270.8 | J22: =J131+J183 -> 102.8 | K22: =K131+K183 -> 80 | M22: =M131+M183 -> 80 | O22: =O131+O183 -> 80
A23: Stocuri și materiale circulante | F23: 33 | G23: X | I23: =I136+I190+I205 -> 340.3 | J23: =J136+J190+J205 -> 674.1 | K23: =K136+K190+K205 -> 472.6 | M23: =M136+M190+M205 -> 498.1 | O23: =O136+O190+O205 -> 516.6
A25: Denumirea | C25: Cod | G25: 2016 | I25: 2017 | J25: 2018 | K25: 2019 | M25: 2020 | O25: 2021
C26: S3 | D26: S5 | E26: F1 | F26: Eco (k2) | G26: Executat | I26: Executat | J26: Aprobat | K26: Aprobat | M26: Estimat | O26: Estimat
A27: A.2.RESURSE, total (A2=A2.1+A2.2+A2.3) | G27: X | I27: =I28+I32+I36 -> 95237.2 | J27: =J28+J32+J36 -> 95684.5 | K27: =K28+K32+K36 -> 0 | M27: =M28+M32+M36 -> 92657 | O27: =O28+O32+O36 -> 95413.2
A28: A.2.1. Resurse colectate interne, total | C28: 112 | D28: 112 96 1 | E28: 10 | G28: X | I28: =I29+I30+I31 -> 92114.6 | J28: =J29+J30+J31 -> 91883.6 | K28: =K29+K30+K31 -> 86108.9 | M28: =M29+M30+M31 -> 88583.1 | O28: =O29+O30+O31 -> 91240.7
A29: Venituri telefonie mobilă | F29: 14 | G29: X | I29: 88540 | J29: 86383.6 | K29: 80608.9 | M29: 83083.1 | O29: 85740.7
A30: Venituri înmatriculate auto | G30: X | I30: 6798.7 | J30: 5500 | K30: 5500 | M30: 5500 | O30: 5500
G31: X | I31: -3224.1
A32: A.2.2. Resurse colectate externe, total | C32: 112 | G32: X | J32: =J33+J34+J35 -> 0 | M32: =M33+M34+M35 -> 0 | O32: =O33+O34+O35 -> 0
G33: X
G34: X
G35: X
A36: A.2.3. Resurse generale, total A.2.3=A.1-(A.2.1+A.2.2) | C36: 111 | G36: X | I36: =I15-(I28+I32) -> 3122.6 | J36: =J15-(J28+J32) -> 3800.9 | K36: =K15-(K28+K32) -> -86108.9 | M36: =M15-(M28+M32) -> 4073.9 | O36: =O15-(O28+O32) -> 4172.5
G37: X | I37: X
A38: B. Sinteza limitelor de cheltuieli (se completează automat în SIMF), mii lei
A39: Denumirea | D39: Cod | G39: 2019 Aprobat | K39: 2020 Estimat | N39: 2021 Estimat
D40: F1 | E40: Cheltuieli (r/c), resurse (S3) | G40: Stabilit | I40: Deviere +/- | J40: Propus | K40: Stabilit | L40: Deviere +/- | M40: Propus | N40: Stabilit | O40: Deviere +/- | P40: Propus
A41: TOTAL | G41: =G42 -> 0 | J41: =J42 -> 0 | K41: =K42 -> 92657 | M41: =M42 -> 92657 | N41: =N42 -> 95413.2 | P41: =P42 -> 95413.2
A42: Cheltuieli recurente | D42: r | G42: =K15 -> 0 | J42: =G42 -> 0 | K42: =M15 -> 92657 | M42: =K42 -> 92657 | N42: =O15 -> 95413.2 | P42: =N42 -> 95413.2
A43: Investiţii capitale | D43: c
A45: TOTAL | G45: =G46+G47 -> 0 | J45: =J46+J47 -> 0 | K45: =K46+K47 -> 92657 | M45: =M46+M47 -> 92657 | N45: =N46+N47 -> 95413.2 | P45: =P46+P47 -> 95413.2
A46: Resurse colectate | G46: =K28 -> 86108.9 | J46: =G46 -> 86108.9 | K46: =M28 -> 88583.1 | M46: =K46 -> 88583.1 | N46: =O28 -> 91240.7 | P46: =N46 -> 91240.7
A47: Resurse generale | G47: =K36 -> -86108.9 | J47: =G47 -> -86108.9 | K47: =M36 -> 4073.9 | M47: =K47 -> 4073.9 | N47: =O36 -> 4172.5 | P47: =N47 -> 4172.5
A50: C. Estimarea resurselor colectate de autorități/instituții, mii lei
A51: Denumirea | C51: Cod | I51: Descriere | K51: 2016 | L51: 2017 | M51: 2018 | N51: 2019 | O51: 2020 | P51: 2021
C52: Sursa (S3S4) | D52: Originea sursei (S5) | E52: Donator (S6) | F52: F3 | G52: P3 (7xx) | H52: Eco k6 | K52: Executat | L52: Executat | M52: Aprobat | N52: Aprobat | O52: Estimat | P52: Estimat
A53: TOTAL | K53: X | L53: X
K54: X | L54: X
K55: X | L55: X
K56: X | L56: X
K57: X | L57: X
K58: X | L58: X
A60: D. Estimarea cheltuielilor
O61: Cod
A62: Subgrupa | C62: Protecția împotriva excluziunii sociale | O62: 1070
A63: Program | C63: Protecția Socială | O63: 90
A64: Subprogram | C64: Protecția socială în cazuri excepționale | O64: 12
A66: DI. Informație generală (se completează de către autoritatea superioară înainte de a remite formularul pentru completare instituţiilor din subordine)
A67: Scop | D67: Victime şi potenţiale victime ale traficului de fiinţe umane asistate şi protejate. Categoriile de populație social vulnerabile protejate. Familii/persoane defavorizate protejate.
A68: Obiective (pe termen mediu, cu accent pe anul pentru care se aprobă programul) | D68: 1. Prestarea serviciilor de asistenţă şi protecţie prin asigurarea condiţiilor adecvate pentru utilizarea a 9855 pat/zile anual. 2. Asigurarea protecţiei în regim de urgenţă a victimelor traficului de fiinţe umane (adulţi şi copii), a copiilor neînsoţiţi de părinţi şi a victemelor traficului ilegal de migranţie prin serviciile competente de protecție. 3. Finanțarea programelor cu destinație specială (ajutor material anual și compensaţie parţială a cheltuielilor) în condițiile stabilite de Guvern. 4. Finanțarea pachetului minim de servicii sociale în condițiile stabilite de Guvern.
A69: Descriere succintă | D69: Oferirea de condiţii civilizate de cazare şi de igienă personală, hrană, asistenţă juridică, socială, psihologică şi medicală de urgenţă, pază şi protecţie a victimelor şi potenţialelor victime ale traficului de fiinţe umane. Ajutorul material anual și compensația parțială a cheltuielilor de transportare de peste hotare a corpurilor neînsuflețite ale cetățenilor Republicii Moldova sunt acordate de către ANAS în baza listelor CNAS și a solicitărilor parvenite de la cetățeni (conform prevederilor HG nr.159/2018). Funcționalitatea pachetul minim de servicii sociale (Suport monetar, Asistența personală, Sprijin familial) este asigurată prin efectuarea de către ANAS a transferurilor lunare la conturile IBAN deschise de către administrației autorităților publice locale de nivelul al doilea, în limitele plafoanelor stabilite de către MSMPS (HG nr. 800/2018)
A71: DII. Indicatorii de performanţă
A72: Categoria | B72: Cod | C72: Denumirea | J72: Unitatea de măsură | K72: 2016 | L72: 2017 | M72: 2018 | N72: 2019 | O72: 2020 | P72: 2021
K73: Executat | L73: Executat | M73: Aprobat | N73: Aprobat | O73: Estimat | P73: Estimat
A74: De rezultat | B74: r4 | C74: 1. Numărul de victime şi potenţiale victime asistate şi protejate | J74: Unit. | K74: X | L74: 527 | M74: 324 | N74: 324 | O74: 324 | P74: 324
B75: r5 | C75: Ponderea mijloacelor utilizate pentru repatriere din totalul surselor aprobate | J75: % | K75: X | L75: 53.5 | M75: 100 | N75: 100 | O75: 100 | P75: 100
B76: r6 | C76: Ponderea ajutorului materiale anuale, a compensaței parțiale și pachetului minim de servicii sociale în raport cu numărul total al beneficiarilor
A77: De produs | B77: o8 | C77: 1.Numărul de pat/zile utilizate | J77: pat/zile | K77: X | L77: 5644 | M77: 9855 | N77: 9855 | O77: 9855 | P77: 9855
B78: o20 | C78: Numărul persoanelor repatriate | J78: unit. | K78: X | L78: 34 | M78: 10 | N78: 15 | O78: 15 | P78: 15
B79: o9 | C79: Numărul beneficiarilor de serviciii și prestații sociale
A80: De eficiență | B80: e17 | C80: Cheltuieli pentru repatrierea unei persoane | L80: 6.7 | M80: 27 | N80: =K200/N78 -> 20 | O80: =M200/O78 -> 20 | P80: =O200/P78 -> 20
B81: e6 | C81: Cheltuieli medii lunare pu intretinerea unui beneficiar | J81: Lei | K81: X | L81: 457.76 | M81: 914.79 | N81: =(K149/N74)/12*1000 -> 948.81687 | O81: =(M149/O74)/12*1000 -> 970.65329 | P81: =(O149/P74)/12*1000 -> 996.01337
B82: e7 | C82: Norma la alimentaţie | J82: Lei/zi | K82: X | L82: 42.95 | M82: 47.25 | N82: =M82*1.049 -> 49.56525 | O82: =N82*1.05 -> 52.043512 | P82: =O82*1.05 -> 54.645688
B83: e8 | C83: Norma la medicamente | J83: Lei/zi | K83: X | L83: 7.09 | M83: 7.85 | N83: =M83*1.049 -> 8.23465 | O83: =N83*1.05 -> 8.6463825 | P83: =O83*1.05 -> 9.0787016
B84: e9 | C84: Cheltuieli medii pentru acordarea ajutor material și compensație parțială | J84: lei/lunar
B85: e10 | C85: Cheltuieli medii pentru prestarea pachetului minim de servicii sociale | J85: lei/lunar
I86: 92164.5
A87: DIII. Cheltuieli, mii lei
A88: Denumirea | E88: Cod | G88: 2016 | I88: 2017 | J88: 2018 | K88: 2019 | M88: 2020 | O88: 2021
E89: P3 | F89: Eco (k6) | G89: Executat | I89: Executat | J89: Aprobat | K89: Aprobat | M89: Estimat | O89: Estimat
A90: Total general | I90: =I91+I149+I200 -> 95237.2 | J90: =J91+J149+J200 -> 95684.5 | K90: =K91+K149+K200 -> 90097.9 | M90: =M91+M149+M200 -> 92657 | O90: =O91+O149+O200 -> 95413.2
A91: Fondul de susținere a populației | E91: 00250 | I91: =I92+I96+I119+I123+I129+I131+I136 -> 92114.6 | J91: =J92+J96+J119+J123+J129+J131+J136 -> 91883.6 | K91: =K92+K96+K119+K123+K129+K131+K136 -> 86108.9 | M91: =M92+M96+M119+M123+M129+M131+M136 -> 88583.1 | O91: =O92+O96+O119+O123+O129+O131+O136 -> 91240.7
A92: Cheltuieli de personal | F92: 21 | G92: X | I92: =I93+I94+I95 -> 1045.6 | J92: =J93+J94+J95 -> 1186 | K92: =K93+K94+K95 -> 0 | M92: =M93+M94+M95 -> 0 | O92: =O93+O94+O95 -> 0
A93: Remunerarea muncii conform statelor | E93: 111/0 | F93: 211180 | G93: X | I93: 872.7 | J93: 943.8
A94: Contribuţiile de asigurare sociale de stat obligatoriu | E94: 112 | F94: 212100 | G94: X | I94: 136.6 | J94: 202.9
A95: Prime de asigurare obligatorie de asistenţă medicală achitate de angajatori și angajați pe teritoriu țării | E95: 116/01 | F95: 212210 | G95: X | I95: 36.3 | J95: 39.3
A96: Bunuri și servicii | E96: 113 | F96: 22 | G96: X | I96: =I97+I98+I99+I100+I101+I102+I103+I104+I105+I106+I107+I108+I109+I110+I111+I112+I113+I117+I118+I116 -> 271.2 | J96: =J97+J98+J99+J100+J101+J102+J103+J104+J105+J106+J107+J108+J109+J110+J111+J112+J113+J117+J118+J116 -> 311.3 | K96: =K97+K98+K99+K100+K101+K102+K103+K104+K105+K106+K107+K108+K109+K110+K111+K112+K113+K117+K118+K116 -> 0 | M96: =M97+M98+M99+M100+M101+M102+M103+M104+M105+M106+M107+M108+M109+M110+M111+M112+M113+M117+M118+M116 -> 0 | O96: =O97+O98+O99+O100+O101+O102+O103+O104+O105+O106+O107+O108+O109+O110+O111+O112+O113+O117+O118+O116 -> 0
A97: Energie electrică | E97: 113/01 | F97: 222110 | G97: X
A98: Gaze | E98: 113/02 | F98: 222120 | G98: X
A99: Energie termică | E99: 113/04 | F99: 222130 | G99: X | I99: 23.1 | J99: 38.2
A100: Apă și canalizare | E100: 113/34 | F100: 222140 | G100: X
A101: Alte servicii energetice și comunale | E101: 113/35 | F101: 222190 | G101: X
A102: Servicii informaționale | E102: 113/30 | F102: 222210 | G102: X | I102: 27.9 | J102: 16.5
A103: Servicii de telecomunicații | E103: 113/11 | F103: 222220 | G103: X | I103: 10.4 | J103: 12.8
A104: Servicii de locațiune | E104: 113/19 | F104: 222300 | G104: X | I104: 108.3 | J104: 117.7
A105: Servicii de transport | E105: 113/13 | F105: 222400 | G105: X | I105: 10.4 | J105: 11.4
A106: Servicii de reparații curente | E106: 113/17,18 | F106: 222500 | G106: X | I106: 20 | J106: 23
A107: Formare profesională | E107: 113/21 | F107: 222600 | G107: X
A108: Deplasări de serviciu în interiorul ţării | E108: 114/01 | F108: 222710 | G108: X | I108: 6.9 | J108: 9.5
A109: Deplasări de serviciu peste hotare | E109: 114/02 | F109: 222720 | G109: X
A110: Sevicii medicale | E110: 113/45 | F110: 222810 | G110: X
A111: Servicii editoriale | E111: 113/22 | F111: 222910 | G111: X
...

Sheet 90 17  Ins Soc CNAPS
N1: Formularul nr.4
E2: Propuneri de buget
D3: pentru anul 2019 și estimări pe anii 2020-2021
P5: Cod
A6: Sursa | D6: Bugetul de stat | P6: 02
A7: Autoritatea publică | D7: Ministerul Sănătății, Muncii și Protecției Sociale | P7: 0221
A10: A. Sinteza propunerii de buget (se completează automat în SIMF), mii lei
A12: Denumirea | E12: Cod | G12: 2016 | I12: 2017 | J12: 2018 | K12: 2019 | M12: 2020 | O12: 2021
E13: F1 | F13: Eco (k2) | G13: Executat | I13: Executat | J13: Aprobat | K13: Aprobat | M13: Estimat | O13: Estimat
A14: A.1. CHELTUIELI, total | E14: 10 | G14: X | I14: =I15+I16+I17+I18+I19+I20 -> 4946.9 | J14: =J15+J16+J17+J18+J19+J20 -> 6385.6 | K14: =K15+K16+K17+K18+K19+K20 -> 8446.6 | M14: =M15+M16+M17+M18+M19+M20 -> 9266.6 | O14: =O15+O16+O17+O18+O19+O20 -> 9463.2
A15: Cheltuieli de personal | F15: 21 | G15: X | I15: =I88+I141+I194 -> 3722.4 | J15: =J88+J141+J194 -> 4492 | K15: =K88+K141+K194 -> 5383.1 | M15: =M88+M141+M194 -> 5554.8 | O15: =O88+O141+O194 -> 5738
A16: Bunuri și servicii | F16: 22 | G16: X | I16: =I92+I145+I198 -> 815.1 | J16: =J92+J145+J198 -> 1457.6 | K16: =K92+K145+K198 -> 2344.9 | M16: =M92+M145+M198 -> 3042.5 | O16: =O92+O145+O198 -> 3055.9
A17: Indemnizații pentru incapacitatea temporară de muncă achitate din mijloacele financiare ale angajatorului | F17: 27 | G17: X | I17: =I114+I167+I220 -> 12.7 | J17: =J114+J167+J220 -> 60.6 | K17: =K114+K167+K220 -> 65.6 | M17: =M114+M167+M220 -> 65.6 | O17: =O114+O167+O220 -> 65.6
A18: Alte cheltuieli | F18: 28 | I18: =I117+I170 -> 0 | J18: =J117+J170 -> 2 | K18: =K117+K170+K223 -> 2 | M18: =M117+M170 -> 2 | O18: =O117+O170 -> 2
A19: Mijloace fixe | F19: 31 | G19: X | I19: =I122+I175+I228 -> 121.8 | J19: =J122+J175+J228 -> 57 | K19: =K122+K175+K228 -> 144 | M19: =M122+M175+M228 -> 146.9 | O19: =O122+O175+O228 -> 146.9
A20: Stocuri și materiale circulante | F20: 33 | G20: X | I20: =I129+I182+I235 -> 274.9 | J20: =J129+J182+J235 -> 316.4 | K20: =K129+K182+K235 -> 507 | M20: =M129+M182+M235 -> 454.8 | O20: =O129+O182+O235 -> 454.8
A22: Denumirea | C22: Cod | G22: 2016 | I22: 2017 | J22: 2018 | K22: 2019 | M22: 2020 | O22: 2021
C23: S3 | D23: S5 | E23: F1 | F23: Eco (k2) | G23: Executat | I23: Executat | J23: Aprobat | K23: Aprobat | M23: Estimat | O23: Estimat
A24: A.2.RESURSE, total (A2=A2.1+A2.2+A2.3) | G24: X | I24: =I25+I29+I33 -> 4946.9 | J24: =J25+J29+J33 -> 6385.6 | K24: =(K25+K29+K33) -> 8446.6 | L24: =L25+L29+L33 -> 0 | M24: =M25+M29+M33 -> 9266.6 | N24: =N25+N29+N33 -> 0 | O24: =O25+O29+O33 -> 9463.2 | P24: =P25+P29+P33 -> 0
A25: A.2.1. Resurse colectate interne, total | C25: 112 | D25: 11297 1 | F25: 14 | G25: X | J25: =J26+J27+J28 -> 0 | K25: 23.3 | M25: 23.3 | O25: 23.3
G26: X
G27: X
G28: X
A29: A.2.2. Resurse colectate externe, total | C29: 112 | G29: X | J29: =J30+J31+J32 -> 0 | K29: =K30+K31+K32 -> 0 | M29: =M30+M31+M32 -> 0 | O29: =O30+O31+O32 -> 0
G30: X
G31: X
G32: X
A33: A.2.3. Resurse generale, total A.2.3=A.1-(A.2.1+A.2.2) | C33: 111 | G33: X | I33: =I14-(I25+I29) -> 4946.9 | J33: =J14-(J25+J29) -> 6385.6 | K33: =K14-(K25+K29) -> 8423.3 | M33: =M14-(M25+M29) -> 9243.3 | O33: =O14-(O25+O29) -> 9439.9
G34: X | I34: X
A36: B. Sinteza limitelor de cheltuieli (se completează automat în SIMF), mii lei
A37: Denumirea | D37: Cod | G37: 2019 Aprobat | K37: 2020 Estimat | N37: 2021 Estimat
D38: F1 | E38: Cheltuieli (r/c), resurse (S3) | G38: Stabilit | I38: Deviere +/- | J38: Propus | K38: Stabilit | L38: Deviere +/- | M38: Propus | N38: Stabilit | O38: Deviere +/- | P38: Propus
A39: TOTAL | G39: =G40 -> 8446.6 | J39: =J40 -> 8446.6 | K39: =K40 -> 9266.6 | M39: =M40 -> 9266.6 | N39: =N40 -> 9463.2 | P39: =P40 -> 9463.2
A40: Cheltuieli recurente | D40: r | G40: =K14 -> 8446.6 | J40: =G40 -> 8446.6 | K40: =M14 -> 9266.6 | M40: =K40 -> 9266.6 | N40: =O14 -> 9463.2 | P40: =N40 -> 9463.2
A41: Investiţii capitale | D41: c
A43: TOTAL | G43: =G45 -> 8423.3 | J43: =J45 -> 8423.3 | K43: =K45 -> 9243.3 | M43: =M45 -> 9243.3 | N43: =N45 -> 9439.9 | P43: =P45 -> 9439.9
A44: Resurse colectate
A45: Resurse generale | G45: =K33 -> 8423.3 | J45: =G45 -> 8423.3 | K45: =M33 -> 9243.3 | M45: =K45 -> 9243.3 | N45: =O33 -> 9439.9 | P45: =N45 -> 9439.9
A48: C. Estimarea resurselor colectate de autorități/instituții, mii lei
A49: Denumirea | C49: Cod | I49: Descriere | K49: 2016 | L49: 2017 | M49: 2018 | N49: 2019 | O49: 2020 | P49: 2021
C50: Sursa (S3S4) | D50: Originea sursei (S5) | E50: Donator (S6) | F50: F3 | G50: P3 (7xx) | H50: Eco k6 | K50: Executat | L50: Executat | M50: Aprobat | N50: Aprobat | O50: Estimat | P50: Estimat
A51: TOTAL | K51: X | L51: X
K52: X | L52: X
K53: X | L53: X
K54: X | L54: X
K55: X | L55: X
K56: X | L56: X
A58: D. Estimarea cheltuielilor
O59: Cod
A60: Subgrupa | C60: Alte servicii de protecție socială | O60: 1099
A61: Program | C61: Protecția socială | O61: 90
A62: Subprogram | C62: Serviciu public în domeniul protecției sociale | O62: 17
A64: DI. Informație generală (se completează de către autoritatea superioară înainte de a remite formularul pentru completare instituţiilor din subordine)
A65: Scop | D65: Corectitudinea implimentării legislației în domeniul acordării ajutorului social și serviciilor sociale, precum și asigurarea serviciilor sociale de calitate în corespundere cu standardele minime de calitate. Sporirea calității asistenței sociale acordate populației prin implementarea politicii statului în domeniul asistenței sociale.
A66: Obiective (pe termen mediu, cu accent pe anul pentru care se aprobă programul) | D66: 1. Sporirea capacutățolpr instituției privind constatarea iregularitaților în domeniul inspectat.2.Creșterea ratei de depistare a iregularităților (cazuri de fraudă și eroare) cu 1% anual. 3. Creșterea treptată în fiecare an a numărului de rapoarte de inspecție cu 5%. 4. Menținerea numărului de prestatori de servicii sociale evaluati și acreditați în comparație cu anul 2018. 5. Acordarea suportului metodologic Structurilor teritoriale de asistență socială în domenioul asistenței sociale.
A67: Descriere succintă | D67: 1. Inspectarea modului de aplicare corectă și unitară a legislației în domeniul acordării prestațiilor sociale și serviciilor acordate de către autoritățile publice locale și centrele cu atribuții în domeniul respectiv, persoanelor fizice și juridice cu atribuții și responsabilități în domeniul asistenței sociale, prestatorii de servicii sociale publici și privați. 2. Acreditarea prestatorilor de servicii sociale. 3. Modalități eficiente de acordare a suportului metodologic structurilor de asistență socială în vederea implementării legislației în domeniul asistenței sociale.
A69: DII. Indicatorii de performanţă
A70: Categoria | B70: Cod | C70: Denumirea | J70: Unitatea de măsură | K70: 2016 | L70: 2017 | M70: 2018 | N70: 2019 | O70: 2020 | P70: 2021
K71: Executat | L71: Executat | M71: Aprobat | N71: Aprobat | O71: Estimat | P71: Estimat
A72: De rezultat | B72: r4 | C72: Numărul de servicii sociale evaluate/reevaluate | J72: unități | K72: X | L72: 93 | M72: 90 | N72: 90 | O72: 90 | P72: 90
B73: r7 | C73: Ponderea cererilor constatate cu iregularități (fraudă și eroare) din numărul total de cereri inspectate privind prestațiile sociale | J73: % | K73: X | L73: 75.9 | M73: 10 | N73: 60 | O73: 65 | P73: 65
B74: r5 | C74: Ponderea ședințelor realizate față de totalul ședințelor planificate | J74: % | K74: X | L74: 80 | M74: 90 | N74: 90 | O74: 90 | P74: 90
A75: De produs | B75: o8 | C75: Numărul mediu de experților naționali implicati în evaluare/acreditare | J75: persoane | K75: X | L75: 60 | M75: 60 | N75: 60 | O75: 65 | P75: 70
B76: o13 | C76: Numărul de cereri verificate privind prestațiile sociale | J76: unități | K76: X | L76: 1106 | M76: 1155 | N76: 1155 | O76: 1155 | P76: 1155
B77: o15 | C77: Numărul de rapoarte întocmite de inspecție | J77: unități | K77: X | L77: 43 | M77: 20 | N77: 40 | O77: 42 | P77: 44
B78: o9 | C78: Numărul ședințelor desfășurate | J78: unități | K78: X | L78: 40 | M78: 50 | N78: 50 | O78: 50 | P78: 50
A79: De eficiență | B79: e7 | C79: Cheltuieli medii pentru remunerarea unui expert | J79: lei/zi | K79: X | L79: 426 | M79: 426 | N79: 616 | O79: 616 | P79: 616
B80: e5 | C80: Ponderea misiunilor de inspecție efectiv realizate în totalul misiunilor planificate | J80: % | K80: X | L80: 100 | M80: 94 | N80: 94 | O80: 94 | P80: 94
B81: e8 | C81: Durata unei ședințe | J81: ore | K81: X | L81: 2,50-2,5 | M81: 1,5- 2,5 | N81: 2 | O81: 2 | P81: 2
A83: DIII. Cheltuieli, mii lei
A84: Denumirea | E84: Cod | G84: 2016 | I84: 2017 | J84: 2018 | K84: 2019 | M84: 2020 | O84: 2021
E85: P3 | F85: Eco (k6) | G85: Executat | I85: Executat | J85: Aprobat | K85: Aprobat | M85: Estimat | O85: Estimat
A86: Total general | G86: X | I86: =I87+I140+I193 -> 4946.9 | J86: =J87+J140+J193 -> 6385.6 | K86: =K87+K140+K193 -> 8446.6 | M86: =M87+M140+M193 -> 9266.6 | O86: =O87+O140+O193 -> 9463.2
A87: Inspecția socială | E87: 00369 | G87: X | I87: =I88+I92+I114+I117+I122+I129 -> 2705.5 | J87: =J88+J92+J114+J117+J122+J129 -> 2984.1 | K87: =K88+K92+K114+K117+K122+K129 -> 3250.9 | M87: =M88+M92+M114+M117+M122+M129 -> 3268.8 | O87: =O88+O92+O114+O117+O122+O129 -> 3350.7
A88: Cheltuieli de personal | F88: 21 | G88: X | I88: =I89+I90+I91 -> 2034.2 | J88: =J89+J90+J91 -> 2124.7 | K88: =K89+K90+K91 -> 2341.9 | M88: =M89+M90+M91 -> 2413.8 | O88: =O89+O90+O91 -> 2490.7
A89: Remunerarea muncii conform statelor | F89: 211180 | G89: X | I89: 1615 | J89: 1676 | K89: 1859.2 | M89: 1916.4 | O89: 1977.6
A90: Contribuţiile de asigurare sociale de stat obligatoriu | F90: 212100 | G90: X | I90: 350.8 | J90: 375.6 | K90: 399 | M90: 411.2 | O90: 424.1
A91: Prime de asigurare obligatorie de asistenţă medicală achitate de angajatori și angajați pe teritoriu țării | F91: 212210 | G91: X | I91: 68.4 | J91: 73.1 | K91: 83.7 | M91: 86.2 | O91: 89
A92: Bunuri și servicii | F92: 22 | H92: X | I92: =SUM(I93:I113) -> 400.4 | J92: =SUM(J93:J113) -> 611 | K92: =SUM(K93:K113) -> 635 | M92: =SUM(M93:M113) -> 631 | O92: =SUM(O93:O113) -> 636
A93: Energie electrică | F93: 222110 | G93: X
A94: Gaze | F94: 222120 | G94: X
A95: Energie termică | F95: 222130 | G95: X
A96: Apă și canalizare | F96: 222140 | G96: X
A97: Alte servicii energetice și comunale | F97: 222190 | G97: X
A98: Servicii informaționale | F98: 222210 | G98: X | I98: 17.9 | J98: 20.7 | K98: 21 | M98: 21 | O98: 21
A99: Servicii de telecomunicații | F99: 222220 | G99: X | I99: 14.2 | J99: 16 | K99: 10 | M99: 10 | O99: 10
A100: Servicii de locațiune | F100: 222300 | G100: X | I100: 242.8 | J100: 319.2 | K100: 319 | M100: 335 | O100: 340
A101: Servicii de transport | F101: 222400 | G101: X | I101: 14.4 | J101: 30 | K101: 15 | M101: 15 | O101: 15
A102: Servicii de reparații curente | F102: 222500 | G102: X | I102: 9.1 | J102: 30 | K102: 50 | M102: 30 | O102: 30
A103: Formare profesională | F103: 222600 | G103: X | J103: 10 | K103: 10 | M103: 10 | O103: 10
A104: Deplasări de serviciu în interiorul ţării | F104: 222710 | G104: X | I104: 62.2 | J104: 150 | K104: 100 | M104: 100 | O104: 100
A105: Deplasări de serviciu peste hotare | F105: 222720 | G105: X | I105: 10.9 | K105: 50 | M105: 50 | O105: 50
A106: Sevicii medicale | F106: 222800 | G106: X
A107: Servicii editoriale | F107: 222910 | G107: X
A108: Servicii de de protocol | F108: 222920 | G108: X | K108: 20 | M108: 20 | O108: 20
A109: Servicii de pază | F109: 222940 | G109: X | I109: 13.5 | J109: 13.5 | K109: 14 | M109: 14 | O109: 14
A110: Servicii de evaluare a activelor | F110: 222960 | G110: X
A111: Servicii bancare | F111: 222970 | G111: X | I111: 8.1 | J111: 11 | K111: 10 | M111: 10 | O111: 10
A112: Servicii poștale | F112: 222980 | G112: X | I112: 6.2 | J112: 6 | K112: 6 | M112: 6 | O112: 6
A113: Servicii neatribuite altor aliniate | F113: 222990 | G113: X | I113: 1.1 | J113: 4.6 | K113: 10 | M113: 10 | O113: 10
...

Sheet 90 19  Soc  dif de tarif Ac noi
N1: Formularul nr.4
E2: Propuneri de buget
D3: pentru anul 2019 și estimări pe anii 2020-2021
P5: Cod
A6: Sursa | D6: Bugetul de stat | P6: 02
A7: Autoritatea publică | D7: Ministerul Sănătății, Muncii și Protecției Sociale | P7: 0221
A8: Instituţia
A10: A. Sinteza propunerii de buget (se completează automat în SIMF), mii lei
A12: Denumirea | E12: Cod | G12: 2016 | I12: 2017 | J12: 2018 | K12: 2019 | M12: 2020 | O12: 2021
E13: F1 | F13: Eco (k2) | G13: Executat | I13: Executat | J13: Aprobat | K13: Aprobat | M13: Estimat | O13: Estimat
A14: A.1. CHELTUIELI, total | E14: 10 | G14: X | I14: =I15+I16+I17+I18+I19+I20 -> 15134.7 | J14: =J15+J16+J17+J18+J19+J20 -> 39029.8 | K14: =K15+K16+K17+K18+K19+K20 -> 34846 | M14: =M15+M16+M17+M18+M19+M20 -> 30892.3 | O14: =O15+O16+O17+O18+O19+O20 -> 29465.1
A15: Bunuri și servicii | F15: 22 | G15: X | I15: =I91 -> 97.8 | J15: =J91 -> 48.3 | K15: =K91 -> 5397.5 | M15: =M91 -> 1443.8 | O15: =O91 -> 487.5
A16: Subsidii | F16: 25 | G16: X | I16: =I87 -> 1433.9 | J16: =J87 -> 3332.2 | K16: =K87 -> 4172.7 | M16: =M87 -> 4637.2 | O16: =O87 -> 4819.6
A17: Prestații sociale | F17: 27 | G17: X | I17: =I125+I184 -> 13603 | J17: =J125+J184 -> 35649.3 | K17: =K125+K184 -> 25273.8 | M17: =M125+M184 -> 24809.3 | O17: =O125+O184 -> 24156
A18: Alte transferuri | F18: 29 | G18: X
A19: Mijloace fixe | F19: 31 | G19: X | I19: =I113 -> 0 | J19: =J113 -> 0 | K19: =K113 -> 2 | M19: =M113 -> 2 | O19: =O113 -> 2
A20: Stocuri și materiale circulante | F20: 33 | G20: X | I20: =I115 -> 0 | J20: =J115 -> 0 | K20: =K115 -> 0 | M20: =M115 -> 0 | O20: =O115 -> 0
A22: Denumirea | C22: Cod | G22: 2016 | I22: 2017 | J22: 2018 | K22: 2019 | M22: 2020 | O22: 2021
C23: S3 | D23: S5 | E23: F1 | F23: Eco (k2) | G23: Executat | I23: Executat | J23: Aprobat | K23: Aprobat | M23: Estimat | O23: Estimat
A24: A.2.RESURSE, total (A2=A2.1+A2.2+A2.3) | G24: X | I24: =(I25+I29+I33) -> 15134.7 | J24: =(J25+J29+J33) -> 39029.8 | K24: =(K25+K29+K33) -> 34846 | L24: =L25+L29+L33 -> 0 | M24: =(M25+M29+M33) -> 30892.3 | N24: =N25+N29+N33 -> 0 | O24: =(O25+O29+O33) -> 29465.1 | P24: =P25+P29+P33 -> 0
A25: A.2.1. Resurse colectate interne, total | C25: 112 | D25: 11297 1 | G25: X | I25: =I26+I27+I28 -> 0 | J25: =J26+J27+J28 -> 1600 | K25: =K26+K27+K28 -> 1650 | M25: =M26+M27+M28 -> 1650 | O25: =O26+O27+O28 -> 1650
A26: Alte venituri | F26: 14 | G26: X | J26: 1600 | K26: 1650 | M26: 1650 | O26: 1650
G27: X
G28: X
A29: A.2.2. Resurse colectate externe, total | C29: 112 | G29: X | J29: =J30+J31+J32 -> 0 | K29: =K30+K31+K32 -> 0 | M29: =M30+M31+M32 -> 0 | O29: =O30+O31+O32 -> 0
G30: X
G31: X
G32: X
A33: A.2.3. Resurse generale, total A.2.3=A.1-(A.2.1+A.2.2) | C33: 111 | G33: X | I33: =I14-(I25+I29) -> 15134.7 | J33: =J14-(J25+J29) -> 37429.8 | K33: =K14-(K25+K29) -> 33196 | M33: =M14-(M25+M29) -> 29242.3 | O33: =O14-(O25+O29) -> 27815.1
G34: X
A36: B. Sinteza limitelor de cheltuieli (se completează automat în SIMF), mii lei
A37: Denumirea | D37: Cod | G37: 2019 Aprobat | K37: 2020 Estimat | N37: 2021 Estimat
D38: F1 | E38: Cheltuieli (r/c), resurse (S3) | G38: Stabilit | I38: Deviere +/- | J38: Propus | K38: Stabilit | L38: Deviere +/- | M38: Propus | N38: Stabilit | O38: Deviere +/- | P38: Propus
A39: TOTAL | G39: =G40 -> 34846 | J39: =J40 -> 34846 | K39: =K40 -> 30892.3 | M39: =M40 -> 30892.3 | N39: =N40 -> 29465.1 | P39: =P40 -> 29465.1
A40: Cheltuieli recurente | D40: r | G40: =K14 -> 34846 | J40: =G40 -> 34846 | K40: =M14 -> 30892.3 | M40: =K40 -> 30892.3 | N40: =O14 -> 29465.1 | P40: =N40 -> 29465.1
A41: Investiţii capitale | D41: c
A43: TOTAL | G43: =G44+G45 -> 34846 | J43: =J44+J45 -> 34846 | K43: =K44+K45 -> 30892.3 | M43: =M44+M45 -> 30892.3 | N43: =N44+N45 -> 29465.1 | P43: =P44+P45 -> 29465.1
A44: Resurse colectate | G44: =K25 -> 1650 | J44: =G44 -> 1650 | K44: =M25 -> 1650 | M44: =O25 -> 1650 | N44: =O25 -> 1650 | P44: =N44 -> 1650
A45: Resurse generale | G45: =K33 -> 33196 | J45: =G45 -> 33196 | K45: =M33 -> 29242.3 | M45: =K45 -> 29242.3 | N45: =O33 -> 27815.1 | P45: =N45 -> 27815.1
A48: C. Estimarea resurselor colectate de autorități/instituții, mii lei
A49: Denumirea | C49: Cod | I49: Descriere | K49: 2013 | L49: 2014 | M49: 2015 | N49: 2016 | O49: 2017 | P49: 2018
C50: Sursa (S3S4) | D50: Originea sursei (S5) | E50: Donator (S6) | F50: F3 | G50: P3 (7xx) | H50: Eco k6 | K50: Executat | L50: Executat | M50: Aprobat | N50: Proiect | O50: Estimat | P50: Estimat
A51: TOTAL | K51: X | L51: X
K52: X | L52: X
K53: X | L53: X
K54: X | L54: X
K55: X | L55: X
K56: X | L56: X
A58: D. Estimarea cheltuielilor
O59: Cod
A60: Subgrupa | C60: Alte servicii de protecție socială | O60: 1099
A61: Program | C61: Protecția socială | O61: 90
A62: Subprogram | C62: Protecție socială a unor categorii de cetățeni | O62: 19
A64: DI. Informație generală (se completează de către autoritatea superioară înainte de a remite formularul pentru completare instituţiilor din subordine)
A65: Scop | D65: Protecția socială suplimentară a unor categorii de populație prin acordarea compesațiilor, inclusiv compensare parțială a contribuțiilor de asigurări sociale de stat de către organizațiile și întreprinderile Asociației Nevăzătorilor, Surzilor, Invalizilor. Acordarea facilităţilor tinerilor specialişti cu studii medicale şi farmaceutice plasaţi în cîmpul muncii în mediul rural.
A66: Obiective (pe termen mediu, cu accent pe anul pentru care se aprobă programul) | D66: Asigurarea compensării anuale, inclusiv compensare parțială a contribuțiilor de asigurări sociale de stat de către organizațiile și întreprinderile Asociației Nevăzătorilor, Surzilor, Invalizilor. Stimularea angajării tinerilor specialişti cu studii medicale şi farmaceutice în mediul rural.
A67: Descriere succintă | D67: Alocații pentru compensarea parțială a contribuțiilor de asigurări sociale de stat obligatorii, care se plătesc de organizațiile și întreprinderile AO Asociației Nevăzătorilor, Surzilor, Invalizilor. Acest program prevede susţinerea socială a tinerilor specialişti.
A69: DII. Indicatorii de performanţă
A70: Categoria | B70: Cod | C70: Denumirea | J70: Unitatea de măsură | K70: 2016 | L70: 2017 | M70: 2018 | N70: 2019 | O70: 2020 | P70: 2021
K71: Executat | L71: Executat | M71: Aprobat | N71: Aprobat | O71: Estimat | P71: Estimat
A72: De rezultat | B72: r2 | C72: Ponderea persoanelor care au beneficiat de serviciul de interpretare în limbajul mimico-gestual prestat de către interpreții Asociației Surzilor | J72: % | K72: X | L72: 33.3 | M72: 31 | N72: 31 | O72: 32 | P72: 33
B73: r1 | C73: Repartizarea foilor de tratament balneosanatorial la numarul total de beneficiari preconizați | J73: % | K73: X | L73: 100 | M73: 100 | N73: 100 | O73: 100 | P73: 100
B74: r1 | C74: Cota tinerilor specialişti ce au beneficiat de înlesniri faţă de anul precedent | J74: % | K74: X | L74: 119.3 | M74: 183.9 | N74: 68.8 | O74: 98 | P74: 97.1
A75: De produs | B75: o2 | C75: Numărul mediu al interpreților încadrați în prestarea serviciului persoanelor cu dizabilități auditive | J75: persoane | K75: X | L75: 12 | M75: 10 | N75: 11 | O75: 12 | P75: 12
B76: o10 | C76: Numărul de beneficiari de bilete de tratament balneosanatorial | J76: persoane | K76: X | L76: 200 | M76: 78 | N76: 254 | O76: 254 | P76: 254
B77: o1 | C77: 1.Numărul de tineri specialişti ce au beneficiat de înlesniri | J77: persoane | K77: X | L77: 1282 | M77: 1830 | N77: 1260 | O77: 1235 | P77: 1200
A78: De eficiență | B78: e2 | C78: Costul mediu a unei ore de serviciu prestat | J78: lei | K78: X | L78: 39.98 | M78: 46.38 | N78: 52.62 | O78: 57.19 | P78: 62.05
B79: e15 | C79: Costul mediu a unui bilet de tratament balneosanatorial. | J79: lei | K79: X | L79: 5985 | M79: 5400 | N79: 6500 | O79: 6500 | P79: 6500
B80: e1 | C80: 3.Valoarea indemnizaţiei unice acordate tinerilor specialişti angajaţi | J80: mii lei | K80: X | L80: 30/24 | M80: 45/36 | N80: 45/36 | O80: 45/36 | P80: 45/36
B81: e2 | C81: 4.Costul per specialist | J81: lei | K81: X | L81: 13140.3 | M81: 18606.2 | N81: 18749 | O81: 18752.5 | P81: 18755
A82: DIII. Cheltuieli, mii lei | Q82: 2021
A83: Denumirea | E83: Cod | G83: 2016 | I83: 2017 | J83: 2018 | K83: 2019 | M83: 2020 | O83: 2021 | Q83: =#REF!+#REF! -> #REF!
E84: P3 | F84: Eco (k6) | G84: Executat | I84: Executat | J84: Aprobat | K84: Aprobat | M84: Estimat | O84: Estimat
A85: Total general | I85: =I86+I125+I130 -> 15134.7 | J85: =J86+J125+J130 -> 39029.8 | K85: =K86+K125+K130 -> 34846 | M85: =M86+M125+M130 -> 30892.3 | O85: =O86+O125+O130 -> 29465.1
A86: Prestarea altor tipuri de servicii sociale unor categorii de populație | E86: 00348 | G86: X | I86: =I87+I90 -> 1531.7 | J86: =J87+J90 -> 3380.5 | K86: =K87+K90 -> 9572.2 | L86: =L88+L90 -> 0 | M86: =M87+M90 -> 6083 | N86: =N88+N90 -> 0 | O86: =O87+O90 -> 5309.1
A87: Subsidii | F87: 25 | G87: X | I87: =I88+I89 -> 1433.9 | J87: =J88+J89 -> 3332.2 | K87: =K88+K89 -> 4172.7 | M87: =M88+M89 -> 4637.2 | O87: =O88+O89 -> 4819.6
A88: Subsidii acordate organizațiilor obștești | E88: 134/09 | F88: 253000 | G88: X | I88: 1433.9 | J88: 1832.2 | K88: 1690.7 | M88: 1855.2 | O88: 2037.6
A89: Subsidii acordate întreprinderilor de stat și municipiale nefinanciare | F89: 251100 | G89: X | J89: 1500 | K89: 2482 | M89: 2782 | O89: 2782
A90: Alte servicii de protecție socială (activ. noi) | E90: 00348 | I90: =I91+I115+I113 -> 97.8 | J90: =J91+J115+J113 -> 48.3 | K90: =K91+K115+K113 -> 5399.5 | M90: =M91+M115+M113 -> 1445.8 | O90: =O91+O115+O113 -> 489.5
A91: Bunuri și servicii | E91: 113 | F91: 22 | G91: X | I91: =I92+I93+I94+I95+I96+I97+I98+I99+I100+I101+I102+I103+I104+I105+I106+I107+I108+I109+I110+I111+I112 -> 97.8 | J91: =J92+J93+J94+J95+J96+J97+J98+J99+J100+J101+J102+J103+J104+J105+J106+J107+J108+J109+J110+J111+J112 -> 48.3 | K91: =K92+K93+K94+K95+K96+K97+K98+K99+K100+K101+K102+K103+K104+K105+K106+K107+K108+K109+K110+K111+K112 -> 5397.5 | M91: =M92+M93+M94+M95+M96+M97+M98+M99+M100+M101+M102+M103+M104+M105+M106+M107+M108+M109+M110+M111+M112 -> 1443.8 | O91: =O92+O93+O94+O95+O96+O97+O98+O99+O100+O101+O102+O103+O104+O105+O106+O107+O108+O109+O110+O111+O112 -> 487.5
A92: Energie electrică | E92: 113/01 | F92: 222110 | G92: X
A93: Gaze | E93: 113/02 | F93: 222120 | G93: X
A94: Energie termică | E94: 113/04 | F94: 222130 | G94: X
A95: Apă și canalizare | E95: 113/34 | F95: 222140 | G95: X
A96: Alte servicii energetice și comunale | E96: 113/35 | F96: 222190 | G96: X
A97: Servicii informaționale | E97: 113/30 | F97: 222210 | G97: X | I97: 49.8 | J97: 28.3
A98: Servicii de telecomunicații | E98: 113/11 | F98: 222220 | G98: X | J98: 20
A99: Servicii de locațiune | E99: 113/19 | F99: 222300 | G99: X
A100: Servicii de transport | E100: 113/13 | F100: 222400 | G100: X
A101: Servicii de reparații curente | E101: 113/17,18 | F101: 222500 | G101: X
A102: Formare profesională | E102: 113/21 | F102: 222600 | G102: X
A103: Deplasări de serviciu în interiorul ţării | E103: 114/01 | F103: 222710 | G103: X
A104: Deplasări de serviciu peste hotare | E104: 114/02 | F104: 222720 | G104: X
A105: Sevicii medicale | E105: 113/45 | F105: 222800 | G105: X
A106: Servicii editoriale | E106: 113/22 | F106: 222910 | G106: X
A107: Servicii de de protocol | E107: 113/23 | F107: 222920 | G107: X
A108: Servicii de pază | E108: 113/29 | F108: 222940 | G108: X
A109: Servicii de evaluare a activelor | E109: 113/45 | F109: 222960 | G109: X
A110: Servicii bancare | E110: 113/47 | F110: 222970 | G110: X
A111: Servicii poștale | E111: 113/11 | F111: 222980 | G111: X
...

Sheet 90  20  TI  215 220 761 
N1: Formularul nr.4
E2: Propuneri de buget
D3: pentru anul 2019 și estimări pe anii 2020-2021
P5: Cod
A6: Sursa | D6: Bugetul de stat | P6: 02
A7: Autoritatea publică | D7: Ministerul Sănătății, Muncii și Protecției Sociale | P7: 0221
A8: Instituţia
A10: A. Sinteza propunerii de buget (se completează automat în SIMF), mii lei
A12: Denumirea | E12: Cod | G12: 2016 | I12: 2017 | J12: 2018 | K12: 2019 | M12: 2020 | O12: 2021
E13: F1 | F13: Eco (k2) | G13: Executat | I13: Executat | J13: Aprobat | K13: Aprobat | M13: Estimat | O13: Estimat
A14: A.1. CHELTUIELI, total | E14: 10 | G14: X | I14: =I15+I16+I17 -> 22076.7 | J14: =J15+J16+J17 -> 12515.7 | K14: =K15+K16+K17 -> 11658.1 | M14: =M15+M16+M17 -> 7571.1 | O14: =O15+O16+O17 -> 7988.1
A15: Bunuri și servicii | F15: 22 | G15: X | I15: =I88+I92+I143+I197+I208+I221 -> 10883.6 | J15: =J88+J92+J143+J197+J208+J221 -> 12395.7 | K15: =K88+K92+K197+K221+K208 -> 11544.1 | M15: =M88+M92+M197+M221 -> 7571.1 | O15: =O88+O92+O197+O221 -> 7988.1
A16: Mijloace fixe | F16: 31 | G16: X | I16: =I118+I176 -> 11064.6 | J16: =J118+J176 -> 0 | K16: =K118 -> 0 | M16: =M118 -> 0 | O16: =O118 -> 0
A17: Stocuri și materiale circulante | F17: 33 | G17: X | I17: =I121+I184+I204+I214+I228 -> 128.5 | J17: =J121+J184+J204+J214+J228 -> 120 | K17: =K121+K184+K204+K214+K228 -> 114 | M17: =M121+M184+M204+M214+M228 -> 0 | O17: =O121+O184+O204+O214+O228 -> 0
A19: Denumirea | C19: Cod | G19: 2016 | I19: 2017 | J19: 2018 | K19: 2019 | M19: 2020 | O19: 2021
C20: S3 | D20: S5 | E20: F1 | F20: Eco (k2) | G20: Executat | I20: Executat | J20: Aprobat | K20: Aprobat | M20: Estimat | O20: Estimat
A21: A.2.RESURSE, total (A2=A2.1+A2.2+A2.3) | G21: X | I21: =(I22+I26+I30) -> 22076.7 | J21: =(J22+J26+J30) -> 12515.7 | K21: =(K22+K26+K30) -> 11658.1 | L21: =L22+L26+L30 -> 0 | M21: =(M22+M26+M30) -> 7571.1 | N21: =N22+N26+N30 -> 0 | O21: =(O22+O26+O30) -> 7988.1 | P21: =P22+P26+P30 -> 0
A22: A.2.1. Resurse colectate interne, total | C22: 112 | G22: X
G23: X
G24: X
G25: X
A26: A.2.2. Resurse colectate externe, total | C26: 112 | G26: X | I26: =I133 -> 18020.4 | J26: =J133 -> 0 | K26: =K133+K196+K207 -> 2038.2 | M26: =M133+M196 -> 0 | O26: =O27+O28+O29 -> 0
G27: X
G28: X
G29: X
A30: A.2.3. Resurse generale, total A.2.3=A.1-(A.2.1+A.2.2) | C30: 111 | G30: X | I30: =I14-(I22+I26) -> 4056.3 | J30: =J14-(J22+J26) -> 12515.7 | K30: =K14-(K22+K26) -> 9619.9 | M30: =M14-(M22+M26) -> 7571.1 | O30: =O14-(O22+O26) -> 7988.1
G31: X | I31: X
A33: B. Sinteza limitelor de cheltuieli (se completează automat în SIMF), mii lei
A34: Denumirea | D34: Cod | G34: 2019 Aprobat | K34: 2020 Estimat | N34: 2021 Estimat
D35: F1 | E35: Cheltuieli (r/c), resurse (S3) | G35: Stabilit | I35: Deviere +/- | J35: Propus | K35: Stabilit | L35: Deviere +/- | M35: Propus | N35: Stabilit | O35: Deviere +/- | P35: Propus
A36: TOTAL | G36: =G37 -> 11658.1 | J36: =J37 -> 11658.1 | K36: =K37 -> 7571.1 | M36: =M37 -> 7571.1 | N36: =N37 -> 7988.1 | P36: =P37 -> 7988.1
A37: Cheltuieli recurente | D37: r | G37: =K14 -> 11658.1 | J37: =G37 -> 11658.1 | K37: =M14 -> 7571.1 | M37: =K37 -> 7571.1 | N37: =O14 -> 7988.1 | P37: =N37 -> 7988.1
A38: Investiţii capitale | D38: c
A40: TOTAL | G40: =G42 -> 9619.9 | J40: =J42 -> 9619.9 | K40: =K42 -> 7571.1 | M40: =M42 -> 7571.1 | N40: =N42 -> 7988.1 | P40: =P42 -> 7988.1
A41: Resurse colectate
A42: Resurse generale | G42: =K30 -> 9619.9 | J42: =G42 -> 9619.9 | K42: =M30 -> 7571.1 | M42: =K42 -> 7571.1 | N42: =O30 -> 7988.1 | P42: =N42 -> 7988.1
A45: C. Estimarea resurselor colectate de autorități/instituții, mii lei
A46: Denumirea | C46: Cod | I46: Descriere | K46: 2016 | L46: 2017 | M46: 2018 | N46: 2019 | O46: 2020 | P46: 2021
C47: Sursa (S3S4) | D47: Originea sursei (S5) | E47: Donator (S6) | F47: F3 | G47: P3 (7xx) | H47: Eco k6 | K47: Executat | L47: Executat | M47: Aprobat | N47: Aprobat | O47: Estimat | P47: Estimat
A48: TOTAL | K48: X | L48: =L49+L54 -> 18019.7 | M48: =M49+M54+M55 -> 3167.1 | N48: =N54+N55 -> 2038.2 | O48: =O54 -> 0
A49: Proiectul ”Consolidarea eficacității rețelei de asistență socială” | C49: 298 | D49: 2 | E49: 054 | F49: 1099 | G49: 70064 | K49: X | L49: =I133 -> 18020.4 | M49: =J133 -> 0
K50: X | L50: X
K51: X | L51: X
K52: X | L52: X
K53: X | L53: X
A54: Proiectul ”Facilitarea implementării priorității nr.9 a Strategiei pentru regiunea Dunării” | C54: 298 | D54: 2 | E54: 055 | F54: 1099 | G54: 70132 | K54: X | L54: =I196 -> -0.7 | M54: =J196 -> 2081 | N54: =K196 -> 1264.2 | O54: =M196 -> 0
A55: Proiectul ”Dezvoltarea capacităților statistice pe baza datelor ce tin de abilități” | C55: 298 | D55: 2 | E55: 054 | F55: 1099 | G55: 70188 | K55: X | L55: =I207 -> 295 | M55: =J207 -> 1086.1 | N55: =K207 -> 774
A57: D. Estimarea cheltuielilor
O58: Cod
A59: Subgrupa | C59: Alte servicii de protecție socială | O59: 1099
A60: Program | C60: Protecția Socială | O60: 90
A61: Subprogram | C61: Susținerea activităților sistemului de protecție socială | O61: 20
A63: DI. Informație generală (se completează de către autoritatea superioară înainte de a remite formularul pentru completare instituţiilor din subordine)
A64: Scop | D64: Sistem modern și eficient de corelație dintre MMPSF si structurile teritoriale “Asistență socială” pentru asigurarea strategiei de reformă a sistemului de protecție socială.
A65: Obiective (pe termen mediu, cu accent pe anul pentru care se aprobă programul) | D65: 1. Asigurarea sistemului de protecție socială cu cantitatea necesară de blanchete, formulare și rapoarte. 2. Asigurarea accesului fiecărui asistent social la internet în mod continu și la calitatea prevazută de contractul în vigoare. 3. Suport în implementarea măsurilor de fortificare a arhitecturii de bază a sistemului de asistență socială pentru persoanele/familiile de favorizate cu accent pe Programul „Ajutor social„.
A66: Descriere succintă | D66: Cheltuieli pentru întreținerea sistemului de asistență socială, cheltuielile legate de crearea și menținerea sistemului de corelație între minister și subdiviziunile sale din teritoriu pentru asigurarea strategiei de reformă a sistemului de protecție socială, (crearea bazei unice informaționale, întreținerea sistemului informațional automatizat asistență socială (SIAAS), dezvoltarea sistemului de gestionare informațională în asistența socială (SGI), elaborarea formularelor ramurale de colectare a datelor. Oferirea de lucrări, bunuri, servicii neaferente consultanților, servicii ale consultanților și instruire pentru a susține consolidarea capacității instituționale a Ministerului Muncii, Protecției Sociale și Familiei de a implementa, măsura și monitoriza performanța programelor de asistență socială.
A68: DII. Indicatorii de performanţă
A69: Categoria | B69: Cod | C69: Denumirea | J69: Unitatea de măsură | K69: 2016 | L69: 2017 | M69: 2018 | N69: 2019 | O69: 2020 | P69: 2021
K70: Executat | L70: Executat | M70: Aprobat | N70: Aprobat | O70: Estimat | P70: Estimat
A71: De rezultat | B71: r1 | C71: Procentul asigurării cu blanchete, formulare și rapoarte din necesarul total | J71: % | K71: X | L71: 100 | M71: 100
B72: r3 | C72: Venitul lunar minim garantat | J72: lei | K72: X | L72: 961 | M72: 1014 | N72: 1058 | O72: 1110 | P72: 1166
B73: r2 | C73: Ponderea corelației sistemului dintre MMPSF si structurile teritoriale | J73: % | K73: X | L73: 100 | M73: 100 | N73: 100 | O73: 100 | P73: 100
A74: De produs | B74: o1 | C74: Necesarul anual al surselor financiare pentru acoperirea cheltuielilor legate de tipărirea blanchetelor, formularelor și rapoartelor | J74: mii lei | K74: X | L74: 11.9 | M74: =J87 -> 158.7 | N74: =K87 -> 0 | O74: =M89 -> 0 | P74: =O89 -> 0
B75: o2 | C75: Planificarea anuală a surselor financiare pentru acoperirea cheltuielilor Sistemului informațional automatizat de asistență socială (SIAAS) | J75: lei | K75: X | L75: 2937.3 | M75: =J98 -> 8239.2 | N75: =K98 -> 8269.9 | O75: =M98 -> 7571.1 | P75: =O98 -> 7988.1
B76: o3 | C76: Numărul de beneficiari de ajutor social | J76: unități | K76: X | L76: 56075 | M76: 52000 | N76: 52000 | O76: 51000 | P76: 51000
A77: De eficiență | B77: e1 | C77: Mărimea medie a ajutorului social | J77: lei | K77: X | L77: 835 | M77: 861 | N77: 870 | O77: 890 | P77: 890
K78: X | L78: X
K79: X | L79: X
B80: e2 | C80: Ponderea asigurării accesului asistentilor sociali la internet | J80: % | K80: X | L80: 100 | M80: 100 | N80: 100 | O80: 100 | P80: 100
B81: e3 | C81: Ponderea asigurarii sistemului de protecție socială cu cantitatea necesară de blanchete, formulare și rapoarte. | J81: % | K81: X | L81: 100 | M81: 100
A83: DIII. Cheltuieli, mii lei
A84: Denumirea | E84: Cod | G84: 2016 | I84: 2017 | J84: 2018 | K84: 2019 | M84: 2020 | O84: 2021
E85: P3 | F85: Eco (k6) | G85: Executat | I85: Executat | J85: Aprobat | K85: Aprobat | M85: Estimat | O85: Estimat
A86: Total general | I86: =I87+I91+I133+I196+I207+I220 -> 22076.7 | J86: =J87+J91+J133+J196+J207+J220 -> 12515.7 | K86: =K87+K91+K133+K196+K207+K220 -> 11658.1 | M86: =M87+M91+M133+M196+M207+M220 -> 7571.1 | O86: =O87+O91+O133+O196+O207+O220 -> 7988.1
A87: Fabricarea blanchetelor | E87: 00304 | I87: =I88 -> 11.9 | J87: =J88 -> 158.7 | K87: =K88 -> 0 | M87: =M88 -> 0 | N87: =N88 -> 0 | O87: =O88 -> 0
A88: Bunuri și servicii | E88: 113 | F88: 22 | H88: X | I88: =I89+I90 -> 11.9 | J88: =J89+J90 -> 158.7 | K88: =K89 -> 0 | M88: =M89 -> 0 | O88: =O89 -> 0
A89: Servicii editoriale | E89: 113/22 | F89: 222910 | H89: X | I89: 2.2
A90: Servicii neatribuite altor aliniate | E90: 113/45 | F90: 222990 | G90: X | I90: 9.7 | J90: 158.7
A91: Alocații centralizate | E91: 00059 | I91: =I92++I114+I118+I121 -> 2971.6 | J91: =J92++J114+J118+J121 -> 8269.9 | K91: =K92+K114+K118+K121 -> 8269.9 | M91: =M92++M114+M118+M121 -> 7571.1 | O91: =O92++O114+O118+O121 -> 7988.1
A92: Bunuri și servicii | E92: 113 | F92: 22 | G92: X | I92: =SUM(I93:I102) -> 2937.3 | J92: =SUM(J93:J102) -> 8269.9 | K92: =SUM(K93:K111) -> 8269.9 | M92: =SUM(M93:M111) -> 7571.1 | O92: =SUM(O93:O111) -> 7988.1
A93: Energie electrică | E93: 113/01 | F93: 222110 | G93: X
A94: Gaze | E94: 113/02 | F94: 222120 | G94: X
A95: Energie termică | E95: 113/04 | F95: 222130 | G95: X
A96: Apă și canalizare | E96: 113/34 | F96: 222140 | G96: X
A97: Alte servicii energetice și comunale | E97: 113/35 | F97: 222190 | G97: X
A98: Servicii informaționale | E98: 113/30 | F98: 222210 | G98: X | I98: 2936.9 | J98: 8239.2 | K98: 8269.9 | M98: 7571.1 | O98: 7988.1
A99: Servicii de telecomunicații | E99: 113/11 | F99: 222220 | G99: X | J99: =K99*1.064 -> 0 | M99: =J99*1.05 -> 0 | O99: =M99*1.05 -> 0
A100: Servicii de locațiune | E100: 113/19 | F100: 222300 | G100: X | I100: 0.4 | J100: 30.7
A101: Servicii de transport | E101: 113/13 | F101: 222400 | G101: X | J101: =K101*1.064 -> 0 | M101: =J101*1.05 -> 0 | O101: =M101*1.05 -> 0
A102: Servicii de reparații curente | E102: 113/17,18 | F102: 222500 | G102: X
A103: Formare profesională | E103: 113/21 | F103: 222600 | G103: X | J103: =K103*1.064 -> 0 | M103: =J103*1.05 -> 0 | O103: =M103*1.05 -> 0
A104: Deplasări de serviciu în interiorul ţării | E104: 114/01 | F104: 222710 | G104: X | J104: =K104*1.064 -> 0 | M104: =J104*1.05 -> 0 | O104: =M104*1.05 -> 0
A105: Deplasări de serviciu peste hotare | E105: 114/02 | F105: 222720 | G105: X | J105: =K105*1.064 -> 0 | M105: =J105*1.05 -> 0 | O105: =M105*1.05 -> 0
A106: Sevicii medicale | E106: 113/45 | F106: 222800 | G106: X | J106: =K106*1.064 -> 0 | M106: =J106*1.05 -> 0 | O106: =M106*1.05 -> 0
A107: Servicii editoriale | E107: 113/22 | F107: 222910 | G107: X | J107: =K107*1.064 -> 0 | M107: =J107*1.05 -> 0 | O107: =M107*1.05 -> 0
A108: Servicii de de protocol | E108: 113/23 | F108: 222920 | G108: X | J108: =K108*1.064 -> 0 | M108: =J108*1.05 -> 0 | O108: =M108*1.05 -> 0
A109: Servicii de pază | E109: 113/29 | F109: 222940 | G109: X | J109: =K109*1.064 -> 0 | M109: =J109*1.05 -> 0 | O109: =M109*1.05 -> 0
A110: Servicii poștale | E110: 113/11 | F110: 222980 | G110: X | J110: =K110*1.064 -> 0 | M110: =J110*1.05 -> 0 | O110: =M110*1.05 -> 0
A111: Servicii neatribuite altor aliniate | E111: 113/45 | F111: 222990 | G111: X | J111: =K111*1.064 -> 0
F114: 28 | G114: X | K114: =K115+K116+K117 -> 0
...
