Workbook

Sheet 50 03  Serv gen 130 221 296
N2: Formularul nr.4
E4: Propuneri de buget
D5: pentru anul 2019 și estimări pe anii 2020-2021
P7: Cod
A8: Sursa | D8: Bugetul de stat | P8: 02
A9: Autoritatea publică | D9: Ministerul Sănătății, Muncii și Protecției Sociale | P9: 0221
A12: A. Sinteza propunerii de buget (se completează automat în SIMF), mii lei
A14: Denumirea | E14: Cod | G14: 2016 | I14: 2017 | J14: 2018 | K14: 2019 | M14: 2020 | O14: 2021
E15: F1 | F15: Eco (k2) | G15: Executat | I15: Executat | J15: Aprobat | K15: Aprobat | M15: Estimat | O15: Estimat
A16: A.1. CHELTUIELI, total | E16: 10 | G16: X | I16: =SUM(I17:I23) -> 52909.5 | J16: =SUM(J17:J23) -> 50714.8 | K16: =SUM(K17:K23) -> 52857.2 | M16: =SUM(M17:M23) -> 53987 | O16: =SUM(O17:O23) -> 55282.8
A17: Cheltuieli de personal | F17: 21 | G17: X | I17: =I91+I141 -> 36572.6 | J17: =J91+J141 -> 33202.6 | K17: =K91+K141 -> 34617.7 | M17: =M91+M141 -> 35890.1 | O17: =O91+O141 -> 37241.6
A18: Bunuri și servicii | F18: 22 | G18: X | I18: =I95+I145 -> 5821.3 | J18: =J95+J145 -> 7793.5 | K18: =K95+K145 -> 7925.9 | M18: =M95+M145 -> 8474.3 | O18: =O95+O145 -> 8318.6
A19: Subsidii | F19: 25 | G19: X | I19: =I192 -> 5899.4 | J19: =J192 -> 5360.8 | K19: =K192 -> 5660.8 | M19: =M192 -> 6000 | O19: =O192 -> 6100
A20: Indemnizații pentru incapacitatea temporară de muncă achitate din mijloacele financiare ale angajatorului | F20: 27 | G20: X | I20: =I116+I166 -> 521.8 | J20: =J116+J166 -> 399.3 | K20: =K116+K166 -> 470.9 | M20: =M116+M166 -> 470.9 | O20: =O116+O166 -> 470.9
A21: Alte cheltuieli | F21: 28 | G21: X | I21: =I119+I169 -> 10.5 | J21: =J119+J169 -> 15 | K21: =K119+K169 -> 27 | M21: =M119+M169 -> 27 | O21: =O119+O169 -> 27
A22: Mijloace fixe | F22: 31 | G22: X | I22: =I124+I176 -> 2848.1 | J22: =J124+J176 -> 2149.4 | K22: =K124+K176 -> 2181.5 | M22: =M124+M176 -> 1300 | O22: =O124+O176 -> 1300
A23: Stocuri și materiale circulante | F23: 33 | G23: X | I23: =I131+I183 -> 1235.8 | J23: =J131+J183 -> 1794.2 | K23: =K131+K183 -> 1973.4 | M23: =M131+M183 -> 1824.7 | O23: =O131+O183 -> 1824.7
A25: Denumirea | C25: Cod | G25: 2016 | I25: 2017 | J25: 2018 | K25: 2019 | M25: 2020 | O25: 2021
C26: S3 | D26: S5 | E26: F1 | F26: Eco (k2) | G26: Executat | I26: Executat | J26: Aprobat | K26: Aprobat | M26: Estimat | O26: Estimat
A27: A.2.RESURSE, total (A2=A2.1+A2.2+A2.3) | G27: X | I27: =(I28+I32+I36) -> 52909.5 | J27: =(J28+J32+J36) -> 50714.8 | K27: =(K28+K32+K36) -> 52857.2 | L27: =L28+L32+L36 -> 0 | M27: =(M28+M32+M36) -> 53987 | N27: =N28+N32+N36 -> 0 | O27: =(O28+O32+O36) -> 55282.8 | P27: =P28+P32+P36 -> 0
A28: A.2.1. Resurse colectate interne, total | C28: 112 | D28: 11297 1 | E28: 10 | F28: 14 | G28: X | J28: =J29+J30+J31 -> 0 | K28: 26.4 | M28: 26.4 | O28: 26.4
G29: X | K29: 0
G30: X
G31: X
A32: A.2.2. Resurse colectate externe, total | C32: 112 | G32: X | J32: =J33+J34+J35 -> 0 | K32: =K33+K34+K35 -> 0 | M32: =M33+M34+M35 -> 0 | O32: =O33+O34+O35 -> 0
G33: X
G34: X
G35: X
A36: A.2.3. Resurse generale, total A.2.3=A.1-(A.2.1+A.2.2) | C36: 111 | G36: X | I36: =I16-(I28+I32) -> 52909.5 | J36: =J16-(J28+J32) -> 50714.8 | K36: =K16-(K28+K32) -> 52830.8 | M36: =M16-(M28+M32) -> 53960.6 | O36: =O16-(O28+O32) -> 55256.4
G37: X
A39: B. Sinteza limitelor de cheltuieli (se completează automat în SIMF), mii lei
A40: Denumirea | D40: Cod | G40: 2019 Aprobat | K40: 2020 Estimat | N40: 2021 Estimat
D41: F1 | E41: Cheltuieli (r/c), resurse (S3) | G41: Stabilit | I41: Deviere +/- | J41: Propus | K41: Stabilit | L41: Deviere +/- | M41: Propus | N41: Stabilit | O41: Deviere +/- | P41: Propus
A42: TOTAL | G42: =G43 -> 52857.2 | J42: =J43 -> 52857.2 | K42: =K43 -> 53987 | M42: =M43 -> 53987 | N42: =N43 -> 55282.8 | P42: =P43 -> 55282.8
A43: Cheltuieli recurente | D43: r | G43: =K16 -> 52857.2 | J43: =G43 -> 52857.2 | K43: =M16 -> 53987 | M43: =K43 -> 53987 | N43: =O16 -> 55282.8 | P43: =N43 -> 55282.8
A44: Investiţii capitale | D44: c
A46: TOTAL | G46: =G48 -> 52830.8 | J46: =J48 -> 52830.8 | K46: =K48 -> 53960.6 | M46: =M48 -> 53960.6 | N46: =N48 -> 55256.4 | P46: =P48 -> 55256.4
A47: Resurse colectate
A48: Resurse generale | G48: =K36 -> 52830.8 | J48: =G48 -> 52830.8 | K48: =M36 -> 53960.6 | M48: =K48 -> 53960.6 | N48: =O36 -> 55256.4 | P48: =N48 -> 55256.4
A51: C. Estimarea resurselor colectate de autorități/instituții, mii lei
...

Sheet 50 03  Serv gen  TI 130
N1: Formularul nr.4
E2: Propuneri de buget
D3: pentru anul 2019 și estimări pe anii 2020-2021
P5: Cod
A6: Sursa | D6: Bugetul de stat | P6: 02
A7: Autoritatea publică | D7: Ministerul Sănătății, Muncii și Protecției Sociale | P7: 0221
A8: Instituţia | D8: Inspectoratul de stat al Muncii | P8: 15310
A10: A. Sinteza propunerii de buget (se completează automat în SIMF), mii lei
A12: Denumirea | E12: Cod | G12: 2016 | I12: 2017 | J12: 2018 | K12: 2019 | M12: 2020 | O12: 2021
E13: F1 | F13: Eco (k2) | G13: Executat | I13: Executat | J13: Aprobat | K13: Aprobat | M13: Estimat | O13: Estimat
A14: A.1. CHELTUIELI, total | E14: 10 | G14: X | I14: =I15+I16+I17+I18+I19+I20 -> 14591.2 | J14: =J15+J16+J17+J18+J19+J20 -> 11780.9 | K14: =K15+K16+K17+K18+K19+K20 -> 11584.9 | M14: =M15+M16+M17+M18+M19+M20 -> 10665.8 | O14: =O15+O16+O17+O18+O19+O20 -> 10888.1
A15: Cheltuieli de personal | F15: 21 | G15: X | I15: =I82 -> 10297.8 | J15: =J82 -> 7395.2 | K15: =K82 -> 7317 | M15: =M82 -> 7590.6 | O15: =O82 -> 7875.3
A16: Bunuri și servicii | F16: 22 | G16: X | I16: =I86 -> 1139.9 | J16: =J86 -> 1987.3 | K16: =K86 -> 2011.1 | M16: =M86 -> 1822.4 | O16: =O86 -> 1760
A17: Indemnizații pentru incapacitatea temporară de muncă achitate din mijloacele financiare ale angajatorului | F17: 27 | G17: X | I17: =I107 -> 295.1 | J17: =J107 -> 92.1 | K17: =K107 -> 92.1 | M17: =M107 -> 92.1 | O17: =O107 -> 92.1
A18: Alte cheltuieli | F18: 28 | G18: X | I18: =I110 -> 0 | J18: =J110 -> 0 | K18: =K110 -> 0 | M18: =M110 -> 0 | O18: =O110 -> 0
A19: Mijloace fixe | F19: 31 | G19: X | I19: =I115 -> 2103.6 | J19: =J115 -> 1114.3 | K19: =K115 -> 881.5 | M19: =M115 -> 0 | O19: =O115 -> 0
A20: Stocuri și materiale circulante | F20: 33 | G20: X | I20: =I122 -> 754.8 | J20: =J122 -> 1192 | K20: =K122 -> 1283.2 | M20: =M122 -> 1160.7 | O20: =O122 -> 1160.7
A22: Denumirea | C22: Cod | G22: 2016 | I22: 2017 | J22: 2018 | K22: 2019 | M22: 2020 | O22: 2021
C23: S3 | D23: S5 | E23: F1 | F23: Eco (k2) | G23: Executat | I23: Executat | J23: Aprobat | K23: Aprobat | M23: Estimat | O23: Estimat
A24: A.2.RESURSE, total (A2=A2.1+A2.2+A2.3) | G24: X | I24: =(I25+I29+I33) -> 14591.2 | J24: =(J25+J29+J33) -> 11780.9 | K24: =(K25+K29+K33) -> 11584.9 | L24: =L25+L29+L33 -> 0 | M24: =(M25+M29+M33) -> 10665.8 | N24: =N25+N29+N33 -> 0 | O24: =(O25+O29+O33) -> 10888.1 | P24: =P25+P29+P33 -> 0
A25: A.2.1. Resurse colectate interne, total | C25: 112 | D25: 11297 1 | E25: 10 | F25: 14 | G25: X | J25: =J26+J27+J28 -> 0 | K25: 26.4 | M25: 26.4 | O25: 26.4
G26: X | K26: 0
G27: X
G28: X
A29: A.2.2. Resurse colectate externe, total | C29: 112 | G29: X | J29: =J30+J31+J32 -> 0 | K29: =K30+K31+K32 -> 0 | M29: =M30+M31+M32 -> 0 | O29: =O30+O31+O32 -> 0
G30: X
G31: X
G32: X
A33: A.2.3. Resurse generale, total A.2.3=A.1-(A.2.1+A.2.2) | C33: 111 | G33: X | I33: =I14-(I25+I29) -> 14591.2 | J33: =J14-(J25+J29) -> 11780.9 | K33: =K14-(K25+K29) -> 11558.5 | M33: =M14-(M25+M29) -> 10639.4 | O33: =O14-(O25+O29) -> 10861.7
G34: X | I34: X
A36: B. Sinteza limitelor de cheltuieli (se completează automat în SIMF), mii lei
A37: Denumirea | D37: Cod | G37: 2019 Aprobat | K37: 2020 Estimat | N37: 2021 Estimat
D38: F1 | E38: Cheltuieli (r/c), resurse (S3) | G38: Stabilit | I38: Deviere +/- | J38: Propus | K38: Stabilit | L38: Deviere +/- | M38: Propus | N38: Stabilit | O38: Deviere +/- | P38: Propus
A39: TOTAL | G39: =G40 -> 11584.9 | J39: =J40 -> 11584.9 | K39: =K40 -> 10665.8 | M39: =M40 -> 10665.8 | N39: =N40 -> 10888.1 | P39: =P40 -> 10888.1
A40: Cheltuieli recurente | D40: r | G40: =K14 -> 11584.9 | J40: =G40 -> 11584.9 | K40: =M14 -> 10665.8 | M40: =K40 -> 10665.8 | N40: =O14 -> 10888.1 | P40: =N40 -> 10888.1
A41: Investiţii capitale | D41: c
A43: TOTAL | G43: =G45 -> 11780.9 | J43: =J45 -> 11780.9 | K43: =K45 -> 10639.4 | M43: =M45 -> 10639.4 | N43: =N45 -> 10861.7 | P43: =P45 -> 10861.7
A44: Resurse colectate
A45: Resurse generale | G45: =J33 -> 11780.9 | J45: =G45 -> 11780.9 | K45: =M33 -> 10639.4 | M45: =K45 -> 10639.4 | N45: =O33 -> 10861.7 | P45: =N45 -> 10861.7
A48: C. Estimarea resurselor colectate de autorități/instituții, mii lei
...

Sheet 50 03  Serv gen Fort ANOFM AOFM
N1: Formularul nr.4
E2: Propuneri de buget
D3: pentru anul 2019 și estimări pe anii 2020-2021
P5: Cod
A6: Sursa | D6: Bugetul de stat | P6: 02
A7: Autoritatea publică | D7: Ministerul Sănătății, Muncii și Protecției Sociale | P7: 0221
A8: Instituţia | D8: Agenția Națională și teritoriale pentru Ocuparea Forței de Muncă | P8: 2368
A10: A. Sinteza propunerii de buget (se completează automat în SIMF), mii lei
A12: Denumirea | E12: Cod | G12: 2016 | I12: 2017 | J12: 2018 | K12: 2019 | M12: 2020 | O12: 2021
E13: F1 | F13: Eco (k2) | G13: Executat | I13: Executat | J13: Aprobat | K13: Aprobat | M13: Estimat | O13: Estimat
A14: A.1. CHELTUIELI, total | E14: 10 | G14: X | I14: =I15+I16+I17+I18+I19+I20 -> 32418.9 | J14: =J15+J16+J17+J18+J19+J20 -> 33573.1 | K14: =K15+K16+K17+K18+K19+K20 -> 35611.5 | M14: =M15+M16+M17+M18+M19+M20 -> 37321.2 | O14: =O15+O16+O17+O18+O19+O20 -> 38294.7
A15: Cheltuieli de personal | F15: 21 | G15: X | I15: =I83 -> 26274.8 | J15: =J83 -> 25807.4 | K15: =K83 -> 27300.7 | M15: =M83 -> 28299.5 | O15: =O83 -> 29366.3
A16: Bunuri și servicii | F16: 22 | G16: X | I16: =I87 -> 4681.4 | J16: =J87 -> 5806.2 | K16: =K87 -> 5914.8 | M16: =M87 -> 6651.9 | O16: =O87 -> 6558.6
A17: Indemnizații pentru incapacitatea temporară de muncă achitate din mijloacele financiare ale angajatorului | F17: 27 | G17: X | I17: =I108 -> 226.7 | J17: =J108 -> 307.2 | K17: =K108 -> 378.8 | M17: =M108 -> 378.8 | O17: =O108 -> 378.8
A18: Alte cheltuieli | F18: 28 | G18: X | I18: =I111 -> 10.5 | J18: =J111 -> 15 | K18: =K111 -> 27 | M18: =M111 -> 27 | O18: =O111 -> 27
A19: Mijloace fixe | F19: 31 | G19: X | I19: =I118 -> 744.5 | J19: =J118 -> 1035.1 | K19: =K118 -> 1300 | M19: =M118 -> 1300 | O19: =O118 -> 1300
A20: Stocuri și materiale circulante | F20: 33 | G20: X | I20: =I125 -> 481 | J20: =J125 -> 602.2 | K20: =K125 -> 690.2 | M20: =M125 -> 664 | O20: =O125 -> 664
A22: Denumirea | C22: Cod | G22: 2016 | I22: 2017 | J22: 2018 | K22: 2019 | M22: 2020 | O22: 2021
C23: S3 | D23: S5 | E23: F1 | F23: Eco (k2) | G23: Executat | I23: Executat | J23: Aprobat | K23: Aprobat | M23: Estimat | O23: Estimat
A24: A.2.RESURSE, total (A2=A2.1+A2.2+A2.3) | G24: X | I24: =(I25+I29+I33) -> 32418.9 | J24: =(J25+J29+J33) -> 33573.1 | K24: =(K25+K29+K33) -> 35611.5 | L24: =L25+L29+L33 -> 0 | M24: =(M25+M29+M33) -> 37321.2 | N24: =N25+N29+N33 -> 0 | O24: =(O25+O29+O33) -> 38294.7 | P24: =P25+P29+P33 -> 0
A25: A.2.1. Resurse colectate interne, total | C25: 112 | D25: 11297 1 | G25: X | J25: =J26+J27+J28 -> 0 | K25: =K26+K27+K28 -> 0 | M25: =M26+M27+M28 -> 0 | O25: =O26+O27+O28 -> 0
G26: X
G27: X
G28: X
A29: A.2.2. Resurse colectate externe, total | C29: 112 | G29: X | J29: =J30+J31+J32 -> 0 | K29: =K30+K31+K32 -> 0 | M29: =M30+M31+M32 -> 0 | O29: =O30+O31+O32 -> 0
G30: X
G31: X
G32: X
A33: A.2.3. Resurse generale, total A.2.3=A.1-(A.2.1+A.2.2) | C33: 111 | G33: X | I33: =I14-(I25+I29) -> 32418.9 | J33: =J14-(J25+J29) -> 33573.1 | K33: =K14-(K25+K29) -> 35611.5 | M33: =M14-(M25+M29) -> 37321.2 | O33: =O14-(O25+O29) -> 38294.7
G34: X
A36: B. Sinteza limitelor de cheltuieli (se completează automat în SIMF), mii lei
A37: Denumirea | D37: Cod | G37: 2019 Aprobat | K37: 2020 Estimat | N37: 2021 Estimat
D38: F1 | E38: Cheltuieli (r/c), resurse (S3) | G38: Stabilit | I38: Deviere +/- | J38: Propus | K38: Stabilit | L38: Deviere +/- | M38: Propus | N38: Stabilit | O38: Deviere +/- | P38: Propus
A39: TOTAL | G39: =G40+G41 -> 35611.5 | J39: =J40+J41 -> 35611.5 | K39: =K40+K41 -> 37321.2 | M39: =M40+M41 -> 37321.2 | N39: =N40+N41 -> 38294.7 | P39: =P40+P41 -> 38294.7
A40: Cheltuieli recurente | D40: r | G40: =K14 -> 35611.5 | J40: =G40 -> 35611.5 | K40: =M14 -> 37321.2 | M40: =K40 -> 37321.2 | N40: =O14 -> 38294.7 | P40: =N40 -> 38294.7
A41: Investiţii capitale | D41: c
A43: TOTAL | G43: =G44+G45 -> 35611.5 | J43: =J44+J45 -> 35611.5 | K43: =K44+K45 -> 37321.2 | M43: =M44+M45 -> 37321.2 | N43: =N44+N45 -> 38294.7 | P43: =P44+P45 -> 38294.7
A44: Resurse colectate | G44: =J25 -> 0 | J44: =G44 -> 0 | K44: =M25 -> 0 | M44: =K44 -> 0 | N44: =O25 -> 0 | P44: =N44 -> 0
A45: Resurse generale | G45: =K33 -> 35611.5 | J45: =G45 -> 35611.5 | K45: =M33 -> 37321.2 | M45: =K45 -> 37321.2 | N45: =O24 -> 38294.7 | P45: =N45 -> 38294.7
A48: C. Estimarea resurselor colectate de autorități/instituții, mii lei
...

Sheet 90 01 AC MMPSF
N1: Formularul nr.4
E2: Propuneri de buget
D3: pentru anul 2019 și estimări pe anii 2020-2021
P5: Cod
A6: Sursa | D6: Bugetul de stat | P6: 02
A7: Autoritatea publică | D7: Ministerul Sănătății, Muncii și Protecției Sociale | P7: 0221
A8: Instituţia | D8: Ministerul Sănătății, Muncii și Protecției Sociale | P8: 15309
A10: A. Sinteza propunerii de buget (se completează automat în SIMF), mii lei
A12: Denumirea | E12: Cod | G12: 2016 | I12: 2017 | J12: 2018 | K12: 2019 | M12: 2020 | O12: 2021
E13: F1 | F13: Eco (k2) | G13: Executat | I13: Executat | J13: Aprobat | K13: Aprobat | M13: Estimat | O13: Estimat
A14: A.1. CHELTUIELI, total | E14: 10 | G14: X | I14: =I15+I16+I17+I18+I19+I20 -> 19700.1 | J14: =J15+J16+J17+J18+J19+J20 -> 24620.6 | K14: =K15+K16+K17+K18+K19+K20 -> 25396.3 | M14: =M15+M16+M17+M18+M19+M20 -> 25650.4 | O14: =O15+O16+O17+O18+O19+O20 -> 26059
A15: Cheltuieli de personal | F15: 21 | G15: X | I15: =I84 -> 15148.7 | J15: =J84 -> 19874 | K15: =K84 -> 19780.1 | M15: =M84 -> 20214.9 | O15: =O84 -> 20675.4
A16: Bunuri și servicii | F16: 22 | G16: X | I16: =I88 -> 2935.6 | J16: =J88 -> 3320.6 | K16: =K88 -> 4094.7 | M16: =M88 -> 3688.7 | O16: =O88 -> 3626.9
A17: Indemnizații pentru incapacitatea temporară de muncă achitate din mijloacele financiare ale angajatorului | F17: 27 | G17: X | I17: =I108 -> 707.3 | J17: =J108 -> 280 | K17: =K108 -> 300 | M17: =M108 -> 300 | O17: =O108 -> 300
A18: Alte cheltuieli | F18: 28 | G18: X | I18: =I111 -> 481.4 | J18: =J111 -> 502 | K18: =K111 -> 470 | M18: =M111 -> 470 | O18: =O111 -> 470
A19: Mijloace fixe | F19: 31 | G19: X | I19: =I117 -> 95.6 | J19: =J117 -> 300 | K19: =K117 -> 259.5 | M19: =M117 -> 480 | O19: =O117 -> 483.9
A20: Stocuri și materiale circulante | F20: 33 | G20: X | I20: =I123 -> 331.5 | J20: =J123 -> 344 | K20: =K123 -> 492 | M20: =M123 -> 496.8 | O20: =O123 -> 502.8
A22: Denumirea | C22: Cod | G22: 2016 | I22: 2017 | J22: 2018 | K22: 2019 | M22: 2020 | O22: 2021
C23: S3 | D23: S5 | E23: F1 | F23: Eco (k2) | G23: Executat | I23: Executat | J23: Aprobat | K23: Aprobat | M23: Estimat | O23: Estimat
A24: A.2.RESURSE, total (A2=A2.1+A2.2+A2.3) | G24: X | I24: =I25+I29+I33 -> 19700.1 | J24: =J25+J29+J33 -> 24620.6 | K24: =K25+K29+K33 -> 25396.3 | L24: =L25+L29+L33 -> 0 | M24: =M25+M29+M33 -> 25650.4 | N24: =N25+N29+N33 -> 0 | O24: =O25+O29+O33 -> 26059 | P24: =P25+P29+P33 -> 0
A25: A.2.1. Resurse colectate interne, total | C25: 112 | D25: 11297 1 | G25: X | I25: =I26 -> 25.6 | J25: =J26 -> 46.7 | K25: =K26 -> 46.7 | M25: =M26 -> 46.7 | O25: =O26+O27+O28 -> 46.7
A26: Alte venituri | G26: X | I26: 25.6 | J26: 46.7 | K26: 46.7 | M26: 46.7 | O26: 46.7
G27: X
G28: X
A29: A.2.2. Resurse colectate externe, total | C29: 112 | G29: X | J29: =J30+J31+J32 -> 0 | K29: =K30+K31+K32 -> 0 | M29: =M30+M31+M32 -> 0 | O29: =O30+O31+O32 -> 0
G30: X
G31: X
G32: X
A33: A.2.3. Resurse generale, total A.2.3=A.1-(A.2.1+A.2.2) | C33: 111 | G33: X | I33: =I14-(I25+I29) -> 19674.5 | J33: =J14-(J25+J29) -> 24573.9 | K33: =K14-(K25+K29) -> 25349.6 | M33: =M14-(M25+M29) -> 25603.7 | O33: =O14-(O25+O29) -> 26012.3
G34: X
A36: B. Sinteza limitelor de cheltuieli (se completează automat în SIMF), mii lei
A37: Denumirea | D37: Cod | G37: 2019 Aprobat | K37: 2020 Estimat | N37: 2021 Estimat
D38: F1 | E38: Cheltuieli (r/c), resurse (S3) | G38: Stabilit | I38: Deviere +/- | J38: Propus | K38: Stabilit | L38: Deviere +/- | M38: Propus | N38: Stabilit | O38: Deviere +/- | P38: Propus
A39: TOTAL | G39: =G40 -> 25396.3 | J39: =J40 -> 25396.3 | K39: =K40 -> 25650.4 | M39: =M40 -> 25650.4 | N39: =N40 -> 26059 | P39: =P40 -> 26059
A40: Cheltuieli recurente | D40: r | G40: =K14 -> 25396.3 | J40: =G40 -> 25396.3 | K40: =M14 -> 25650.4 | M40: =K40 -> 25650.4 | N40: =O14 -> 26059 | P40: =N40 -> 26059
A41: Investiţii capitale | D41: c
A43: TOTAL | G43: =G44+G45 -> 25396.3 | J43: =J44+J45 -> 25396.3 | K43: =K44+K45 -> 25650.4 | M43: =M44+M45 -> 25650.4 | N43: =N44+N45 -> 26059 | P43: =P44+P45 -> 26059
A44: Resurse colectate | G44: =J25 -> 46.7 | J44: =G44 -> 46.7 | K44: =M25 -> 46.7 | M44: =K44 -> 46.7 | N44: =O25 -> 46.7 | P44: =N44 -> 46.7
A45: Resurse generale | G45: =K33 -> 25349.6 | J45: =G45 -> 25349.6 | K45: =M33 -> 25603.7 | M45: =K45 -> 25603.7 | N45: =O33 -> 26012.3 | P45: =N45 -> 26012.3
A48: C. Estimarea resurselor colectate de autorități/instituții, mii lei
...

Sheet 90 04   00299 ANAS 00302
N1: Formularul nr.4
E2: Propuneri de buget
D3: pentru anul 2019 și estimări pe anii 2020-2021
P5: Cod
A6: Sursa | D6: Bugetul de stat | P6: 02
A7: Autoritatea publică | D7: Ministerul Sănătății, Muncii și Protecției Sociale | P7: 0221
A8: Instituţia | D8: Agenția Națională Asistență Socială | P8: 2369
A10: A. Sinteza propunerii de buget (se completează automat în SIMF), mii lei
A12: Denumirea | E12: Cod | G12: 2016 | I12: 2017 | J12: 2018 | K12: 2019 | M12: 2020 | O12: 2021
E13: F1 | F13: Eco (k2) | G13: Executat | I13: Executat | J13: Aprobat | K13: Aprobat | M13: Estimat | O13: Estimat
A14: A.1. CHELTUIELI, total | E14: 10 | G14: X | I14: =I15+I16+I17+I18+I19+I20+I21 -> 117831.1 | J14: =J15+J16+J17+J18+J19+J20 -> 134689.9 | K14: =K15+K16+K17+K18+K19+K20 -> 153500 | M14: =M15+M16+M17+M18+M19+M20 -> 161498.1 | O14: =O15+O16+O17+O18+O19+O20 -> 152418.1
A15: Cheltuieli de personal | F15: 21 | G15: X | I15: =I90 -> 52671.2 | J15: =J90 -> 53334.8 | K15: =K90 -> 65686.3 | M15: =M90 -> 65686.3 | O15: =O90 -> 65686.3
A16: Bunuri și servicii | F16: 22 | G16: X | I16: =I94 -> 14256.2 | J16: =J94 -> 17832.3 | K16: =K94 -> 16835.1 | M16: =M94 -> 17337.1 | O16: =O94 -> 17735.6
A17: Indemnizații pentru incapacitatea temporară de muncă achitate din mijloacele financiare ale angajatorului | F17: 27 | G17: X | I17: =I117+I152 -> 874.2 | J17: =J117+J152 -> 1199.6 | K17: =K117+K152 -> 1273.3 | M17: =M117+M152 -> 1278.6 | O17: =O117+O152 -> 1280.5
A18: Alte cheltuieli | F18: 28 | G18: X | I18: =I121 -> 27.9 | J18: =J121 -> 139.1 | K18: =K121 -> 45.8 | M18: =M121 -> 47.1 | O18: =O121 -> 48.5
A19: Mijloace fixe | F19: 31 | G19: X | I19: =I127 -> 6477.2 | J19: =J127 -> 12443.4 | K19: =K127 -> 18732.6 | M19: =M127 -> 24023.3 | O19: =O127 -> 12287.6
A20: Stocuri și materiale circulante | F20: 33 | G20: X | I20: =I140 -> 43523 | J20: =J140 -> 49740.7 | K20: =K140 -> 50926.9 | M20: =M140 -> 53125.7 | O20: =O140 -> 55379.6
A21: Corectarea soldului pe anii precedenți | F21: 92 | G21: X | I21: =I150 -> 1.4
A24: Denumirea | C24: Cod | G24: 2016 | I24: 2017 | J24: 2018 | K24: 2019 | M24: 2020 | O24: 2021
C25: S3 | D25: S5 | E25: F1 | F25: Eco (k2) | G25: Executat | I25: Executat | J25: Aprobat | K25: Aprobat | M25: Estimat | O25: Estimat
A26: A.2.RESURSE, total (A2=A2.1+A2.2+A2.3) | G26: X | I26: =I27+I31+I35 -> 117831.1 | J26: =J27+J31+J35 -> 134689.9 | K26: =K27+K31+K35 -> 153500 | L26: =L27+L31+L35 -> 0 | M26: =M27+M31+M35 -> 161498.1 | N26: =N27+N31+N35 -> 0 | O26: =O27+O31+O35 -> 152418.1 | P26: =P27+P31+P35 -> 0
A27: A.2.1. Resurse colectate interne, total | C27: 112 | D27: 112 97 1 | E27: 10 | G27: X | I27: =I28+I29+I30 -> 7835.3 | J27: =J28+J29+J30 -> 9499.3 | K27: =K28+K29+K30 -> 10879.7 | M27: =M28+M29+M30 -> 11241.3 | O27: =O28+O29+O30 -> 11661.4
A28: Alte venituri | F28: 14 | G28: X | I28: 7835.3 | J28: 9499.3 | K28: 10879.7 | M28: 11241.3 | O28: 11661.4
G29: X
G30: X
A31: A.2.2. Resurse colectate externe, total | C31: 112 | G31: X | J31: =J32+J33+J34 -> 0 | M31: =M32+M33+M34 -> 0 | O31: =O32+O33+O34 -> 0
G32: X
G33: X
G34: X
A35: A.2.3. Resurse generale, total A.2.3=A.1-(A.2.1+A.2.2) | C35: 111 | G35: X | I35: =I14-(I27+I31) -> 109995.8 | J35: =J14-(J27+J31) -> 125190.6 | K35: =K14-(K27+K31) -> 142620.3 | M35: =M14-(M27+M31) -> 150256.8 | O35: =O14-(O27+O31) -> 140756.7
G36: X
A38: B. Sinteza limitelor de cheltuieli (se completează automat în SIMF), mii lei
A39: Denumirea | D39: Cod | G39: 2019 Aprobat | K39: 2020 Estimat | N39: 2021 Estimat
D40: F1 | E40: Cheltuieli (r/c), resurse (S3) | G40: Stabilit | I40: Deviere +/- | J40: Propus | K40: Stabilit | L40: Deviere +/- | M40: Propus | N40: Stabilit | O40: Deviere +/- | P40: Propus
A41: TOTAL | G41: =G42 -> 153500 | J41: =J42 -> 153500 | K41: =K42 -> 161498.1 | M41: =M42 -> 161498.1 | N41: =N42 -> 152418.1 | P41: =P42 -> 152418.1
A42: Cheltuieli recurente | D42: r | G42: =K14 -> 153500 | J42: =G42 -> 153500 | K42: =M14 -> 161498.1 | M42: =K42 -> 161498.1 | N42: =O14 -> 152418.1 | P42: =N42 -> 152418.1
A43: Investiţii capitale | D43: c
A45: TOTAL | G45: =G46+G47 -> 153500 | J45: =J46+J47 -> 153500 | K45: =K46+K47 -> 161498.1 | M45: =M46+M47 -> 161498.1 | N45: =N46+N47 -> 152418.1 | P45: =P46+P47 -> 152418.1
A46: Resurse colectate | G46: =K27 -> 10879.7 | J46: =G46 -> 10879.7 | K46: =M27 -> 11241.3 | M46: =K46 -> 11241.3 | N46: =O27 -> 11661.4 | P46: =N46 -> 11661.4
A47: Resurse generale | G47: =K35 -> 142620.3 | J47: =G47 -> 142620.3 | K47: =M35 -> 150256.8 | M47: =K47 -> 150256.8 | N47: =O35 -> 140756.7 | P47: =N47 -> 140756.7
...

Sheet 90 06 ANAS 00348 00275 
N1: Formularul nr.4
E2: Propuneri de buget
D3: pentru anul 2019 și estimări pe anii 2020-2021
P5: Cod
A6: Sursa | D6: Bugetul de stat | P6: 02
A7: Autoritatea publică | D7: Ministerul Sănătății, Muncii și Protecției Sociale | P7: 0221
A8: Instituţia | D8: Agenția Națională Asistență Socială | P8: 2369
A10: A. Sinteza propunerii de buget (se completează automat în SIMF), mii lei
A12: Denumirea | E12: Cod | G12: 2016 | I12: 2017 | J12: 2018 | K12: 2019 | M12: 2020 | O12: 2021
E13: F1 | F13: Eco (k2) | G13: Executat | I13: Executat | J13: Aprobat | K13: Aprobat | M13: Estimat | O13: Estimat
A14: A.1. CHELTUIELI, total | E14: 10 | G14: X | I14: =I15+I16+I17+I19+I20 -> 49237.3 | J14: =J15+J16+J17+J19+J20 -> 58417.1 | K14: =K15+K16+K17+K19+K20 -> 125911.3 | M14: =M15+M16+M17+M19+M20 -> 62101.1 | O14: =O15+O16+O17+O19+O20 -> 63140.5
A15: Cheltuieli de personal | F15: 21 | G15: X | I15: =I104+I157+I210 -> 24001.7 | J15: =J104+J157+J210 -> 25308 | K15: =K104+K157+K210 -> 27526.9 | M15: =M104+M157+M210 -> 27854.1 | O15: =O104+O157+O210 -> 28273.9
A16: Bunuri și servicii | F16: 22 | G16: X | I16: =I108+I161+I214+I258 -> 6826.3 | J16: =J108+J161+J214+J258 -> 9208.7 | K16: =K108+K161+K214+K258 -> 10621.5 | M16: =M108+M161+M214+M258 -> 10642.2 | O16: =O108+O161+O214+O258 -> 10654.1
A17: Indemnizații pentru incapacitatea temporară de muncă achitate din mijloacele financiare ale angajatorului | F17: 27 | G17: X | I17: =I127+I183+I234+I317 -> 2736.3 | J17: =J127+J183+J234+J317 -> 3367.7 | K17: =K127+K183+K234+K317 -> 3089.9 | M17: =M127+M183+M234+M317 -> 3517.3 | O17: =O127+O183+O234+O317 -> 3987.2
A18: Alte cheltuieli | F18: 28 | J18: =J128+J184+J235 -> 0 | K18: =K128+K184+K235 -> 0 | M18: =M128+M184+M235 -> 0 | O18: =O128+O184+O235 -> 0
A19: Mijloace fixe | F19: 31 | G19: X | I19: =I138+I191+I242 -> 3687.3 | J19: =J138+J191+J242 -> 7578.9 | K19: =K138+K191+K242 -> 6981.2 | M19: =M138+M191+M242 -> 5921.3 | O19: =O138+O191+O242 -> 5532.3
A20: Stocuri și materiale circulante | F20: 33 | G20: X | I20: =I146+I198+I247 -> 11985.7 | J20: =J146+J198+J247 -> 12953.8 | K20: =K146+K198+K247+K322 -> 77691.8 | M20: =M146+M198+M247 -> 14166.2 | O20: =O146+O198+O247 -> 14693
A22: Denumirea | C22: Cod | G22: 2016 | I22: 2017 | J22: 2018 | K22: 2019 | M22: 2020 | O22: 2021
C23: S3 | D23: S5 | E23: F1 | F23: Eco (k2) | G23: Executat | I23: Executat | J23: Aprobat | K23: Aprobat | M23: Estimat | O23: Estimat
A24: A.2.RESURSE, total (A2=A2.1+A2.2+A2.3) | G24: X | I24: =I25+I29+I33 -> 49237.3 | J24: =J25+J29+J33 -> 58417.1 | K24: =K25+K29+K33 -> 125911.3 | L24: =L25+L29+L33 -> 0 | M24: =M25+M29+M33 -> 62101.1 | N24: =N25+N29+N33 -> 0 | O24: =O25+O29+O33 -> 63140.5 | P24: =P25+P29+P33 -> 0
A25: A.2.1. Resurse colectate interne, total | C25: 112 | D25: 112 97 1 | E25: 10 | G25: X | I25: =I26+I27+I28 -> 22.3 | J25: =J26+J27+J28 -> 26 | K25: =K26+K27+K28 -> 35.5 | M25: =M26+M27+M28 -> 35.5 | O25: =O26+O27+O28 -> 35.5
A26: Alte venituri | F26: 14 | G26: X | I26: 22.3 | J26: 26 | K26: 35.5 | M26: 35.5 | O26: 35.5
G27: X
G28: X
A29: A.2.2. Resurse colectate externe, total | C29: 112 | G29: X | J29: =J30+J31+J32 -> 0 | M29: =M30+M31+M32 -> 0 | O29: =O30+O31+O32 -> 0
G30: X
G31: X
G32: X
A33: A.2.3. Resurse generale, total A.2.3=A.1-(A.2.1+A.2.2) | C33: 111 | G33: X | I33: =I14-(I25+I29) -> 49215 | J33: =J14-(J25+J29) -> 58391.1 | K33: =K14-(K25+K29) -> 125875.8 | M33: =M14-(M25+M29) -> 62065.6 | O33: =O14-(O25+O29) -> 63105
G34: X | I34: X
A36: B. Sinteza limitelor de cheltuieli (se completează automat în SIMF), mii lei
A37: Denumirea | D37: Cod | G37: 2019 Aprobat | K37: 2020 Estimat | N37: 2021 Estimat
D38: F1 | E38: Cheltuieli (r/c), resurse (S3) | G38: Stabilit | I38: Deviere +/- | J38: Propus | K38: Stabilit | L38: Deviere +/- | M38: Propus | N38: Stabilit | O38: Deviere +/- | P38: Propus
A39: TOTAL | G39: =G40 -> 125911.3 | J39: =J40 -> 125911.3 | K39: =K40 -> 62101.1 | M39: =M40 -> 62101.1 | N39: =N40 -> 63140.5 | P39: =P40 -> 63140.5
A40: Cheltuieli recurente | D40: r | G40: =K14 -> 125911.3 | J40: =G40 -> 125911.3 | K40: =M14 -> 62101.1 | M40: =K40 -> 62101.1 | N40: =O14 -> 63140.5 | P40: =N40 -> 63140.5
A41: Investiţii capitale | D41: c
A43: TOTAL | G43: =G44+G45 -> 125911.3 | J43: =J44+J45 -> 125911.3 | K43: =K44+K45 -> 62101.1 | M43: =M44+M45 -> 62101.1 | N43: =N44+N45 -> 63140.5 | P43: =P44+P45 -> 63140.5
A44: Resurse colectate | G44: =K25 -> 35.5 | J44: =G44 -> 35.5 | K44: =M25 -> 35.5 | M44: =K44 -> 35.5 | N44: =O25 -> 35.5 | P44: =N44 -> 35.5
A45: Resurse generale | G45: =K33 -> 125875.8 | J45: =G45 -> 125875.8 | K45: =M33 -> 62065.6 | M45: =K45 -> 62065.6 | N45: =O33 -> 63105 | P45: =N45 -> 63105
A48: C. Estimarea resurselor colectate de autorități/instituții, mii lei
...

Sheet 90 08 Prot somer 
N1: Formularul nr.4
E2: Propuneri de buget
D3: pentru anul 2019 și estimări pe anii 2020-2021
P5: Cod
A6: Sursa | D6: Bugetul de stat | P6: 02
A7: Autoritatea publică | D7: Ministerul Sănătății, Muncii și Protecției Sociale | P7: 0221
A8: Instituţia | D8: Agenția Națională și teritoriale pentru Ocuparea Forței de Muncă | P8: 2368
A10: A. Sinteza propunerii de buget (se completează automat în SIMF), mii lei
A12: Denumirea | E12: Cod | G12: 2016 | I12: 2017 | J12: 2018 | K12: 2019 | M12: 2020 | O12: 2021
E13: F1 | F13: Eco (k2) | G13: Executat | I13: Executat | J13: Aprobat | K13: Aprobat | M13: Estimat | O13: Estimat
A14: A.1. CHELTUIELI, total | E14: 10 | G14: X | I14: =I15+I16+I17+I18 -> 27715.5 | J14: =J15+J16+J17+J18 -> 32886.7 | K14: =K15+K16+K17+K18 -> 34446.4 | M14: =M15+M16+M17+M18 -> 37320.9 | O14: =O15+O16+O17+O18 -> 39836.9
A15: Bunuri și servicii | F15: 22 | G15: X | I15: =I80 -> 5738.4 | J15: =J80 -> 6103.2 | K15: =K80 -> 12076.8 | M15: =M80 -> 15184.3 | O15: =O80 -> 15826.8
A16: Prestații sociale | F16: 27 | G16: X | I16: =I89 -> 17591.9 | J16: =J89 -> 20854.1 | K16: =K89 -> 12861 | M16: =M89 -> 10099.3 | O16: =O89 -> 10967.7
A17: Alte cheltuieli | F17: 28 | G17: X | I17: =I91 -> 4369.7 | J17: =J91 -> 5599.9 | K17: =K91 -> 9158.6 | M17: =M91 -> 11687.3 | O17: =O91 -> 12692.4
F18: 33 | I18: =I94 -> 15.5 | J18: =J94 -> 329.5 | K18: =K94 -> 350 | M18: =M94 -> 350 | O18: =O94 -> 350
A20: Denumirea | C20: Cod | G20: 2016 | I20: 2017 | J20: 2018 | K20: 2019 | M20: 2020 | O20: 2021
C21: S3 | D21: S5 | E21: F1 | F21: Eco (k2) | G21: Executat | I21: Executat | J21: Aprobat | K21: Aprobat | M21: Estimat | O21: Estimat
A22: A.2.RESURSE, total (A2=A2.1+A2.2+A2.3) | G22: X | I22: =(I23+I27+I31) -> 27715.5 | J22: =(J23+J27+J31) -> 32886.7 | K22: =(K23+K27+K31) -> 34446.4 | L22: =L23+L27+L31 -> 0 | M22: =M23+M27+M31 -> 37320.9 | N22: =N23+N27+N31 -> 0 | O22: =O23+O27+O31 -> 39836.9 | P22: =P23+P27+P31 -> 0
A23: A.2.1. Resurse colectate interne, total | C23: 112 | D23: 11297 1 | G23: X | J23: =J24+J25+J26 -> 0 | K23: =K24+K25+K26 -> 0 | M23: =M24+M25+M26 -> 0 | O23: =O24+O25+O26 -> 0
G24: X
G25: X
G26: X
A27: A.2.2. Resurse colectate externe, total | C27: 112 | G27: X | J27: =J28+J29+J30 -> 0 | K27: =K28+K29+K30 -> 0 | M27: =M28+M29+M30 -> 0 | O27: =O28+O29+O30 -> 0
G28: X
G29: X
G30: X
A31: A.2.3. Resurse generale, total A.2.3=A.1-(A.2.1+A.2.2) | C31: 111 | G31: X | I31: =I14-(I23+I27) -> 27715.5 | J31: =J14-(J23+J27) -> 32886.7 | K31: =K14-(K23+K27) -> 34446.4 | M31: =M14-(M23+M27) -> 37320.9 | O31: =O14-(O23+O27) -> 39836.9
G32: X
A34: B. Sinteza limitelor de cheltuieli (se completează automat în SIMF), mii lei
A35: Denumirea | D35: Cod | G35: 2019 Aprobat | K35: 2020 Estimat | N35: 2021 Estimat
D36: F1 | E36: Cheltuieli (r/c), resurse (S3) | G36: Stabilit | I36: Deviere +/- | J36: Propus | K36: Stabilit | L36: Deviere +/- | M36: Propus | N36: Stabilit | O36: Deviere +/- | P36: Propus
A37: TOTAL | G37: =G38 -> 34446.4 | J37: =J38 -> 34446.4 | K37: =K38 -> 37320.9 | M37: =M38 -> 37320.9 | N37: =N38 -> 39836.9 | P37: =P38 -> 39836.9
A38: Cheltuieli recurente | D38: r | G38: =K14 -> 34446.4 | J38: =G38 -> 34446.4 | K38: =M14 -> 37320.9 | M38: =K38 -> 37320.9 | N38: =O14 -> 39836.9 | P38: =N38 -> 39836.9
A39: Investiţii capitale | D39: c
A41: TOTAL | G41: =G43 -> 34446.4 | J41: =J43 -> 34446.4 | K41: =K43 -> 37320.9 | M41: =M43 -> 37320.9 | N41: =N43 -> 39836.9 | P41: =P43 -> 39836.9
A42: Resurse colectate
A43: Resurse generale | G43: =K31 -> 34446.4 | J43: =G43 -> 34446.4 | K43: =M31 -> 37320.9 | M43: =K43 -> 37320.9 | N43: =O31 -> 39836.9 | P43: =N43 -> 39836.9
A46: C. Estimarea resurselor colectate de autorități/instituții, mii lei
A47: Denumirea | C47: Cod | I47: Descriere | K47: 2016 | L47: 2017 | M47: 2018 | N47: 2019 | O47: 2020 | P47: 2021
C48: Sursa (S3S4) | D48: Originea sursei (S5) | E48: Donator (S6) | F48: F3 | G48: P3 (7xx) | H48: Eco k6 | K48: Executat | L48: Executat | M48: Aprobat | N48: Aprobat | O48: Estimat | P48: Estimat
...

Sheet 90 09  Asig locuin
N1: Formularul nr.4
E2: Propuneri de buget
D3: pentru anul 2019 și estimări pe anii 2020-2021
P5: Cod
A6: Sursa | D6: Bugetul de stat | P6: 02
A7: Autoritatea publică | D7: Ministerul Sănătății, Muncii și Protecției Sociale | P7: 0221
A8: Instituţia | D8: Ministerul Sănătății, Muncii și Protecției Sociale
A10: A. Sinteza propunerii de buget (se completează automat în SIMF), mii lei
A12: Denumirea | E12: Cod | G12: 2016 | I12: 2017 | J12: 2018 | K12: 2019 | M12: 2020 | O12: 2021
E13: F1 | F13: Eco (k2) | G13: Executat | I13: Executat | J13: Aprobat | K13: Aprobat | M13: Estimat | O13: Estimat
A14: A.1. CHELTUIELI, total | E14: 10 | F14: 31 | G14: X | I14: =I15 -> 10995 | J14: =J15 -> 16385.3 | K14: =K15 -> 1000 | M14: =M15 -> 0 | O14: =O15 -> 0
A15: Asigurarea cu locuințe | F15: 319210 | I15: =I81 -> 10995 | J15: =J80 -> 16385.3 | K15: =K80 -> 1000 | M15: =M80 -> 0 | O15: =O80 -> 0
A18: Denumirea | C18: Cod | G18: 2016 | I18: 2017 | J18: 2018 | K18: 2019 | M18: 2020 | O18: 2021
C19: S3 | D19: S5 | E19: F1 | F19: Eco (k2) | G19: Executat | I19: Executat | J19: Aprobat | K19: Aprobat | M19: Estimat | O19: Estimat
A20: A.2.RESURSE, total (A2=A2.1+A2.2+A2.3) | G20: X | I20: =(I21+I25+I29) -> 10995 | J20: =(J21+J25+J29) -> 16385.3 | K20: =(K21+K25+K29) -> 1000 | L20: =L21+L25+L29 -> 0 | M20: =(M21+M25+M29) -> 0 | N20: =N21+N25+N29 -> 0 | O20: =(O21+O25+O29) -> 0 | P20: =P21+P25+P29 -> 0
A21: A.2.1. Resurse colectate interne, total | C21: 112 | D21: 11297 1 | G21: X | J21: =J22+J23+J24 -> 0 | K21: =K22+K23+K24 -> 0 | M21: =M22+M23+M24 -> 0 | O21: =O22+O23+O24 -> 0
A22: Alte venituri | G22: X
G23: X
G24: X
A25: A.2.2. Resurse colectate externe, total | C25: 112 | G25: X | J25: =J26+J27+J28 -> 0 | K25: =K26+K27+K28 -> 0 | M25: =M26+M27+M28 -> 0 | O25: =O26+O27+O28 -> 0
G26: X
G27: X
G28: X
A29: A.2.3. Resurse generale, total A.2.3=A.1-(A.2.1+A.2.2) | C29: 111 | G29: X | I29: =I14-(I21+I25) -> 10995 | J29: =J14-(J21+J25) -> 16385.3 | K29: =K14-(K21+K25) -> 1000 | M29: =M14-(M21+M25) -> 0 | O29: =O14-(O21+O25) -> 0
G30: X | I30: X
A32: B. Sinteza limitelor de cheltuieli (se completează automat în SIMF), mii lei
A33: Denumirea | D33: Cod | G33: 2019 Aprobat | K33: 2020 Estimat | N33: 2021 Estimat
D34: F1 | E34: Cheltuieli (r/c), resurse (S3) | G34: Stabilit | I34: Deviere +/- | J34: Propus | K34: Stabilit | L34: Deviere +/- | M34: Propus | N34: Stabilit | O34: Deviere +/- | P34: Propus
A35: TOTAL | G35: =G37 -> 1000 | J35: =J37 -> 1000 | K35: =K37 -> 0 | M35: =M37 -> 0 | N35: =N37 -> 0 | P35: =P37 -> 0
A36: Cheltuieli recurente | D36: r
A37: Investiţii capitale | D37: c | G37: =K14 -> 1000 | J37: =G37 -> 1000 | K37: =M14 -> 0 | M37: =K37 -> 0 | N37: =O14 -> 0 | P37: =N37 -> 0
A39: TOTAL | G39: =G41 -> 1000 | J39: =J41 -> 1000 | K39: =K41 -> 0 | M39: =M41 -> 0 | N39: =N41 -> 0 | P39: =P41 -> 0
A40: Resurse colectate
A41: Resurse generale | G41: =K29 -> 1000 | J41: =G41 -> 1000 | K41: =M29 -> 0 | M41: =K41 -> 0 | N41: =O29 -> 0 | P41: =N41 -> 0
A44: C. Estimarea resurselor colectate de autorități/instituții, mii lei
A45: Denumirea | C45: Cod | I45: Descriere | K45: 2016 | L45: 2017 | M45: 2018 | N45: 2019 | O45: 2020 | P45: 2021
C46: Sursa (S3S4) | D46: Originea sursei (S5) | E46: Donator (S6) | F46: F3 | G46: P3 (7xx) | H46: Eco k6 | K46: Executat | L46: Executat | M46: Aprobat | N46: Aprobat | O46: Estimat | P46: Estimat
A47: TOTAL | K47: X | L47: X
K48: X | L48: X
K49: X | L49: X
...

Sheet 90 10 Protec in caz incap 
N1: Formularul nr.4
E2: Propuneri de buget
D3: pentru anul 2019 și estimări pe anii 2020-2021
P5: Cod
A6: Sursa | D6: Bugetul de stat | P6: 02
A7: Autoritatea publică | D7: Ministerul Sănătății, Muncii și Protecției Sociale | P7: 0221
A8: Instituţia | D8: Agenția Națională Asistență Socială | P8: 2369
A10: A. Sinteza propunerii de buget (se completează automat în SIMF), mii lei
A12: Denumirea | E12: Cod | G12: 2016 | I12: 2017 | J12: 2018 | K12: 2019 | M12: 2020 | O12: 2021
E13: F1 | F13: Eco (k2) | G13: Executat | I13: Executat | J13: Aprobat | K13: Aprobat | M13: Estimat | O13: Estimat
A14: A.1. CHELTUIELI, total | E14: 10 | G14: X | I14: =I15+I16+I18+I19+I20+I21+I17 -> 127541.4 | J14: =J15+J16+J18+J19+J20+J21+J17 -> 139908.2 | K14: =K15+K16+K18+K19+K20+K21+K17 -> 146826.7 | L14: =L15+L16+L18+L19+L20+L21 -> 0 | M14: =SUM(M15:M21) -> 138963.4 | N14: =N15+N16+N18+N19+N20+N21 -> 0 | O14: =SUM(O15:O21) -> 139823.7
A15: Cheltuieli de personal | F15: 21 | G15: X | I15: =I95+I150 -> 36263.4 | J15: =J95+J150 -> 38294.6 | K15: =K95+K150 -> 33890.6 | L15: =L95+L150 -> 0 | M15: =M95+M150 -> 34178.6 | O15: =O95+O150 -> 36327.3
A16: Bunuri și servicii | F16: 22 | G16: X | I16: =I99+I154+I206 -> 10613.6 | J16: =J99+J154+J206 -> 13595.6 | K16: =K99+K154+K206 -> 18087.8 | M16: =M99+M154+M206 -> 19203.4 | O16: =O99+O154+O206 -> 15952.6
A17: Subsidii | F17: 25 | G17: X | I17: =I203 -> 46568.2 | J17: =J203 -> 42635.6 | K17: =K203 -> 47313 | M17: =M203 -> 44137.4 | O17: =O203 -> 44137.4
A18: Indemnizații pentru incapacitatea temporară de muncă achitate din mijloacele financiare ale angajatorului | F18: 27 | G18: X | I18: =I123+I176 -> 78.4 | J18: =J123+J176 -> 93 | K18: =K123+K176 -> 159.6 | L18: =L118 -> 0 | M18: =M123+M176 -> 159.6 | N18: =N118 -> 0 | O18: =O123+O176 -> 159.6
A19: Alte cheltuieli | F19: 28 | G19: X | K19: =K126+J179 -> 0 | M19: =M126+M179 -> 0 | O19: =O126+O179 -> 0
A20: Mijloace fixe | F20: 31 | G20: X | I20: =I131+I184 -> 7830.1 | J20: =J131+J184 -> 15528.8 | K20: =K131+K184 -> 14528.8 | L20: =L128 -> 0 | M20: =M131+M184 -> 7650.7 | N20: =N128 -> 0 | O20: =O131+O184 -> 8053
A21: Stocuri și materiale circulante | F21: 33 | G21: X | I21: =I138+I191 -> 26187.7 | J21: =J138+J191 -> 29760.6 | K21: =K138+K191 -> 32846.9 | L21: =L135 -> 0 | M21: =M138+M191 -> 33633.7 | N21: =N135 -> 0 | O21: =O138+O191 -> 35193.8 | P21: =P135 -> 0
A24: Denumirea | C24: Cod | G24: 2016 | I24: 2017 | J24: 2018 | K24: 2019 | M24: 2020 | O24: 2021
C25: S3 | D25: S5 | E25: F1 | F25: Eco (k2) | G25: Executat | I25: Executat | J25: Aprobat | K25: Aprobat | M25: Estimat | O25: Estimat
A26: A.2.RESURSE, total (A2=A2.1+A2.2+A2.3) | G26: X | I26: =(I27+I31+I35) -> 127541.4 | J26: =(J27+J31+J35) -> 139908.2 | K26: =(K27+K31+K35) -> 146826.7 | L26: =L27+L31+L35 -> 0 | M26: =(M27+M31+M35) -> 138963.4 | N26: =N27+N31+N35 -> 0 | O26: =(O27+O31+O35) -> 139823.7 | P26: =P27+P31+P35 -> 0
A27: A.2.1. Resurse colectate interne, total | C27: 112 | D27: 11297 1 | G27: X | I27: =I28+I29+I30 -> 5158.4 | J27: =J28+J29+J30 -> 5443.5 | K27: =K28+K29+K30 -> 6227.2 | M27: =M28+M29+M30 -> 5794.5 | O27: =O28+O29+O30 -> 5758.7
A28: CNDDCM | G28: X | I28: 31.2 | J28: 31.2 | K28: 31.2 | M28: 31.2 | O28: 31.2
A29: Speranta | G29: X | I29: 3272.8 | J29: 3549.7 | K29: 3515.8 | M29: 3714.8 | O29: 3800.2
A30: Victoria | G30: X | I30: 1854.4 | J30: 1862.6 | K30: 2680.2 | M30: 2048.5 | O30: 1927.3
A31: A.2.2. Resurse colectate externe, total | C31: 112 | G31: X | J31: =J32+J33+J34 -> 0 | K31: =K32+K33+K34 -> 0 | M31: =M32+M33+M34 -> 0 | O31: =O32+O33+O34 -> 0
G32: X
G33: X
G34: X
A35: A.2.3. Resurse generale, total A.2.3=A.1-(A.2.1+A.2.2) | C35: 111 | G35: X | I35: =I14-(I27+I31) -> 122383 | J35: =J14-(J27+J31) -> 134464.7 | K35: =K14-(K27+K31) -> 140599.5 | M35: =M14-(M27+M31) -> 133168.9 | O35: =O14-(O27+O31) -> 134065
G36: X
A38: B. Sinteza limitelor de cheltuieli (se completează automat în SIMF), mii lei
A39: Denumirea | D39: Cod | G39: 2019 Aprobat | K39: 2020 Estimat | N39: 2021 Estimat
D40: F1 | E40: Cheltuieli (r/c), resurse (S3) | G40: Stabilit | I40: Deviere +/- | J40: Propus | K40: Stabilit | L40: Deviere +/- | M40: Propus | N40: Stabilit | O40: Deviere +/- | P40: Propus
A41: TOTAL | G41: =G42 -> 146826.7 | J41: =J42 -> 146826.7 | K41: =K42 -> 138963.4 | M41: =M42 -> 138963.4 | N41: =N42 -> 139823.7 | P41: =P42 -> 139823.7
A42: Cheltuieli recurente | D42: r | G42: =K14 -> 146826.7 | J42: =G42 -> 146826.7 | K42: =M14 -> 138963.4 | M42: =K42 -> 138963.4 | N42: =O14 -> 139823.7 | P42: =N42 -> 139823.7
A43: Investiţii capitale | D43: c
A45: TOTAL | G45: =G46+G47 -> 146826.7 | J45: =J46+J47 -> 146826.7 | K45: =K46+K47 -> 138963.4 | M45: =M46+M47 -> 138963.4 | N45: =N46+N47 -> 139823.7 | P45: =P46+P47 -> 139823.7
A46: Resurse colectate | G46: =K27 -> 6227.2 | J46: =G46 -> 6227.2 | K46: =M27 -> 5794.5 | M46: =K46 -> 5794.5 | N46: =O27 -> 5758.7 | P46: =N46 -> 5758.7
A47: Resurse generale | G47: =K35 -> 140599.5 | J47: =G47 -> 140599.5 | K47: =M35 -> 133168.9 | M47: =K47 -> 133168.9 | N47: =O35 -> 134065 | P47: =N47 -> 134065
...

Sheet 90 12  FSP  Ti 453 462
N1: Formularul nr.4
E2: Propuneri de buget
D3: pentru anul 2019 și estimări pe anii 2020-2021
P5: Cod
A6: Sursa | D6: Bugetul de stat | P6: 02
A7: Autoritatea publică | D7: Ministerul Sănătății, Muncii și Protecției Sociale | P7: 0221
A9: Instituţia | D9: Agenția Națională Asistență Socială | P9: 2369
A11: A. Sinteza propunerii de buget (se completează automat în SIMF), mii lei
A13: Denumirea | E13: Cod | G13: 2016 | I13: 2017 | J13: 2018 | K13: 2019 | M13: 2020 | O13: 2021
E14: F1 | F14: Eco (k2) | G14: Executat | I14: Executat | J14: Aprobat | K14: Aprobat | M14: Estimat | O14: Estimat
A15: A.1. CHELTUIELI, total | E15: 10 | G15: X | I15: =I16+I17+I19+I21+I22+I23+I18+I20 -> 95237.2 | J15: =J16+J17+J19+J21+J22+J23+J18 -> 95684.5 | M15: =M16+M17+M19+M21+M22+M23 -> 92657 | O15: =O16+O17+O19+O21+O22+O23 -> 95413.2
A16: Cheltuieli de personal | F16: 21 | G16: X | I16: =I92+I150 -> 2623.8 | J16: =J92+J150 -> 2972 | K16: =K92+K150 -> 2008.5 | M16: =M92+M150 -> 2067.3 | O16: =O92+O150 -> 2146.6
A17: Bunuri și servicii | F17: 22 | G17: X | I17: =I96+I154+I201 -> 1246.6 | J17: =J96+J154+J201 -> 1582.5 | K17: =K96+K154+K201 -> 1417.2 | M17: =M96+M154+M201 -> 1417.8 | O17: =O96+O154+O201 -> 1418.6
A18: Subsidii | F18: 25 | G18: X
A19: Indemnizații pentru incapacitatea temporară de muncă achitate din mijloacele financiare ale angajatorului | F19: 27 | G19: X | I19: =I119+I175 -> 8256.8 | J19: =J119+J175 -> 8353.1 | K19: =K119+K175 -> 21875.1 | M19: =M119+M175 -> 21875.1 | O19: =O119+O175 -> 21875.1
A20: Alte cheltuieli | F20: 28 | I20: =I128 -> -1.1
A21: Transferuri acordate în cadrul bugetului public naționa | F21: 29 | G21: X | I21: =I129 -> 82500 | J21: =J129 -> 82000 | K21: =K129 -> 64244.5 | M21: =M129 -> 66718.7 | O21: =O129 -> 69376.3
A22: Mijloace fixe | F22: 31 | G22: X | I22: =I131+I183 -> 270.8 | J22: =J131+J183 -> 102.8 | K22: =K131+K183 -> 80 | M22: =M131+M183 -> 80 | O22: =O131+O183 -> 80
A23: Stocuri și materiale circulante | F23: 33 | G23: X | I23: =I136+I190+I205 -> 340.3 | J23: =J136+J190+J205 -> 674.1 | K23: =K136+K190+K205 -> 472.6 | M23: =M136+M190+M205 -> 498.1 | O23: =O136+O190+O205 -> 516.6
A25: Denumirea | C25: Cod | G25: 2016 | I25: 2017 | J25: 2018 | K25: 2019 | M25: 2020 | O25: 2021
C26: S3 | D26: S5 | E26: F1 | F26: Eco (k2) | G26: Executat | I26: Executat | J26: Aprobat | K26: Aprobat | M26: Estimat | O26: Estimat
A27: A.2.RESURSE, total (A2=A2.1+A2.2+A2.3) | G27: X | I27: =I28+I32+I36 -> 95237.2 | J27: =J28+J32+J36 -> 95684.5 | K27: =K28+K32+K36 -> 0 | M27: =M28+M32+M36 -> 92657 | O27: =O28+O32+O36 -> 95413.2
A28: A.2.1. Resurse colectate interne, total | C28: 112 | D28: 112 96 1 | E28: 10 | G28: X | I28: =I29+I30+I31 -> 92114.6 | J28: =J29+J30+J31 -> 91883.6 | K28: =K29+K30+K31 -> 86108.9 | M28: =M29+M30+M31 -> 88583.1 | O28: =O29+O30+O31 -> 91240.7
A29: Venituri telefonie mobilă | F29: 14 | G29: X | I29: 88540 | J29: 86383.6 | K29: 80608.9 | M29: 83083.1 | O29: 85740.7
A30: Venituri înmatriculate auto | G30: X | I30: 6798.7 | J30: 5500 | K30: 5500 | M30: 5500 | O30: 5500
G31: X | I31: -3224.1
A32: A.2.2. Resurse colectate externe, total | C32: 112 | G32: X | J32: =J33+J34+J35 -> 0 | M32: =M33+M34+M35 -> 0 | O32: =O33+O34+O35 -> 0
G33: X
G34: X
G35: X
A36: A.2.3. Resurse generale, total A.2.3=A.1-(A.2.1+A.2.2) | C36: 111 | G36: X | I36: =I15-(I28+I32) -> 3122.6 | J36: =J15-(J28+J32) -> 3800.9 | K36: =K15-(K28+K32) -> -86108.9 | M36: =M15-(M28+M32) -> 4073.9 | O36: =O15-(O28+O32) -> 4172.5
G37: X | I37: X
A38: B. Sinteza limitelor de cheltuieli (se completează automat în SIMF), mii lei
A39: Denumirea | D39: Cod | G39: 2019 Aprobat | K39: 2020 Estimat | N39: 2021 Estimat
D40: F1 | E40: Cheltuieli (r/c), resurse (S3) | G40: Stabilit | I40: Deviere +/- | J40: Propus | K40: Stabilit | L40: Deviere +/- | M40: Propus | N40: Stabilit | O40: Deviere +/- | P40: Propus
A41: TOTAL | G41: =G42 -> 0 | J41: =J42 -> 0 | K41: =K42 -> 92657 | M41: =M42 -> 92657 | N41: =N42 -> 95413.2 | P41: =P42 -> 95413.2
A42: Cheltuieli recurente | D42: r | G42: =K15 -> 0 | J42: =G42 -> 0 | K42: =M15 -> 92657 | M42: =K42 -> 92657 | N42: =O15 -> 95413.2 | P42: =N42 -> 95413.2
A43: Investiţii capitale | D43: c
A45: TOTAL | G45: =G46+G47 -> 0 | J45: =J46+J47 -> 0 | K45: =K46+K47 -> 92657 | M45: =M46+M47 -> 92657 | N45: =N46+N47 -> 95413.2 | P45: =P46+P47 -> 95413.2
A46: Resurse colectate | G46: =K28 -> 86108.9 | J46: =G46 -> 86108.9 | K46: =M28 -> 88583.1 | M46: =K46 -> 88583.1 | N46: =O28 -> 91240.7 | P46: =N46 -> 91240.7
...

Sheet 90 17  Ins Soc CNAPS
N1: Formularul nr.4
E2: Propuneri de buget
D3: pentru anul 2019 și estimări pe anii 2020-2021
P5: Cod
A6: Sursa | D6: Bugetul de stat | P6: 02
A7: Autoritatea publică | D7: Ministerul Sănătății, Muncii și Protecției Sociale | P7: 0221
A10: A. Sinteza propunerii de buget (se completează automat în SIMF), mii lei
A12: Denumirea | E12: Cod | G12: 2016 | I12: 2017 | J12: 2018 | K12: 2019 | M12: 2020 | O12: 2021
E13: F1 | F13: Eco (k2) | G13: Executat | I13: Executat | J13: Aprobat | K13: Aprobat | M13: Estimat | O13: Estimat
A14: A.1. CHELTUIELI, total | E14: 10 | G14: X | I14: =I15+I16+I17+I18+I19+I20 -> 4946.9 | J14: =J15+J16+J17+J18+J19+J20 -> 6385.6 | K14: =K15+K16+K17+K18+K19+K20 -> 8446.6 | M14: =M15+M16+M17+M18+M19+M20 -> 9266.6 | O14: =O15+O16+O17+O18+O19+O20 -> 9463.2
A15: Cheltuieli de personal | F15: 21 | G15: X | I15: =I88+I141+I194 -> 3722.4 | J15: =J88+J141+J194 -> 4492 | K15: =K88+K141+K194 -> 5383.1 | M15: =M88+M141+M194 -> 5554.8 | O15: =O88+O141+O194 -> 5738
A16: Bunuri și servicii | F16: 22 | G16: X | I16: =I92+I145+I198 -> 815.1 | J16: =J92+J145+J198 -> 1457.6 | K16: =K92+K145+K198 -> 2344.9 | M16: =M92+M145+M198 -> 3042.5 | O16: =O92+O145+O198 -> 3055.9
A17: Indemnizații pentru incapacitatea temporară de muncă achitate din mijloacele financiare ale angajatorului | F17: 27 | G17: X | I17: =I114+I167+I220 -> 12.7 | J17: =J114+J167+J220 -> 60.6 | K17: =K114+K167+K220 -> 65.6 | M17: =M114+M167+M220 -> 65.6 | O17: =O114+O167+O220 -> 65.6
A18: Alte cheltuieli | F18: 28 | I18: =I117+I170 -> 0 | J18: =J117+J170 -> 2 | K18: =K117+K170+K223 -> 2 | M18: =M117+M170 -> 2 | O18: =O117+O170 -> 2
A19: Mijloace fixe | F19: 31 | G19: X | I19: =I122+I175+I228 -> 121.8 | J19: =J122+J175+J228 -> 57 | K19: =K122+K175+K228 -> 144 | M19: =M122+M175+M228 -> 146.9 | O19: =O122+O175+O228 -> 146.9
A20: Stocuri și materiale circulante | F20: 33 | G20: X | I20: =I129+I182+I235 -> 274.9 | J20: =J129+J182+J235 -> 316.4 | K20: =K129+K182+K235 -> 507 | M20: =M129+M182+M235 -> 454.8 | O20: =O129+O182+O235 -> 454.8
A22: Denumirea | C22: Cod | G22: 2016 | I22: 2017 | J22: 2018 | K22: 2019 | M22: 2020 | O22: 2021
C23: S3 | D23: S5 | E23: F1 | F23: Eco (k2) | G23: Executat | I23: Executat | J23: Aprobat | K23: Aprobat | M23: Estimat | O23: Estimat
A24: A.2.RESURSE, total (A2=A2.1+A2.2+A2.3) | G24: X | I24: =I25+I29+I33 -> 4946.9 | J24: =J25+J29+J33 -> 6385.6 | K24: =(K25+K29+K33) -> 8446.6 | L24: =L25+L29+L33 -> 0 | M24: =M25+M29+M33 -> 9266.6 | N24: =N25+N29+N33 -> 0 | O24: =O25+O29+O33 -> 9463.2 | P24: =P25+P29+P33 -> 0
A25: A.2.1. Resurse colectate interne, total | C25: 112 | D25: 11297 1 | F25: 14 | G25: X | J25: =J26+J27+J28 -> 0 | K25: 23.3 | M25: 23.3 | O25: 23.3
G26: X
G27: X
G28: X
A29: A.2.2. Resurse colectate externe, total | C29: 112 | G29: X | J29: =J30+J31+J32 -> 0 | K29: =K30+K31+K32 -> 0 | M29: =M30+M31+M32 -> 0 | O29: =O30+O31+O32 -> 0
G30: X
G31: X
G32: X
A33: A.2.3. Resurse generale, total A.2.3=A.1-(A.2.1+A.2.2) | C33: 111 | G33: X | I33: =I14-(I25+I29) -> 4946.9 | J33: =J14-(J25+J29) -> 6385.6 | K33: =K14-(K25+K29) -> 8423.3 | M33: =M14-(M25+M29) -> 9243.3 | O33: =O14-(O25+O29) -> 9439.9
G34: X | I34: X
A36: B. Sinteza limitelor de cheltuieli (se completează automat în SIMF), mii lei
A37: Denumirea | D37: Cod | G37: 2019 Aprobat | K37: 2020 Estimat | N37: 2021 Estimat
D38: F1 | E38: Cheltuieli (r/c), resurse (S3) | G38: Stabilit | I38: Deviere +/- | J38: Propus | K38: Stabilit | L38: Deviere +/- | M38: Propus | N38: Stabilit | O38: Deviere +/- | P38: Propus
A39: TOTAL | G39: =G40 -> 8446.6 | J39: =J40 -> 8446.6 | K39: =K40 -> 9266.6 | M39: =M40 -> 9266.6 | N39: =N40 -> 9463.2 | P39: =P40 -> 9463.2
A40: Cheltuieli recurente | D40: r | G40: =K14 -> 8446.6 | J40: =G40 -> 8446.6 | K40: =M14 -> 9266.6 | M40: =K40 -> 9266.6 | N40: =O14 -> 9463.2 | P40: =N40 -> 9463.2
A41: Investiţii capitale | D41: c
A43: TOTAL | G43: =G45 -> 8423.3 | J43: =J45 -> 8423.3 | K43: =K45 -> 9243.3 | M43: =M45 -> 9243.3 | N43: =N45 -> 9439.9 | P43: =P45 -> 9439.9
A44: Resurse colectate
A45: Resurse generale | G45: =K33 -> 8423.3 | J45: =G45 -> 8423.3 | K45: =M33 -> 9243.3 | M45: =K45 -> 9243.3 | N45: =O33 -> 9439.9 | P45: =N45 -> 9439.9
A48: C. Estimarea resurselor colectate de autorități/instituții, mii lei
A49: Denumirea | C49: Cod | I49: Descriere | K49: 2016 | L49: 2017 | M49: 2018 | N49: 2019 | O49: 2020 | P49: 2021
...

Sheet 90 19  Soc  dif de tarif Ac noi
N1: Formularul nr.4
E2: Propuneri de buget
D3: pentru anul 2019 și estimări pe anii 2020-2021
P5: Cod
A6: Sursa | D6: Bugetul de stat | P6: 02
A7: Autoritatea publică | D7: Ministerul Sănătății, Muncii și Protecției Sociale | P7: 0221
A8: Instituţia
A10: A. Sinteza propunerii de buget (se completează automat în SIMF), mii lei
A12: Denumirea | E12: Cod | G12: 2016 | I12: 2017 | J12: 2018 | K12: 2019 | M12: 2020 | O12: 2021
E13: F1 | F13: Eco (k2) | G13: Executat | I13: Executat | J13: Aprobat | K13: Aprobat | M13: Estimat | O13: Estimat
A14: A.1. CHELTUIELI, total | E14: 10 | G14: X | I14: =I15+I16+I17+I18+I19+I20 -> 15134.7 | J14: =J15+J16+J17+J18+J19+J20 -> 39029.8 | K14: =K15+K16+K17+K18+K19+K20 -> 34846 | M14: =M15+M16+M17+M18+M19+M20 -> 30892.3 | O14: =O15+O16+O17+O18+O19+O20 -> 29465.1
A15: Bunuri și servicii | F15: 22 | G15: X | I15: =I91 -> 97.8 | J15: =J91 -> 48.3 | K15: =K91 -> 5397.5 | M15: =M91 -> 1443.8 | O15: =O91 -> 487.5
A16: Subsidii | F16: 25 | G16: X | I16: =I87 -> 1433.9 | J16: =J87 -> 3332.2 | K16: =K87 -> 4172.7 | M16: =M87 -> 4637.2 | O16: =O87 -> 4819.6
A17: Prestații sociale | F17: 27 | G17: X | I17: =I125+I184 -> 13603 | J17: =J125+J184 -> 35649.3 | K17: =K125+K184 -> 25273.8 | M17: =M125+M184 -> 24809.3 | O17: =O125+O184 -> 24156
A18: Alte transferuri | F18: 29 | G18: X
A19: Mijloace fixe | F19: 31 | G19: X | I19: =I113 -> 0 | J19: =J113 -> 0 | K19: =K113 -> 2 | M19: =M113 -> 2 | O19: =O113 -> 2
A20: Stocuri și materiale circulante | F20: 33 | G20: X | I20: =I115 -> 0 | J20: =J115 -> 0 | K20: =K115 -> 0 | M20: =M115 -> 0 | O20: =O115 -> 0
A22: Denumirea | C22: Cod | G22: 2016 | I22: 2017 | J22: 2018 | K22: 2019 | M22: 2020 | O22: 2021
C23: S3 | D23: S5 | E23: F1 | F23: Eco (k2) | G23: Executat | I23: Executat | J23: Aprobat | K23: Aprobat | M23: Estimat | O23: Estimat
A24: A.2.RESURSE, total (A2=A2.1+A2.2+A2.3) | G24: X | I24: =(I25+I29+I33) -> 15134.7 | J24: =(J25+J29+J33) -> 39029.8 | K24: =(K25+K29+K33) -> 34846 | L24: =L25+L29+L33 -> 0 | M24: =(M25+M29+M33) -> 30892.3 | N24: =N25+N29+N33 -> 0 | O24: =(O25+O29+O33) -> 29465.1 | P24: =P25+P29+P33 -> 0
A25: A.2.1. Resurse colectate interne, total | C25: 112 | D25: 11297 1 | G25: X | I25: =I26+I27+I28 -> 0 | J25: =J26+J27+J28 -> 1600 | K25: =K26+K27+K28 -> 1650 | M25: =M26+M27+M28 -> 1650 | O25: =O26+O27+O28 -> 1650
A26: Alte venituri | F26: 14 | G26: X | J26: 1600 | K26: 1650 | M26: 1650 | O26: 1650
G27: X
G28: X
A29: A.2.2. Resurse colectate externe, total | C29: 112 | G29: X | J29: =J30+J31+J32 -> 0 | K29: =K30+K31+K32 -> 0 | M29: =M30+M31+M32 -> 0 | O29: =O30+O31+O32 -> 0
G30: X
G31: X
G32: X
A33: A.2.3. Resurse generale, total A.2.3=A.1-(A.2.1+A.2.2) | C33: 111 | G33: X | I33: =I14-(I25+I29) -> 15134.7 | J33: =J14-(J25+J29) -> 37429.8 | K33: =K14-(K25+K29) -> 33196 | M33: =M14-(M25+M29) -> 29242.3 | O33: =O14-(O25+O29) -> 27815.1
G34: X
A36: B. Sinteza limitelor de cheltuieli (se completează automat în SIMF), mii lei
A37: Denumirea | D37: Cod | G37: 2019 Aprobat | K37: 2020 Estimat | N37: 2021 Estimat
D38: F1 | E38: Cheltuieli (r/c), resurse (S3) | G38: Stabilit | I38: Deviere +/- | J38: Propus | K38: Stabilit | L38: Deviere +/- | M38: Propus | N38: Stabilit | O38: Deviere +/- | P38: Propus
A39: TOTAL | G39: =G40 -> 34846 | J39: =J40 -> 34846 | K39: =K40 -> 30892.3 | M39: =M40 -> 30892.3 | N39: =N40 -> 29465.1 | P39: =P40 -> 29465.1
A40: Cheltuieli recurente | D40: r | G40: =K14 -> 34846 | J40: =G40 -> 34846 | K40: =M14 -> 30892.3 | M40: =K40 -> 30892.3 | N40: =O14 -> 29465.1 | P40: =N40 -> 29465.1
A41: Investiţii capitale | D41: c
A43: TOTAL | G43: =G44+G45 -> 34846 | J43: =J44+J45 -> 34846 | K43: =K44+K45 -> 30892.3 | M43: =M44+M45 -> 30892.3 | N43: =N44+N45 -> 29465.1 | P43: =P44+P45 -> 29465.1
A44: Resurse colectate | G44: =K25 -> 1650 | J44: =G44 -> 1650 | K44: =M25 -> 1650 | M44: =O25 -> 1650 | N44: =O25 -> 1650 | P44: =N44 -> 1650
A45: Resurse generale | G45: =K33 -> 33196 | J45: =G45 -> 33196 | K45: =M33 -> 29242.3 | M45: =K45 -> 29242.3 | N45: =O33 -> 27815.1 | P45: =N45 -> 27815.1
A48: C. Estimarea resurselor colectate de autorități/instituții, mii lei
...

Sheet 90  20  TI  215 220 761 
N1: Formularul nr.4
E2: Propuneri de buget
D3: pentru anul 2019 și estimări pe anii 2020-2021
P5: Cod
A6: Sursa | D6: Bugetul de stat | P6: 02
A7: Autoritatea publică | D7: Ministerul Sănătății, Muncii și Protecției Sociale | P7: 0221
A8: Instituţia
A10: A. Sinteza propunerii de buget (se completează automat în SIMF), mii lei
A12: Denumirea | E12: Cod | G12: 2016 | I12: 2017 | J12: 2018 | K12: 2019 | M12: 2020 | O12: 2021
E13: F1 | F13: Eco (k2) | G13: Executat | I13: Executat | J13: Aprobat | K13: Aprobat | M13: Estimat | O13: Estimat
A14: A.1. CHELTUIELI, total | E14: 10 | G14: X | I14: =I15+I16+I17 -> 22076.7 | J14: =J15+J16+J17 -> 12515.7 | K14: =K15+K16+K17 -> 11658.1 | M14: =M15+M16+M17 -> 7571.1 | O14: =O15+O16+O17 -> 7988.1
A15: Bunuri și servicii | F15: 22 | G15: X | I15: =I88+I92+I143+I197+I208+I221 -> 10883.6 | J15: =J88+J92+J143+J197+J208+J221 -> 12395.7 | K15: =K88+K92+K197+K221+K208 -> 11544.1 | M15: =M88+M92+M197+M221 -> 7571.1 | O15: =O88+O92+O197+O221 -> 7988.1
A16: Mijloace fixe | F16: 31 | G16: X | I16: =I118+I176 -> 11064.6 | J16: =J118+J176 -> 0 | K16: =K118 -> 0 | M16: =M118 -> 0 | O16: =O118 -> 0
A17: Stocuri și materiale circulante | F17: 33 | G17: X | I17: =I121+I184+I204+I214+I228 -> 128.5 | J17: =J121+J184+J204+J214+J228 -> 120 | K17: =K121+K184+K204+K214+K228 -> 114 | M17: =M121+M184+M204+M214+M228 -> 0 | O17: =O121+O184+O204+O214+O228 -> 0
A19: Denumirea | C19: Cod | G19: 2016 | I19: 2017 | J19: 2018 | K19: 2019 | M19: 2020 | O19: 2021
C20: S3 | D20: S5 | E20: F1 | F20: Eco (k2) | G20: Executat | I20: Executat | J20: Aprobat | K20: Aprobat | M20: Estimat | O20: Estimat
A21: A.2.RESURSE, total (A2=A2.1+A2.2+A2.3) | G21: X | I21: =(I22+I26+I30) -> 22076.7 | J21: =(J22+J26+J30) -> 12515.7 | K21: =(K22+K26+K30) -> 11658.1 | L21: =L22+L26+L30 -> 0 | M21: =(M22+M26+M30) -> 7571.1 | N21: =N22+N26+N30 -> 0 | O21: =(O22+O26+O30) -> 7988.1 | P21: =P22+P26+P30 -> 0
A22: A.2.1. Resurse colectate interne, total | C22: 112 | G22: X
G23: X
G24: X
G25: X
A26: A.2.2. Resurse colectate externe, total | C26: 112 | G26: X | I26: =I133 -> 18020.4 | J26: =J133 -> 0 | K26: =K133+K196+K207 -> 2038.2 | M26: =M133+M196 -> 0 | O26: =O27+O28+O29 -> 0
G27: X
G28: X
G29: X
A30: A.2.3. Resurse generale, total A.2.3=A.1-(A.2.1+A.2.2) | C30: 111 | G30: X | I30: =I14-(I22+I26) -> 4056.3 | J30: =J14-(J22+J26) -> 12515.7 | K30: =K14-(K22+K26) -> 9619.9 | M30: =M14-(M22+M26) -> 7571.1 | O30: =O14-(O22+O26) -> 7988.1
G31: X | I31: X
A33: B. Sinteza limitelor de cheltuieli (se completează automat în SIMF), mii lei
A34: Denumirea | D34: Cod | G34: 2019 Aprobat | K34: 2020 Estimat | N34: 2021 Estimat
D35: F1 | E35: Cheltuieli (r/c), resurse (S3) | G35: Stabilit | I35: Deviere +/- | J35: Propus | K35: Stabilit | L35: Deviere +/- | M35: Propus | N35: Stabilit | O35: Deviere +/- | P35: Propus
A36: TOTAL | G36: =G37 -> 11658.1 | J36: =J37 -> 11658.1 | K36: =K37 -> 7571.1 | M36: =M37 -> 7571.1 | N36: =N37 -> 7988.1 | P36: =P37 -> 7988.1
A37: Cheltuieli recurente | D37: r | G37: =K14 -> 11658.1 | J37: =G37 -> 11658.1 | K37: =M14 -> 7571.1 | M37: =K37 -> 7571.1 | N37: =O14 -> 7988.1 | P37: =N37 -> 7988.1
A38: Investiţii capitale | D38: c
A40: TOTAL | G40: =G42 -> 9619.9 | J40: =J42 -> 9619.9 | K40: =K42 -> 7571.1 | M40: =M42 -> 7571.1 | N40: =N42 -> 7988.1 | P40: =P42 -> 7988.1
A41: Resurse colectate
A42: Resurse generale | G42: =K30 -> 9619.9 | J42: =G42 -> 9619.9 | K42: =M30 -> 7571.1 | M42: =K42 -> 7571.1 | N42: =O30 -> 7988.1 | P42: =N42 -> 7988.1
A45: C. Estimarea resurselor colectate de autorități/instituții, mii lei
A46: Denumirea | C46: Cod | I46: Descriere | K46: 2016 | L46: 2017 | M46: 2018 | N46: 2019 | O46: 2020 | P46: 2021
C47: Sursa (S3S4) | D47: Originea sursei (S5) | E47: Donator (S6) | F47: F3 | G47: P3 (7xx) | H47: Eco k6 | K47: Executat | L47: Executat | M47: Aprobat | N47: Aprobat | O47: Estimat | P47: Estimat
A48: TOTAL | K48: X | L48: =L49+L54 -> 18019.7 | M48: =M49+M54+M55 -> 3167.1 | N48: =N54+N55 -> 2038.2 | O48: =O54 -> 0
...
